BEGIN:VCALENDAR
VERSION:2.0
PRODID:-//Western Belle Farm - ECPv6.15.17//NONSGML v1.0//EN
CALSCALE:GREGORIAN
METHOD:PUBLISH
X-ORIGINAL-URL:https://westernbellefarm.com
X-WR-CALDESC:Events for Western Belle Farm
REFRESH-INTERVAL;VALUE=DURATION:PT1H
X-Robots-Tag:noindex
X-PUBLISHED-TTL:PT1H
BEGIN:VTIMEZONE
TZID:Asia/Karachi
BEGIN:STANDARD
TZOFFSETFROM:+0500
TZOFFSETTO:+0500
TZNAME:PKT
DTSTART:20210101T000000
END:STANDARD
END:VTIMEZONE
BEGIN:VEVENT
DTSTART;TZID=Asia/Karachi:20221021T100000
DTEND;TZID=Asia/Karachi:20221021T130000
DTSTAMP:20260423T152859
CREATED:20220906T050211Z
LAST-MODIFIED:20220911T032340Z
UID:2306-1666346400-1666357200@westernbellefarm.com
SUMMARY:Pumpkin Party
DESCRIPTION:Grab your little pumpkin(s) and join us for a special\, private event hosted by Dreamy Picnics at Western Belle Farm on Friday\, October 21st 🎃 \nThis private Pumpkin Party will be a festive and fun-filled morning from 10:00 AM – 1:00 PM that includes pumpkin painting\, story time with Miss Avery\, and lots of fun on the farm before the gates officially open to the public. With your ticket\, you will also have all day access to the farm until close at 6 pm!  \nWe can’t wait to see you there! 🎃🎨📚🤸 \nYour ticket includes: 1 small pumpkin to paint and take home\, 1 fall cookie\, story time\, and private event access to over 20+ activities at the farm until 1:00 PM PLUS you can stay through close at 6:00 PM if you want to keep the fun on the farm rolling! 🤠 \nThis is a limited ticket event- purchase your tickets before we sell out! \n🎟 https://westernbellefarm.ticketspice.com/pumpkin-festival-2022 \nPlease note: Children 2 & under are free. However\, if you’d like for them to have their own seat\, the pumpkin\, painting supplies\, and a cookie\, you will need to purchase them a ticket. Otherwise they may share the items with your adult ticket.
URL:https://westernbellefarm.com/event/pumpkin-party/
ATTACH;FMTTYPE=image/jpeg:https://westernbellefarm.com/wp-content/uploads/2022/09/DreamyPicnicsFacebookCover.jpg
END:VEVENT
BEGIN:VEVENT
DTSTART;TZID=Asia/Karachi:20221021T130000
DTEND;TZID=Asia/Karachi:20221021T180000
DTSTAMP:20260423T152859
CREATED:20220613T132443Z
LAST-MODIFIED:20220927T185818Z
UID:2103-1666357200-1666375200@westernbellefarm.com
SUMMARY:1st Annual Pumpkin Festival
DESCRIPTION:🚜 FARM FRIDAYS 🚜 \nJoin us every Friday on the farm from 1:00PM to 6:00PM! \nIf you like the farm to yourself\, Fridays are a great time to visit! \n💲Admission is REDUCED to $11/person too! \nWe have 20+ FUN activities included in your admission:👇🏽 \n🐝 Beeline Mini Zip lines \n🐂 Cattle Drive Barrel Train \n🎃 Pumpkin Jump Pillow \n🚜 Hayrides \n🤸🏻‍♂️ Round Bale Rollers \n🐐 Farm Animals \n🦆 Duck Races \n😬 Barn Slides \n🐎 Pony Hop Races \n🎃 Thousands of pumpkins on festive displays \n📸 Lots of Photo Ops & much more! \n*PLEASE NOTE: The Canteen is NOT open on Fridays. As always\, you are welcome to bring drinks and packed lunches! \n🎟️ Tickets can be purchased online or at the farm 🎟️ \nhttps://westernbellefarm.ticketspice.com/pumpkin-festival-2022 \n📍We are located just 10 minutes north of Waco and 1 hour and 15 minutes south of DFW. \n🏠 Address of the farm: 7929 Heritage Parkway\, West\, TX 76691 \nSee y’all soon! 🤠
URL:https://westernbellefarm.com/event/1st-annual-pumpkin-festival-12/
ATTACH;FMTTYPE=image/jpeg:https://westernbellefarm.com/wp-content/uploads/2021/11/pumpkin-cta.jpg
END:VEVENT
END:VCALENDAR