BEGIN:VCALENDAR
VERSION:2.0
PRODID:-//Western Belle Farm - ECPv6.15.17//NONSGML v1.0//EN
CALSCALE:GREGORIAN
METHOD:PUBLISH
X-ORIGINAL-URL:https://westernbellefarm.com
X-WR-CALDESC:Events for Western Belle Farm
REFRESH-INTERVAL;VALUE=DURATION:PT1H
X-Robots-Tag:noindex
X-PUBLISHED-TTL:PT1H
BEGIN:VTIMEZONE
TZID:Asia/Karachi
BEGIN:STANDARD
TZOFFSETFROM:+0500
TZOFFSETTO:+0500
TZNAME:PKT
DTSTART:20210101T000000
END:STANDARD
END:VTIMEZONE
BEGIN:VEVENT
DTSTART;TZID=Asia/Karachi:20221030T120000
DTEND;TZID=Asia/Karachi:20221030T180000
DTSTAMP:20260423T152858
CREATED:20220613T133349Z
LAST-MODIFIED:20220928T035644Z
UID:2113-1667131200-1667152800@westernbellefarm.com
SUMMARY:1st Annual Pumpkin Festival
DESCRIPTION:🎃 JOIN US FOR OUR 1ST ANNUAL PUMPKIN FESTIVAL! 🎃 \nWe had an amazing 1st annual Sunflower Festival with y’all this spring and we are looking forward to our 1st Annual Pumpkin Festival with you this Fall! 🤩 \nWe will be open Fridays\, Saturdays & Sundays from September 24th through November 6th 🎃 \nThere will be farm animals 🐐\, slides 🤩\, beeline mini ziplines 🐝 \, Pumpkin Jump Pillow 🎃\, Cattle Drive barrel train rides 🚜\,lots of 🎃 photo ops\, and of course lots of Pumpkins! 🎃 Oh\, and you can aim and shoot pumpkins at 70+ mph with our Pumpkin Cannons! (Additional cost) 🎃💨 There are 20+ FUN activities for all ages! \nWe will have fresh squeezed lemonade 🍋\, burgers 🍔\, hot dogs 🌭 and Kona Ice 🍧! Outside food and drinks are welcome too! We have plenty of shaded seating! \nDATES: \nSeptember 24th to November 6th 2022 \nADMISSION: \n$14 per person \n(2 & under are free) \nIncludes over 20+ activities at the farm for all ages! \nPLEASE NOTE: Sunflowers and Pumpkins are an agricultural crop and therefore subject to weather\, growing conditions\, and ripening variables. We cannot guarantee that the sunflowers will bloom on a particular date\, or the availability of U-Pick Sunflowers & Pumpkins so prepare to be flexible with your visit. Stay tuned on Facebook and Instagram for updates. This is an outdoor event and therefore held weather permitting. Activities will be opened regardless\, Sunflowers can not be guaranteed. We have had a severe drought majority of the growing season so far but we are going to try our best to have a crop this fall! If not\, we will have Pumpkins available for purchase but not picking.
URL:https://westernbellefarm.com/event/1st-annual-pumpkin-festival-17/
ATTACH;FMTTYPE=image/jpeg:https://westernbellefarm.com/wp-content/uploads/2021/12/Autumn-Truck-Photo-Op-e1655127493206.jpg
END:VEVENT
BEGIN:VEVENT
DTSTART;TZID=Asia/Karachi:20221030T160000
DTEND;TZID=Asia/Karachi:20221030T180000
DTSTAMP:20260423T152858
CREATED:20221024T031529Z
LAST-MODIFIED:20221029T144424Z
UID:2363-1667145600-1667152800@westernbellefarm.com
SUMMARY:The Salem Sisters are flying in!
DESCRIPTION:  \n🔮 🧙‍♀️ The Salem Sisters are flying in! 🧙‍♀️🔮 \nThe Salem Sisters will be flying to the farm Halloween weekend 👻  \nCome get your picture with them at our pumpkin display! (Admission is required) \n⏰ They will be flying in SUNDAY\, October 30th from 4:00-6:00PM \n**Please note: other than their 2 hour visit\, the Pumpkin Festival will be operating as usual with no other “additional” events for Halloween weekend** \nWe have 20+ FUN activities included in your admission:👇🏽 \n🐝 Beeline Mini Zip lines \n🐂 Cattle Drive Barrel Train \n🎃 Pumpkin Jump Pillow \n🚜 Hayrides \n🤸🏻‍♂️ Round Bale Rollers \n🐐 Farm Animals \n🦆 Duck Races \n😬 Barn Slides \n🐎 Pony Hop Races \n🎃 Thousands of pumpkins on festive displays \n📸 Lots of Photo Ops & much more! \nEveryone will have a BLAST at the farm\, literally! Come SHOOT apples & pumpkins with our Pumpkin 🎃 & Apple🍎 Cannons! \nWe will also have our famous Fresh Squeezed Lemonade 🍋 Kettle Corn 🍿Cold Apple Cider 🍎 Hot Dogs 🌭 & Hamburgers 🍔 & even delicious local Kolaches! 🍧 Kona Ice will be at the farm Saturday & Sunday! \n💲Admission is just $14 per person \n(2 & under are free) \n🎟️ Tickets can be purchased online or at the farm 🎟️ \nhttps://westernbellefarm.ticketspice.com/pumpkin-festival-2022 \n📍We are located just 10 minutes north of Waco and 1 hour and 15 minutes south of DFW. \n🏠 Address of the farm: 7929 Heritage Parkway\, West\, TX 76691 \nSee y’all soon! 🤠
URL:https://westernbellefarm.com/event/the-salem-sisters-are-flying-in/
ATTACH;FMTTYPE=image/jpeg:https://westernbellefarm.com/wp-content/uploads/2022/10/Salem-Sisters.jpeg
END:VEVENT
END:VCALENDAR