BEGIN:VCALENDAR
VERSION:2.0
PRODID:-//Western Belle Farm - ECPv6.15.17//NONSGML v1.0//EN
CALSCALE:GREGORIAN
METHOD:PUBLISH
X-WR-CALNAME:Western Belle Farm
X-ORIGINAL-URL:https://westernbellefarm.com
X-WR-CALDESC:Events for Western Belle Farm
REFRESH-INTERVAL;VALUE=DURATION:PT1H
X-Robots-Tag:noindex
X-PUBLISHED-TTL:PT1H
BEGIN:VTIMEZONE
TZID:Asia/Karachi
BEGIN:STANDARD
TZOFFSETFROM:+0500
TZOFFSETTO:+0500
TZNAME:PKT
DTSTART:20210101T000000
END:STANDARD
END:VTIMEZONE
BEGIN:VEVENT
DTSTART;TZID=Asia/Karachi:20221111T130000
DTEND;TZID=Asia/Karachi:20221111T173000
DTSTAMP:20260423T141422
CREATED:20221103T022258Z
LAST-MODIFIED:20221107T175416Z
UID:2398-1668171600-1668187800@westernbellefarm.com
SUMMARY:1st Annual Pumpkin Festival-Extended Weekend!
DESCRIPTION:EXTENDED weekend at the farm! We will now be OPEN Friday\, NOVEMBER 11th from 1:00 – 5:30PM! \n🚜 FARM FRIDAYS 🚜 \nIf you like the farm to yourself\, Fridays are a great time to visit! \n💲Admission is REDUCED to $11/person too! \nWe have 20+ FUN activities included in your admission:👇🏽 \n🐝 Beeline Mini Zip lines \n🐂 Cattle Drive Barrel Train \n🎃 Pumpkin Jump Pillow \n🚜 Hayrides \n🤸🏻‍♂️ Round Bale Rollers \n🐐 Farm Animals \n🦆 Duck Races \n😬 Barn Slides \n🐎 Pony Hop Races \n🎃 Thousands of pumpkins on festive displays \n📸 Lots of Photo Ops & much more! \n*PLEASE NOTE: The Canteen is NOT open on Fridays due to staffing issues. As always\, you are welcome to bring drinks and packed lunches! \n🎟️ Tickets can be purchased at the farm 🎟️ \n📍We are located just 10 minutes north of Waco and 1 hour and 15 minutes south of DFW. \n🏠 Address of the farm: 7929 Heritage Parkway\, West\, TX 76691 \nSee y’all soon! 🤠
URL:https://westernbellefarm.com/event/1st-annual-pumpkin-festival-extended-weekend/
ATTACH;FMTTYPE=image/jpeg:https://westernbellefarm.com/wp-content/uploads/2022/10/IMG_8452.jpg
END:VEVENT
END:VCALENDAR