BEGIN:VCALENDAR
VERSION:2.0
PRODID:-//Western Belle Farm - ECPv6.15.17//NONSGML v1.0//EN
CALSCALE:GREGORIAN
METHOD:PUBLISH
X-ORIGINAL-URL:https://westernbellefarm.com
X-WR-CALDESC:Events for Western Belle Farm
REFRESH-INTERVAL;VALUE=DURATION:PT1H
X-Robots-Tag:noindex
X-PUBLISHED-TTL:PT1H
BEGIN:VTIMEZONE
TZID:Asia/Karachi
BEGIN:STANDARD
TZOFFSETFROM:+0500
TZOFFSETTO:+0500
TZNAME:PKT
DTSTART:20220101T000000
END:STANDARD
END:VTIMEZONE
BEGIN:VEVENT
DTSTART;TZID=Asia/Karachi:20231006T130000
DTEND;TZID=Asia/Karachi:20231009T180000
DTSTAMP:20260422T190137
CREATED:20230915T150419Z
LAST-MODIFIED:20230915T150419Z
UID:2964-1696597200-1696874400@westernbellefarm.com
SUMMARY:Teacher Appreciation Weekend
DESCRIPTION:Teachers take time out of their daily life to provide our children with a wonderful education. In order to give back to them\, we will be having a Teacher Appreciation Weekend! 🍎 \n  \nAll teachers will receive FREE admission to the farm on Friday\, October 6th\, Saturday\, October 7th\, Sunday\, October 8th\, and Monday\, October 9th! (Valid ID will be required) \n  \nThere is plenty to do for all ages! Dont miss out on fall at the farm! 🎃 \n🎃 Shoot pumpkins with our Pumpkin Cannon \n📸 Amazing pumpkin themed photo ops  \n🚜 Wagon rides \n🐐 Farm animals to feed & pet \n🐝 Beeline mini zip lines \n🌽 Corn Bin \n🤸 Round Bale Rollers \n🐂 Cattle Drive Barrel Train rides \n🤗 Giant Pumpkin Jump Pillow \n🍎 Apple Cannons \n🍋 Our Famous Fresh Squeezed Lemonades \n🌮 New! Delicious Street Tacos \n🍺 Cantina with adult beverages \n🎶 Live music Saturdays & Sundays  \n🛍️ General Store full of small business items \n🥳 A great place for birthday parties! \n& so much more! \n  \n📍Address of the Pumpkin Festival: 7929 Heritage Parkway West\, TX 76691 \n  \n💲Admission: $16 / person \n$12 / person on Farm Fridays \n2 & under are free  \n$12/ person for Seniors\, Military\, Teachers\, Nurses\, Fire & Police (per valid ID) 
URL:https://westernbellefarm.com/event/teacher-appreciation-weekend-3/
ATTACH;FMTTYPE=image/png:https://westernbellefarm.com/wp-content/uploads/2023/09/Teacher-Appreciation-Weekend-1-e1694790174746.png
END:VEVENT
BEGIN:VEVENT
DTSTART;TZID=Asia/Karachi:20231006T130000
DTEND;TZID=Asia/Karachi:20231009T180000
DTSTAMP:20260422T190137
CREATED:20230927T181104Z
LAST-MODIFIED:20230927T181104Z
UID:2985-1696597200-1696874400@westernbellefarm.com
SUMMARY:Teacher Appreciation Weekend
DESCRIPTION:Teachers take time out of their daily life to provide our children with a wonderful education. In order to give back to them\, we will be having a Teacher Appreciation Weekend! \n\nAll teachers will receive FREE admission to the farm on Friday\, October 6th\, Saturday\, October 7th\, Sunday\, October 8th\, and Monday\, October 9th! (Valid ID will be required)\n\nThere is plenty to do for all ages! Dont miss out on fall at the farm! \n Shoot pumpkins with our Pumpkin Cannon\n Amazing pumpkin themed photo ops\n Wagon rides\n Farm animals to feed & pet\n Beeline mini zip lines\n Corn Bin\n Round Bale Rollers\n Cattle Drive Barrel Train rides\n Giant Pumpkin Jump Pillow\n Apple Cannons\n Our Famous Fresh Squeezed Lemonades\n New! Delicious Street Tacos\n Cantina with adult beverages\n Live music Saturdays & Sundays\n General Store full of small business items\n A great place for birthday parties!\n& so much more!\n\nAddress of the Pumpkin Festival: 7929 Heritage Parkway West\, TX 76691\n\nAdmission: $16 / person\n$12 / person on Farm Fridays\n2 & under are free\n$12/ person for Seniors\, Military\, Teachers\, Nurses\, Fire & Police (per valid ID)
URL:https://westernbellefarm.com/event/teacher-appreciation-weekend-4/
ATTACH;FMTTYPE=image/png:https://westernbellefarm.com/wp-content/uploads/2023/09/Teacher-Appreciation-Weekend-1-e1694790174746.png
END:VEVENT
BEGIN:VEVENT
DTSTART;TZID=Asia/Karachi:20231008T100000
DTEND;TZID=Asia/Karachi:20231008T180000
DTSTAMP:20260422T190137
CREATED:20230713T200025Z
LAST-MODIFIED:20230901T155111Z
UID:2712-1696759200-1696788000@westernbellefarm.com
SUMMARY:Pumpkin Festival 2023
DESCRIPTION:🎃 Pumpkin Festival 🎃\nat Western Belle Farm \nCome celebrate the best season of the year at Western Belle! 🤠 \n📅 Sunday\, October 8th 10:00AM – 6:00PM \n🎟️ Tickets on sale NOW! \nOver 20+ activities at the farm plus all things PUMPKIN 🎃 \n🎃 Shoot pumpkins with our Pumpkin Cannon \n📸 Amazing pumpkin themed photo ops \n🚜 Wagon rides \n🐐 Farm animals to feed & pet \n🐝 Beeline mini zip lines \n🌽 Corn Bin \n🤸 Round Bale Rollers \n🐂 Cattle Drive Barrel Train rides \n🤗 Giant Pumpkin Jump Pillow \n🍎 Apple Cannons \n🍋 Our Famous Fresh Squeezed Lemonades \n🌮 New! Delicious Street Tacos \n🍺 Cantina with adult beverages \n🎶 Live music Saturday & Sundays \n🛍️ General Store full of small business items \n🥳 A great place for birthday parties! \n& so much more! \nThere’s hours of fun for everyone this fall at Western Belle! 🇺🇸 Don’t miss out on it 😉 \n  \n📍Address of the Pumpkin Festival: 7929 Heritage Parkway West\, TX 76691 \n  \n💲Admission: $16 / person \n$12 / person on Farm Fridays \n2 & under are free \n$12/ person for Seniors\, Military\, Teachers\, Nurses\, Fire & Police (per valid ID)  \n  \n🎟️ Save money & buy your tickets online NOW!
URL:https://westernbellefarm.com/event/pumpkin-festival-2023-7/
ATTACH;FMTTYPE=image/jpeg:https://westernbellefarm.com/wp-content/uploads/2023/06/Pumpkin-Festival-2023-Graphic-e1689274528365.jpg
END:VEVENT
BEGIN:VEVENT
DTSTART;TZID=Asia/Karachi:20231008T120000
DTEND;TZID=Asia/Karachi:20231008T150000
DTSTAMP:20260422T190137
CREATED:20230814T201923Z
LAST-MODIFIED:20230901T155200Z
UID:2772-1696766400-1696777200@westernbellefarm.com
SUMMARY:Brazos Brothers at Western Belle Farm
DESCRIPTION:Join us from 12:00PM-3:00PM on Sunday\, October 8th for live music by Brazos Brothers! \n\nAlso\, enjoy over 20+ activities at the farm plus all things PUMPKIN \n(Farm Hours for October 8th: 10:00AM-6:00PM)\n\nCome celebrate the best season of the year at Western Belle! \n\nSave money & buy your tickets to the farm online NOW!
URL:https://westernbellefarm.com/event/brazos-brothers-at-western-belle-farm-2/
ATTACH;FMTTYPE=image/jpeg:https://westernbellefarm.com/wp-content/uploads/2023/08/366830980_369874848896610_8490799693287881672_n-e1692043827631.jpeg
END:VEVENT
BEGIN:VEVENT
DTSTART;TZID=Asia/Karachi:20231008T140000
DTEND;TZID=Asia/Karachi:20231008T160000
DTSTAMP:20260422T190137
CREATED:20231006T172756Z
LAST-MODIFIED:20231006T172756Z
UID:3000-1696773600-1696780800@westernbellefarm.com
SUMMARY:Princess at the Patch
DESCRIPTION:Come visit the Sea Princess at the Patch! 🌊🐚 \nShe will be doing meet & greets this Sunday\, October 8th from 2:00pm to 4:00pm in our Pumpkin Tent! \nShe’ll be here in human form to see all of you and.. what’s that word again.. oh\, PUMPKINS! 🎃 \n🐟 Visit with the princess while she visits from under the sea\, explore the farm\, and celebrate the best time of the year: FALL \nFarm hours for Sunday\, October 8th: 10:00am to 6:00pm
URL:https://westernbellefarm.com/event/princess-at-the-patch-2/
ATTACH;FMTTYPE=image/jpeg:https://westernbellefarm.com/wp-content/uploads/2023/10/385778158_397545572796204_8852601405254535648_n-e1696613187510.jpeg
END:VEVENT
END:VCALENDAR