BEGIN:VCALENDAR
VERSION:2.0
PRODID:-//Western Belle Farm - ECPv6.15.17//NONSGML v1.0//EN
CALSCALE:GREGORIAN
METHOD:PUBLISH
X-WR-CALNAME:Western Belle Farm
X-ORIGINAL-URL:https://westernbellefarm.com
X-WR-CALDESC:Events for Western Belle Farm
REFRESH-INTERVAL;VALUE=DURATION:PT1H
X-Robots-Tag:noindex
X-PUBLISHED-TTL:PT1H
BEGIN:VTIMEZONE
TZID:Asia/Karachi
BEGIN:STANDARD
TZOFFSETFROM:+0500
TZOFFSETTO:+0500
TZNAME:PKT
DTSTART:20230101T000000
END:STANDARD
END:VTIMEZONE
BEGIN:VEVENT
DTSTART;TZID=Asia/Karachi:20240330T110000
DTEND;TZID=Asia/Karachi:20240330T180000
DTSTAMP:20260420T125024
CREATED:20240122T190523Z
LAST-MODIFIED:20240322T140227Z
UID:3099-1711796400-1711821600@westernbellefarm.com
SUMMARY:Easter Festival 2024
DESCRIPTION:🐣   • EASTER FESTIVAL•   🐣\nOPEN March 30th 11:00am to 6:00pm\n  \nWe are EGGcited to announce that we will be hatching even more fun at the farm with a NEW festival for 2024: Easter! 🐣 \nFor just TWO WEEKENDS we will be opening all the activities at the farm that you love ➕ some fun new ones! \n🐰 The Easter Bunny will be hopping on over to our beautiful spring photo ops so you can get your annual Easter Bunny photos! \n🥚 🧺 Egg Hunts will be included in all child admission tickets (ages 12 & under) Children ages 2 & under will receive a free hunt with the purchase of an adult admission \n  \nSo if you are hunting for some fun this spring\, hop on over to the farm! \n🐰 Meet the Easter Bunny \n🥚 Crowd-free Easter Egg Hunting \n🐣 Baby Chick holding experience \n📸 Beautiful spring photo ops \n🤸🏼‍♂️ 20+ activities included in admission \n🍎 Shoot apples at Easter themed targets \n🐐 Visit with your favorite Farm Animals \n🌮 Delicious food at the Canteen & Cantina \nWe can’t wait to see y’all this spring at the farm! 🐰 \n✨ The Easter Festival will be: March 29th & 30th and April 6th & 7th ✨ \n*We will NOT be open on Easter Day* \n  \nEaster Egg Hunts 🧺: We are trying to avoid the chaos of a traditional Easter Egg Hunt by using a ticket system. You will receive an Egg Hunt ticket at admissions upon arrival to the farm. The Egg Hunt area will be open from 11:00am to 6:00pm and at any time\, you can go redeem your ticket to “hunt” for 10 eggs. We are limiting the number of egg hunters at one particular time to create a great experience for each customer. The eggs are filled with candy\, small toys and there is even a few “golden” eggs with some special surprises in them 😉 \n🎟️ Tickets are on sale now!
URL:https://westernbellefarm.com/event/easter-festival-2024-2/
ATTACH;FMTTYPE=image/png:https://westernbellefarm.com/wp-content/uploads/2024/01/Copy-of-happy-easter-holidays-1-e1705950576261.png
END:VEVENT
BEGIN:VEVENT
DTSTART;TZID=Asia/Karachi:20240330T120000
DTEND;TZID=Asia/Karachi:20240330T150000
DTSTAMP:20260420T125024
CREATED:20240217T204443Z
LAST-MODIFIED:20240217T204914Z
UID:3156-1711800000-1711810800@westernbellefarm.com
SUMMARY:Free Face Painting!
DESCRIPTION:Included in your Easter Festival admission is 🎨 FREE Face Painting on Saturday March 30th from 12:00pm to 3:00pm!
URL:https://westernbellefarm.com/event/free-face-painting/
ATTACH;FMTTYPE=image/jpeg:https://westernbellefarm.com/wp-content/uploads/2024/02/IMG_7912-scaled-e1708202870977.jpg
END:VEVENT
END:VCALENDAR