BEGIN:VCALENDAR
VERSION:2.0
PRODID:-//Western Belle Farm - ECPv6.15.17//NONSGML v1.0//EN
CALSCALE:GREGORIAN
METHOD:PUBLISH
X-ORIGINAL-URL:https://westernbellefarm.com
X-WR-CALDESC:Events for Western Belle Farm
REFRESH-INTERVAL;VALUE=DURATION:PT1H
X-Robots-Tag:noindex
X-PUBLISHED-TTL:PT1H
BEGIN:VTIMEZONE
TZID:Asia/Karachi
BEGIN:STANDARD
TZOFFSETFROM:+0500
TZOFFSETTO:+0500
TZNAME:PKT
DTSTART:20230101T000000
END:STANDARD
END:VTIMEZONE
BEGIN:VEVENT
DTSTART;TZID=Asia/Karachi:20240519T100000
DTEND;TZID=Asia/Karachi:20240519T150000
DTSTAMP:20260420T101356
CREATED:20240510T031258Z
LAST-MODIFIED:20240510T031332Z
UID:3456-1716112800-1716130800@westernbellefarm.com
SUMMARY:🎨 FACE PAINTING FUNDRAISER 🎨
DESCRIPTION:🎨 FACE PAINTING FUNDRAISER 🎨\nSaturday May 18th & Sunday May 19th from 10:00am – 3:00pm \n  \nOn opening weekend (May 18th – 19th) we will have a Face Painting Fundraiser benefiting 4 year old Remi Wissinger. We are going to MATCH your donations to double the impact for this sweet family! \nLJ & Alyssa Wissinger’s world was turned upside down when their sweet & vibrant 3 year old daughter Remi\, was diagnosed with leukemia on January 19\, 2024. A once active and full-of-light little girl\, was noticeably pale and often tired. \nWatching their daughter become so sick has not only been emotionally hard\, but\, it has been physically draining on this young family. LJ is a firefighter and Alyssa is in PT school and they are making weekly trips to Temple with Remi for chemo treatments. \nWe love our community and we want to help others in time of need. Please partner with us in raising money for sweet Remi and her family! 100% of the funds raised will go to Remi and her family. Remi is due to become a big sister in August and we want to help ease some of the hardship her family is facing. \nThe Face Painting area will be OUTSIDE of our admission area and therefore\, you’re welcome to just stop by the farm to support the fundraiser! If you can’t attend\, here is Alyssa’s Venmo information should you wish to donate: @Alyssa_holt \n  \nFace painting will be a suggested donation of $5 and every dollar you spend\, WE WILL MATCH IT!  \n🙌🏽 Mark your calendars for this fundraiser: May 18th & May 19th from 10:00am to 3:00pm 🗓️ \n  \nThank y’all for always helping us to give back to the community! We love our community and so let’s show the Wissinger family some love too ❤️
URL:https://westernbellefarm.com/event/%f0%9f%8e%a8-face-painting-fundraiser-%f0%9f%8e%a8-2/
END:VEVENT
BEGIN:VEVENT
DTSTART;TZID=Asia/Karachi:20240519T100000
DTEND;TZID=Asia/Karachi:20240519T180000
DTSTAMP:20260420T101356
CREATED:20240204T034440Z
LAST-MODIFIED:20240516T192218Z
UID:3123-1716112800-1716141600@westernbellefarm.com
SUMMARY:Sunflower Festival 2024
DESCRIPTION:🎟️ BUY TICKETS 🎟️\nFARM HOURS: Sunday\, May 19th 10:00am – 6:00pm\n  \n🌻 SUNFLOWER FESTIVAL 2024 🌻 \n• May 18th – June 9th • \n  \n🥾 UPDATE 🥾 We received lots of rain on Thursday\, May 16th! The weather will be BEAUTIFUL this weekend but there will still be muddy patches\, so we recommend that you wear boots or old shoes! \n🌻 This is your BEST weekend for Sunflower field photos! The small field we have is blooming & might be our best field we get this season 🌻 \n⏰ FARM HOURS:\nSaturday May 18th: 10:00am – 8:00pm\nSunday May 19th: 10:00am – 6:00pm \n🎶 LIVE MUSIC:\nSaturday 12:00-3:00pm • Markus Miller aka A/Lone Wolf\nSunday 12:00-3:00pm • JP Music \n🎨 Face Painting Fundraiser to benefit 4 year old Remi • 10:00am – 3:00pm Saturday & Sunday • 100% of proceeds are being doubled by Western Belle & donated to Remi & her family! \n🌻 2 acres of sunflowers & zinnias! Smaller fields of flowers than we planned\, but we are grateful for what we do have despite the cloudy & soggy spring! \n✂️ Pick-your-own zinnias and pre-cut sunflowers available for purchase! **Due to the fact that we have less flowers than expected\, there will be NO U-Pick for flowers out of the field! \n🤸🏼‍♂️ 20+ activities are included in admission • Farm Animal barn\, Barn Slides\, Mini Zip Lines\, Jump Pillow\, Barrel Train rides & more! \n📸 10+ Beautiful spring photo ops throughout the farm \n🌮 The Cantina & Canteen will have delicious food options for you! • We’ve got some delicious new items for you to try! 🥨 \n🍧 Kona Ice will be at the farm too! \n💰 $14 per person ages 3+\n🎟️ Ticket presale ends Friday! Save $2 per general admission ticket: https://www.simpletix.com/e/sunflower-festival-2024-tickets-168643 \n📍We are located just 10 minutes north of Waco and 1 hour south of DFW. \n🏠 Address of the farm: 7929 Heritage Parkway\, West\, TX 76691 \n🌻 The 3rd Annual Sunflower Festival 2024 is every Friday\, Saturday & Sunday from May 18th – June 9th! & Memorial Day! 🇺🇸 \nThe flowers don’t bloom for long\, so don’t miss out on the beautiful flower fields and all the fun on the farm this spring at Western Belle Farm; Where Memories Grow ❤️ \nSee y’all soon! 🤠 \nOur main sunflower field had to be replanted due to the wet\, cloudy & cool spring weather. Stay tuned to our social media pages for weekly updates on the flower fields if you are planning your visit around the peak flower bloom time frame 🙂 Unfortunately\, the spring weather hasn’t been on our side this year and it is resulting in a modified plan of the flower fields\, photo ops and U-pick.
URL:https://westernbellefarm.com/event/sunflower-festival-2024-2/
ATTACH;FMTTYPE=image/png:https://westernbellefarm.com/wp-content/uploads/2024/02/3A69BEA7-42C1-4FF3-86CE-B4727D02780C-e1707018175197.png
END:VEVENT
BEGIN:VEVENT
DTSTART;TZID=Asia/Karachi:20240519T120000
DTEND;TZID=Asia/Karachi:20240519T150000
DTSTAMP:20260420T101356
CREATED:20240417T163852Z
LAST-MODIFIED:20240501T165402Z
UID:3313-1716120000-1716130800@westernbellefarm.com
SUMMARY:Live Music by JP Music
DESCRIPTION:🎶 Join us at the farm on Sunday\, May 19th from 12:00PM – 3:00PM for live music by JP Music! \n🤸🏼‍♀️ Also\, enjoy over 20+ activities that are fun for the whole family and beautiful fields of flowers! *subject to crop availability \n⏰ Farm Hours for May 19th will be 10:00AM – 6:00PM! \n🌻 Come celebrate spring at Western Belle! A place where memories grow! \n🎟️ Buy tickets here! \nOur main sunflower field had to be replanted due to the wet\, cloudy & cool spring weather. Stay tuned to our social media pages for weekly updates on the flower fields if you are planning your visit around the peak flower bloom time frame 🙂 Unfortunately\, the spring weather hasn’t been on our side this year and it is resulting in a later than planned timeframe for the flower fields to be in bloom!
URL:https://westernbellefarm.com/event/live-music-by-jp-music/
LOCATION:Western Belle Farm\, 7929 Heritage Parkway\, West\, Texas\, 76691
ATTACH;FMTTYPE=image/jpeg:https://westernbellefarm.com/wp-content/uploads/2024/04/366604488_369868188897276_3875925136596300719_n-e1713371843966.jpeg
END:VEVENT
END:VCALENDAR