BEGIN:VCALENDAR
VERSION:2.0
PRODID:-//Western Belle Farm - ECPv6.15.17//NONSGML v1.0//EN
CALSCALE:GREGORIAN
METHOD:PUBLISH
X-WR-CALNAME:Western Belle Farm
X-ORIGINAL-URL:https://westernbellefarm.com
X-WR-CALDESC:Events for Western Belle Farm
REFRESH-INTERVAL;VALUE=DURATION:PT1H
X-Robots-Tag:noindex
X-PUBLISHED-TTL:PT1H
BEGIN:VTIMEZONE
TZID:Asia/Karachi
BEGIN:STANDARD
TZOFFSETFROM:+0500
TZOFFSETTO:+0500
TZNAME:PKT
DTSTART:20230101T000000
END:STANDARD
END:VTIMEZONE
BEGIN:VEVENT
DTSTART;TZID=Asia/Karachi:20240608T100000
DTEND;TZID=Asia/Karachi:20240608T200000
DTSTAMP:20260420T083739
CREATED:20240204T035306Z
LAST-MODIFIED:20240509T040057Z
UID:3141-1717840800-1717876800@westernbellefarm.com
SUMMARY:Sunflower Festival 2024
DESCRIPTION:🎟️ BUY TICKETS 🎟️\nFARM HOURS: Saturday\, June 8th 10:00am – 8:00pm\n  \n🌻 SUNFLOWER FESTIVAL 2024 🌻\n• May 18th – June 9th • \nThis spring\, come enjoy the flower fields and all the fun farm activities at Western Belle! 🌻 \nWe may have had a rainy start to spring\, but that’s not stopping the fun at the farm! Come enjoy the Sunflowers & Zinnias\, various photo opportunities\, hours of fun and live music every Saturday & Sunday afternoon 🎶 \nWe have 20+ activities included in your admission and there’s surely something for everyone to enjoy at the farm! 🤠 \n🌻 Flower fields \n📸 Beautiful spring photo ops \n🌮 Delicious food at the Canteen & Cantina \n🐐 Farm Animals \n🐝 Beeline Mini Zip lines \n🌽 Corn Bin \n🐂 Cattle Drive Barrel Train rides \n🧡 Jump Pillow \n🤸🏻‍♂️ Round Bale Rollers \n🦆 Duck Races \n😬 Barn Slides \n🐎 Pony Hop Races \n🎶 Live music & much more! \n🌻 Stay tuned to our social media pages for weekly flower field updates to time your visit while the flower fields are in bloom! We have smaller fields than expected due to the very rainy spring\, however\, we will update you multiple times per week on what we have blooming at the farm! \nEveryone will have a BLAST at the farm; literally! Come SHOOT 🍎 with our Apple Cannons! \nWe will also have our Fresh Lemonades 🍋 Fresh popped Kettle Corn 🍿 delicious Street Tacos 🌮 Jumbo Hot Dogs 🌭 Burgers 🍔 & more! 🍧 Kona Ice will also be at the farm! \n💲Admission is just $14 per person \n(2 & under is free) \n🎟️ SAVE $2 on general admission & purchase during our PRESALE starting May 1st and until supplies last! 🎟️ \n📍We are located just 10 minutes north of Waco and 1 hour south of DFW. \n🏠 Address of the farm: 7929 Heritage Parkway\, West\, TX 76691 \n🌻 The 3rd Annual Sunflower Festival 2024 is every Friday\, Saturday & Sunday from May 18th – June 9th! & Memorial Day! 🇺🇸 \nThe flowers don’t bloom for long\, so don’t miss out on the beautiful flower fields and all the fun on the farm this spring at Western Belle Farm; Where Memories Grow ❤️ \nStay tuned for more information and follow us on Facebook & Instagram for daily updates from the farm! \nOur main sunflower field had to be replanted due to the wet\, cloudy & cool spring weather. Stay tuned to our social media pages for weekly updates on the flower fields if you are planning your visit around the peak flower bloom time frame 🙂 Unfortunately\, the spring weather hasn’t been on our side this year and it is resulting in a later than planned timeframe for the flower fields to be in bloom!
URL:https://westernbellefarm.com/event/sunflower-festival-2024-11/
ATTACH;FMTTYPE=image/png:https://westernbellefarm.com/wp-content/uploads/2024/02/3A69BEA7-42C1-4FF3-86CE-B4727D02780C-e1707018175197.png
END:VEVENT
BEGIN:VEVENT
DTSTART;TZID=Asia/Karachi:20240608T120000
DTEND;TZID=Asia/Karachi:20240608T150000
DTSTAMP:20260420T083739
CREATED:20240417T172228Z
LAST-MODIFIED:20240501T171922Z
UID:3331-1717848000-1717858800@westernbellefarm.com
SUMMARY:Live Music by JP Music
DESCRIPTION:🎶 Join us at the farm on Saturday\, June 8th from 12:00PM – 3:00PM for live music by JP Music! \n🤸🏼‍♀️ Also\, enjoy over 20+ activities that are fun for the whole family and beautiful fields of flowers! *subject to crop availability \n⏰ Farm Hours for June 8th will be 10:00AM – 8:00PM! \n🌻 Come celebrate spring at Western Belle! A place where memories grow! \n🎟️ Buy tickets here! \nOur main sunflower field had to be replanted due to the wet\, cloudy & cool spring weather. Stay tuned to our social media pages for weekly updates on the flower fields if you are planning your visit around the peak flower bloom time frame 🙂 Unfortunately\, the spring weather hasn’t been on our side this year and it is resulting in a later than planned timeframe for the flower fields to be in bloom!
URL:https://westernbellefarm.com/event/live-music-by-jp-music-7/
LOCATION:Western Belle Farm\, 7929 Heritage Parkway\, West\, Texas\, 76691
ATTACH;FMTTYPE=image/jpeg:https://westernbellefarm.com/wp-content/uploads/2024/04/366604488_369868188897276_3875925136596300719_n-e1713371843966.jpeg
END:VEVENT
END:VCALENDAR