BEGIN:VCALENDAR
VERSION:2.0
PRODID:-//Western Belle Farm - ECPv6.15.17//NONSGML v1.0//EN
CALSCALE:GREGORIAN
METHOD:PUBLISH
X-ORIGINAL-URL:https://westernbellefarm.com
X-WR-CALDESC:Events for Western Belle Farm
REFRESH-INTERVAL;VALUE=DURATION:PT1H
X-Robots-Tag:noindex
X-PUBLISHED-TTL:PT1H
BEGIN:VTIMEZONE
TZID:Asia/Karachi
BEGIN:STANDARD
TZOFFSETFROM:+0500
TZOFFSETTO:+0500
TZNAME:PKT
DTSTART:20230101T000000
END:STANDARD
END:VTIMEZONE
BEGIN:VEVENT
DTSTART;TZID=Asia/Karachi:20240615T090000
DTEND;TZID=Asia/Karachi:20240615T120000
DTSTAMP:20260420T083922
CREATED:20240613T033432Z
LAST-MODIFIED:20240613T033432Z
UID:3525-1718442000-1718452800@westernbellefarm.com
SUMMARY:BONUS Flower Picking Day!
DESCRIPTION:🌻 HELP! 🌻 \nThese photos were taken Wednesday June 12th! 😍 Come pick from the thousands of flowers we have blooming before farmer Brandon mows them down for fall crop planting! 🤠🚜 \nOur Sunflower Festival may be over\, but we still have beautiful flowers that need picked! ✂️ We just don’t have the heart to mow them all down… so come on out & pick yourself a beautiful arrangement! 💐 \nWe’ve had a rough season due to the weather\, and our latest planting of sunflowers may be short but they are blooming & make the most beautiful flowers for an arrangement! 😍 \n❗️We are going to open up for U-PICK FLOWERS this Friday & Saturday❗️ \n🌻 No admission fee \n🌻 $1 per flower OR fill a mason jar for $10 \n🌻 No farm activities will be open \n🌻 Flower field photo ops are still set up \nIt’s the perfect date night or surprise a friend or family member that’s been having a tough week. Everyone loves flowers! 😍 \n⏰ HOURS for flower picking: \nFriday\, June 14th: 5:30-8:30pm \nSaturday\, June 15th: 9:00am-12:00pm \nCash or card accepted! \n*No bathroom facilities* \n$1 bottled drinks available! \n🏷️ Tag your friends & family! Help us spread the word! 📢 \nDon’t miss your opportunity to come pick beautiful flowers with no admission fee! ✂️🌻 \n• \n• \n•
URL:https://westernbellefarm.com/event/bonus-flower-picking-day-2/
ATTACH;FMTTYPE=image/jpeg:https://westernbellefarm.com/wp-content/uploads/2024/06/IMG_2454-scaled.jpg
END:VEVENT
END:VCALENDAR