BEGIN:VCALENDAR
VERSION:2.0
PRODID:-//Western Belle Farm - ECPv6.15.17//NONSGML v1.0//EN
CALSCALE:GREGORIAN
METHOD:PUBLISH
X-ORIGINAL-URL:https://westernbellefarm.com
X-WR-CALDESC:Events for Western Belle Farm
REFRESH-INTERVAL;VALUE=DURATION:PT1H
X-Robots-Tag:noindex
X-PUBLISHED-TTL:PT1H
BEGIN:VTIMEZONE
TZID:Asia/Karachi
BEGIN:STANDARD
TZOFFSETFROM:+0500
TZOFFSETTO:+0500
TZNAME:PKT
DTSTART:20230101T000000
END:STANDARD
END:VTIMEZONE
BEGIN:VEVENT
DTSTART;TZID=Asia/Karachi:20240928T100000
DTEND;TZID=Asia/Karachi:20240929T180000
DTSTAMP:20260420T040548
CREATED:20240816T191412Z
LAST-MODIFIED:20240911T151417Z
UID:3676-1727517600-1727632800@westernbellefarm.com
SUMMARY:Teacher Appreciation Weekend
DESCRIPTION:Teacher Appreciation Weekend 🧑‍🏫  \n  \nTeachers work hard to not only educate but to be mentors to the youth of our community. Many teachers make lasting impacts in their student’s lives. In order to give back to them\, we will be having a Teacher Appreciation Weekend! 🍎 \n  \nAll public & private school teachers will receive FREE admission to the farm on Saturday\, September 28th and Sunday September 29th (Valid ID will be required) \n  \nThere is plenty to do for all ages! Don’t miss out on fall at the farm! 🎃 \n  \n🚜 Take a hayride around the farm \n🌾 Get lost in the 4-acre Maze \n🎃 Jump on the Pumpkin Jump Pillow \n🌽 Play in the Corn Bin \n📸 Take photos at the festive pumpkin displays \n🐐 Pet & feed the farm animals \n🐝 Zip down the Beeline Mini Zip lines \n🐂 Cattle Drive Barrel Train rides \n🤸🏻‍♂️ Roll in the Round Bale Rollers \n🛍️ Shop in our General Store \n🎶 Enjoy LIVE Music \n& so much more! \n  \n📍Address of the Pumpkin Festival: 7929 Heritage Parkway West\, TX 76691 \n  \n💲Admission information:  \nGeneral Admission $16 / person \nDiscounted Admission $14 / person \n2 & under are free  \n  \n🎟️ Buy tickets here! 🎟️
URL:https://westernbellefarm.com/event/teacher-appreciation-weekend-5/
LOCATION:Western Belle Farm\, 7929 Heritage Parkway\, West\, Texas\, 76691
ATTACH;FMTTYPE=image/png:https://westernbellefarm.com/wp-content/uploads/2024/08/0A535A53-B493-4FB2-9CEA-B16E852E435D-e1723835423293.png
END:VEVENT
BEGIN:VEVENT
DTSTART;TZID=Asia/Karachi:20240929T100000
DTEND;TZID=Asia/Karachi:20240929T180000
DTSTAMP:20260420T040548
CREATED:20240724T173413Z
LAST-MODIFIED:20240923T200029Z
UID:3557-1727604000-1727632800@westernbellefarm.com
SUMMARY:Pumpkin Festival 2024
DESCRIPTION:FARM HOURS: SUNDAY\, SEPTEMBER 29TH | 10:00AM-6:00PM\nSpecial Events include: Live music by JP Music from 12:00PM – 3:00PM Teacher Appreciation Weekend: Saturday\, September 28th and Sunday\, September 29th- All public and private school teachers receive free admission. A valid school ID is required per teacher \n🎃 🍂 PUMPKIN FESTIVAL 2024 🍂🎃 \n• September 21st to November 3rd • \n  \nLet’s celebrate fall y’all! 🍂  We have over 20+ activities for everyone to enjoy at the farm this fall season and you don’t want to miss it! 🤠 \n  \n🚜 Take a hayride around the farm \n🌾 Get lost in the 4-acre Maze \n🎃 Jump on the Pumpkin Jump Pillow \n🌽 Play in the Corn Bin \n📸 Take photos at the festive pumpkin displays \n🐐 Pet & feed the farm animals \n🐝 Zip down the Beeline Mini Zip lines \n🐂 Cattle Drive Barrel Train rides \n🤸🏻‍♂️ Roll in the Round Bale Rollers \n🎶 Enjoy LIVE Music \n& so much more! \n  \nThere is something ALL ages will enjoy! Shoot our Apple Cannons 🍎 & our Pumpkin Cannon! It’s a real blast 🎃 \n  \nWe will also have our refreshing Lemonades 🍋 fresh popped Kettle Corn 🍿 Street Tacos 🌮 Texas-sized Soft Pretzels 🥨 & more! \n  \n🎟️ Tickets on sale NOW! Click here!  \n  \n📍We are located just 10 minutes north of Waco and 1 hour south of DFW. \n  \n🏠 Address of the farm: 7929 Heritage Parkway\, West\, TX 76691 \n  \n🎃 The Pumpkin Festival 2024 is open every Saturday & Sunday from September 21 – November 3rd & Fridays in October!
URL:https://westernbellefarm.com/event/pumpkin-festival-2024-4/
LOCATION:Western Belle Farm\, 7929 Heritage Parkway\, West\, Texas\, 76691
ATTACH;FMTTYPE=image/png:https://westernbellefarm.com/wp-content/uploads/2024/07/Copy-of-PumpkinFestival2024-e1721837228679.png
END:VEVENT
BEGIN:VEVENT
DTSTART;TZID=Asia/Karachi:20240929T120000
DTEND;TZID=Asia/Karachi:20240929T150000
DTSTAMP:20260420T040548
CREATED:20240731T193211Z
LAST-MODIFIED:20240923T195940Z
UID:3625-1727611200-1727622000@westernbellefarm.com
SUMMARY:Live Music by JP Music
DESCRIPTION:🎶 Join us at the farm on Sunday\, September 29th from 12:00PM – 3:00PM for live music by JP Music! \nAlong with the live music\, your admission also includes access to over 20+ activities that are fun for the whole family 🤸🏻‍♂️\, delicious food options 🌮\, thousands of pumpkins on display 🎃\, and beautiful fall photo ops 📸! \nThere is something ALL ages will enjoy! \n⏰ Farm Hours for Sunday\, September 29th are 10:00AM – 6:00PM! \n🎟️ Tickets on sale NOW! Click here! \n📍We are located just 10 minutes north of Waco and 1 hour south of DFW. \n🏠 Address of the farm: 7929 Heritage Parkway\, West\, TX 76691 \n🎃 The Pumpkin Festival 2024 is open every Saturday & Sunday from September 21 – November 3rd & Fridays in October!
URL:https://westernbellefarm.com/event/live-music-by-jp-music-12/
LOCATION:Western Belle Farm\, 7929 Heritage Parkway\, West\, Texas\, 76691
ATTACH;FMTTYPE=image/jpeg:https://westernbellefarm.com/wp-content/uploads/2024/08/IMG_2836-e1722453251800.jpg
END:VEVENT
END:VCALENDAR