BEGIN:VCALENDAR
VERSION:2.0
PRODID:-//Western Belle Farm - ECPv6.15.17//NONSGML v1.0//EN
CALSCALE:GREGORIAN
METHOD:PUBLISH
X-WR-CALNAME:Western Belle Farm
X-ORIGINAL-URL:https://westernbellefarm.com
X-WR-CALDESC:Events for Western Belle Farm
REFRESH-INTERVAL;VALUE=DURATION:PT1H
X-Robots-Tag:noindex
X-PUBLISHED-TTL:PT1H
BEGIN:VTIMEZONE
TZID:Asia/Karachi
BEGIN:STANDARD
TZOFFSETFROM:+0500
TZOFFSETTO:+0500
TZNAME:PKT
DTSTART:20230101T000000
END:STANDARD
END:VTIMEZONE
BEGIN:VEVENT
DTSTART;TZID=Asia/Karachi:20241012T100000
DTEND;TZID=Asia/Karachi:20241012T180000
DTSTAMP:20260420T022909
CREATED:20240724T191904Z
LAST-MODIFIED:20240923T195106Z
UID:3572-1728727200-1728756000@westernbellefarm.com
SUMMARY:Pumpkin Festival 2024
DESCRIPTION:FARM HOURS: SATURDAY\, OCTOBER 12TH | 10:00AM-6:00PM\nSpecial events include:Live music by Markus Miller from 12:00PM – 3:00PM \n Meet the Mermaid Princess from 10:00AM – 12:00PM \nGlow Night: Come get lost in the maze and enjoy all the farm activities by the glow of the moon… and of course glow sticks\, at our first ever Glow Night. Extended evening hours from 6:00PM – 9:00PM  \n🎃 🍂 PUMPKIN FESTIVAL 2024 🍂🎃 \n• September 21st to November 3rd • \n  \nLet’s celebrate fall y’all! 🍂  We have over 20+ activities for everyone to enjoy at the farm this fall season and you don’t want to miss it! 🤠 \n  \n🚜 Take a hayride around the farm \n🌾 Get lost in the 4-acre Maze \n🎃 Jump on the Pumpkin Jump Pillow \n🌽 Play in the Corn Bin \n📸 Take photos at the festive pumpkin displays \n🐐 Pet & feed the farm animals \n🐝 Zip down the Beeline Mini Zip lines \n🐂 Cattle Drive Barrel Train rides \n🤸🏻‍♂️ Roll in the Round Bale Rollers \n🎶 Enjoy LIVE Music \n& so much more! \n  \nThere is something ALL ages will enjoy! Shoot our Apple Cannons 🍎 & our Pumpkin Cannon! It’s a real blast 🎃 \n  \nWe will also have our refreshing Lemonades 🍋 fresh popped Kettle Corn 🍿 Street Tacos 🌮 Texas-sized Soft Pretzels 🥨 & more! \n  \n🎟️ Tickets on sale NOW! Click here! \n  \n📍We are located just 10 minutes north of Waco and 1 hour south of DFW. \n  \n🏠 Address of the farm: 7929 Heritage Parkway\, West\, TX 76691 \n  \n🎃 The Pumpkin Festival 2024 is open every Saturday & Sunday from September 21 – November 3rd & Fridays in October!
URL:https://westernbellefarm.com/event/pumpkin-festival-2024-9/
LOCATION:Western Belle Farm\, 7929 Heritage Parkway\, West\, Texas\, 76691
ATTACH;FMTTYPE=image/png:https://westernbellefarm.com/wp-content/uploads/2024/07/Copy-of-PumpkinFestival2024-e1721837228679.png
END:VEVENT
BEGIN:VEVENT
DTSTART;TZID=Asia/Karachi:20241012T120000
DTEND;TZID=Asia/Karachi:20241012T160000
DTSTAMP:20260420T022909
CREATED:20240731T194433Z
LAST-MODIFIED:20240923T195011Z
UID:3635-1728734400-1728748800@westernbellefarm.com
SUMMARY:Live Music by Markus Miller
DESCRIPTION:🎶 Join us at the farm on Saturday\, October 12th from 12:00PM – 4:00PM for live music by Markus Miller! \nAlong with the live music\, your admission also includes access to over 20+ activities that are fun for the whole family 🤸🏻‍♂️\, delicious food options 🌮\, thousands of pumpkins on display 🎃\, and beautiful fall photo ops 📸! \nThere is something ALL ages will enjoy! \n⏰ Farm Hours for Saturday\, October 12th are 10:00AM – 6:00PM! \n🎟️ Tickets on sale NOW! Click here! \n📍We are located just 10 minutes north of Waco and 1 hour south of DFW. \n🏠 Address of the farm: 7929 Heritage Parkway\, West\, TX 76691 \n🎃 The Pumpkin Festival 2024 is open every Saturday & Sunday from September 21 – November 3rd & Fridays in October!
URL:https://westernbellefarm.com/event/live-music-by-markus-miller-2/
LOCATION:Western Belle Farm\, 7929 Heritage Parkway\, West\, Texas\, 76691
ATTACH;FMTTYPE=image/jpeg:https://westernbellefarm.com/wp-content/uploads/2024/08/IMG_0316-e1722455049149.jpg
END:VEVENT
BEGIN:VEVENT
DTSTART;TZID=Asia/Karachi:20241012T180000
DTEND;TZID=Asia/Karachi:20241012T210000
DTSTAMP:20260420T022909
CREATED:20240809T212753Z
LAST-MODIFIED:20241009T050202Z
UID:3661-1728756000-1728766800@westernbellefarm.com
SUMMARY:🌟 GLOW NIGHT 🌟
DESCRIPTION:🔦🌟 GLOW NIGHT 🌟🔦 \n🆕 for fall 2024! Come get lost in the maze and enjoy all the farm activities by the glow of the moon… and of course glow sticks! ☺️ \n🗓️ Join us on Saturday\, October 12th for extended evening hours at the farm! We will be open from 6:00-9:00pm for our first ever GLOW NIGHT! 🌟 \n🌟 Be one of the first 250 people to enter after 6:00pm and get a FREE glow stick \n🔦 Bring a flashlight and get lost in the maze \n🍂 Enjoy all the farm activities on a cool fall evening \n🔥 UPDATED: Campfires have been cancelled due to the burn ban and overall dry conditions \n🎶 Enjoy live music by Rosenthal Parkway Band from 6:00PM – 9:00PM \n*Please note: Hayrides will end at dusk for safety purposes* \n  \n🎟️ Tickets:  https://www.simpletix.com/e/pumpkin-festival-2024-tickets-178082
URL:https://westernbellefarm.com/event/%f0%9f%8c%9f-glow-night-%f0%9f%8c%9f/
ATTACH;FMTTYPE=image/jpeg:https://westernbellefarm.com/wp-content/uploads/2024/08/GlowNight.jpg
END:VEVENT
BEGIN:VEVENT
DTSTART;TZID=Asia/Karachi:20241012T180000
DTEND;TZID=Asia/Karachi:20241012T210000
DTSTAMP:20260420T022909
CREATED:20240830T165430Z
LAST-MODIFIED:20240923T193917Z
UID:3733-1728756000-1728766800@westernbellefarm.com
SUMMARY:Live Music by Rosenthal Parkway Band
DESCRIPTION:🎶 Join us at the farm\, during our Glow Night\, on Saturday\, October 12th from 6:00PM – 9:00PM for live music by Rosenthal Parkway Band! \nAlong with the live music\, your admission also includes access to over 20+ activities that are fun for the whole family 🤸🏻‍♂️\, thousands of pumpkins on display 🎃\, and beautiful fall photo ops! 📸 \nThere is something ALL ages will enjoy! \n⏰ Farm Hours for Saturday\, October 12th are 10:00AM – 6:00PM! Glow Night extended hours are from 6:00PM – 9:00PM! \n🎟️ Tickets on sale NOW! Click here! \n📍We are located just 10 minutes north of Waco and 1 hour south of DFW. \n🏠 Address of the farm: 7929 Heritage Parkway\, West\, TX 76691 \n🎃 The Pumpkin Festival 2024 is open every Saturday & Sunday from September 21 – November 3rd & Fridays in October!
URL:https://westernbellefarm.com/event/live-music-by-rosenthal-parkway-band/
LOCATION:Western Belle Farm\, 7929 Heritage Parkway\, West\, Texas\, 76691
ATTACH;FMTTYPE=image/jpeg:https://westernbellefarm.com/wp-content/uploads/2024/08/website-profile-e1725036802164.jpeg
END:VEVENT
END:VCALENDAR