BEGIN:VCALENDAR
VERSION:2.0
PRODID:-//Western Belle Farm - ECPv6.15.17//NONSGML v1.0//EN
CALSCALE:GREGORIAN
METHOD:PUBLISH
X-ORIGINAL-URL:https://westernbellefarm.com
X-WR-CALDESC:Events for Western Belle Farm
REFRESH-INTERVAL;VALUE=DURATION:PT1H
X-Robots-Tag:noindex
X-PUBLISHED-TTL:PT1H
BEGIN:VTIMEZONE
TZID:Asia/Karachi
BEGIN:STANDARD
TZOFFSETFROM:+0500
TZOFFSETTO:+0500
TZNAME:PKT
DTSTART:20230101T000000
END:STANDARD
END:VTIMEZONE
BEGIN:VEVENT
DTSTART;TZID=Asia/Karachi:20241111T093000
DTEND;TZID=Asia/Karachi:20241111T133000
DTSTAMP:20260420T005551
CREATED:20240905T142350Z
LAST-MODIFIED:20240908T023658Z
UID:3750-1731317400-1731331800@westernbellefarm.com
SUMMARY:✏️ 🍎 NOVEMBER Homeschool Day 🍎✏️
DESCRIPTION:✏️ 🍎 NOVEMBER HOMESCHOOL FIELD TRIP DAY 🍎✏️\n🗓️ Monday\, November 11th from 9:30am – 1:30pm \n  \n❗️SOLD OUT❗️This is a limited ticket event to ensure everyone enjoys their visit. There will NOT be at the gate tickets available! 🤠 \nEmail us to be added to the waitlist for October or November Homeschool Day tickets: info@WesternBelleFarm.com \n  \n  \nJoin us for a special field trip day at the farm specifically for our homeschool community. \nCome explore\, learn and play at the farm at a special discounted field trip rate! ✏️ \n  \n🤸🏼‍♂️ Over 20+ farm activities included and open for “free play” (Apple Cannons are an additional charge) \nAdmission to the activities includes special Pumpkin Festival activities: \n🎃 Learn how we grow pumpkins during our Pumpkin Lifecycle lessons \n🚜 Hayrides around the farm and through our various fields of crops \n🌾 Practice problem solving & teamwork as you navigate our 4-acre Maze \n  \nCost: $8 per person \n(Ages 2 & under are free)
URL:https://westernbellefarm.com/event/%e2%9c%8f%ef%b8%8f-%f0%9f%8d%8e-november-homeschool-day-%f0%9f%8d%8e%e2%9c%8f%ef%b8%8f/
LOCATION:Western Belle Farm\, 7929 Heritage Parkway\, West\, Texas\, 76691
ATTACH;FMTTYPE=image/png:https://westernbellefarm.com/wp-content/uploads/2024/09/4A168B64-3A3E-4BBE-820F-EF4CDF756FC4-e1725545745838.png
END:VEVENT
END:VCALENDAR