BEGIN:VCALENDAR
VERSION:2.0
PRODID:-//Western Belle Farm - ECPv6.15.17//NONSGML v1.0//EN
CALSCALE:GREGORIAN
METHOD:PUBLISH
X-WR-CALNAME:Western Belle Farm
X-ORIGINAL-URL:https://westernbellefarm.com
X-WR-CALDESC:Events for Western Belle Farm
REFRESH-INTERVAL;VALUE=DURATION:PT1H
X-Robots-Tag:noindex
X-PUBLISHED-TTL:PT1H
BEGIN:VTIMEZONE
TZID:Asia/Karachi
BEGIN:STANDARD
TZOFFSETFROM:+0500
TZOFFSETTO:+0500
TZNAME:PKT
DTSTART:20210101T000000
END:STANDARD
END:VTIMEZONE
BEGIN:VEVENT
DTSTART;TZID=Asia/Karachi:20220924T100000
DTEND;TZID=Asia/Karachi:20220924T180000
DTSTAMP:20260423T152904
CREATED:20220613T130118Z
LAST-MODIFIED:20220801T054249Z
UID:2077-1664013600-1664042400@westernbellefarm.com
SUMMARY:1st Annual Pumpkin Festival
DESCRIPTION:🎃 JOIN US FOR OUR 1ST ANNUAL PUMPKIN FESTIVAL! 🎃 \nWe had an amazing 1st annual Sunflower Festival with y’all this spring and we are looking forward to our 1st Annual Pumpkin Festival with you this Fall! 🤩 \nWe will be open Fridays\, Saturdays & Sundays from September 24th through November 6th 🎃 \nThere will be farm animals 🐐\, slides 🤩\, beeline mini ziplines 🐝 \, Pumpkin Jump Pillow 🎃\, Cattle Drive barrel train rides 🚜\,lots of 🎃 photo ops\, more Sunflowers 🌻\, and of course lots of Pumpkins! 🎃 Oh\, and you can aim and shoot pumpkins at 70+ mph with our Pumpkin Cannons! (Additional cost) 🎃💨 There are 20+ FUN activities for all ages! \nWe will have fresh squeezed lemonade 🍋\, burgers 🍔\, hot dogs 🌭 and Kona Ice 🍧! Outside food and drinks are welcome too! We have plenty of shaded seating! \nDATES: \nSeptember 24th to November 6th 2022 \nADMISSION: \n$14 per person \n(2 & under are free) \nIncludes over 20+ activities at the farm for all ages! \nPLEASE NOTE: Sunflowers and Pumpkins are an agricultural crop and therefore subject to weather\, growing conditions\, and ripening variables. We cannot guarantee that the sunflowers will bloom on a particular date\, or the availability of U-Pick Sunflowers & Pumpkins so prepare to be flexible with your visit. Stay tuned on Facebook and Instagram for updates. This is an outdoor event and therefore held weather permitting. Activities will be opened regardless\, Sunflowers can not be guaranteed. We have had a severe drought majority of the growing season so far but we are going to try our best to have a crop this fall! If not\, we will have Pumpkins available for purchase but not picking.
URL:https://westernbellefarm.com/event/1st-annual-pumpkin-festival/
ATTACH;FMTTYPE=image/jpeg:https://westernbellefarm.com/wp-content/uploads/2021/11/pumpkin-cta.jpg
END:VEVENT
BEGIN:VEVENT
DTSTART;TZID=Asia/Karachi:20220924T100000
DTEND;TZID=Asia/Karachi:20220924T180000
DTSTAMP:20260423T152904
CREATED:20220721T112846Z
LAST-MODIFIED:20220823T155145Z
UID:2206-1664013600-1664042400@westernbellefarm.com
SUMMARY:FARM FUNDRAISER!
DESCRIPTION: We are excited to announce that West Warrior Kids Foundation is partnering with Western Belle Farm\, a Sunflower & Pumpkin Festival Farm\, for their opening day as a benefit for the West Warrior Kids Foundation. It is guaranteed to be a whole lot of fun! \n\n Saturday\, September 24th from 10AM to 6PM\n\nCome join us for lots of fun on the farm with ALL PROCEEDS from the admission being donated to West Warrior Kids Foundation! \nWest Warrior Kids Foundation was started when a small community came together to help raise money for a local family whose daughter was diagnosed with brain cancer. Ever since raising money and making a difference in that young lady’s life\, they have continued their mission to help support other kid’s needs in the community. \n\nWestern Belle Farm has 20+ activities including Farm Animals\, Beeline Mini Ziplines\, a Pumpkin Jump Pillow\, Barn Slides\, a MooChoo Barrel Train ride\, Pumpkin photo ops & much more! Fun for you and your family and all for a great cause; It is a win-win!  \n\n\n🎨 FREE FACEPAINTING from 11am to 2pm! 🎨\n\n\n🎵 LIVE MUSIC! 12pm to 2:30pm- Donna Beckham Trio 🎵\n\n\nVisit the West Warriors or Western Belle Farm Facebook pages for more information on the event!\n\n Tickets can be purchased online or at the gate. \nAdmission is: $14/person\n(2 & under are free!)
URL:https://westernbellefarm.com/event/farm-fundraiser/
ATTACH;FMTTYPE=image/png:https://westernbellefarm.com/wp-content/uploads/2022/07/417D0E4D-0832-401E-B741-AC19FEE7B9E3.png
END:VEVENT
BEGIN:VEVENT
DTSTART;TZID=Asia/Karachi:20220924T100000
DTEND;TZID=Asia/Karachi:20220924T180000
DTSTAMP:20260423T152904
CREATED:20220821T221219Z
LAST-MODIFIED:20220821T221730Z
UID:2274-1664013600-1664042400@westernbellefarm.com
SUMMARY:Teacher Appreciation Weekend!
DESCRIPTION:Join us on Saturday\, September 24th and Sunday\, September 25th for our Teacher Appreciation weekend! On this special weekend\, teachers will receive FREE admission to the farm! (must show a valid school ID)\n\nWestern Belle is a Family Farm located in West\, TX about 10 minutes north of Waco\, and about an 1hr and 15mins from the Dallas- Fort Worth Area. We open up our farm seasonally to offer Festivals on the Farm where there is something for EVERYONE to enjoy!\nWe have 20+ FUN activities included in admission:\n Beeline Mini Zip lines\n Cattle Drive Barrel Train\n Round Bale Rollers\n Pumpkin Jump Pillow\n Farm Animals\n Baby Bunnies\n Duck Races\n Barn Slides\n Pony Hop Races  & much more!\nWe will also have our refreshing FRESH Squeezed Lemonade  Kettle Cornburgers  and hot dogs  as well as Kona Ice! \n\nVisit our ticketing website for more information and to purchase your other guest’s tickets online!\n https://westernbellefarm.ticketspice.com/pumpkin-festival-2022
URL:https://westernbellefarm.com/event/teacher-appreciation-weekend/
ATTACH;FMTTYPE=image/png:https://westernbellefarm.com/wp-content/uploads/2022/08/Happy-World-Teacher-Day-Instagram-Post-Facebook-Cover-1.png
END:VEVENT
BEGIN:VEVENT
DTSTART;TZID=Asia/Karachi:20220925T120000
DTEND;TZID=Asia/Karachi:20220925T180000
DTSTAMP:20260423T152904
CREATED:20220613T130218Z
LAST-MODIFIED:20220801T054139Z
UID:2079-1664107200-1664128800@westernbellefarm.com
SUMMARY:1st Annual Pumpkin Festival
DESCRIPTION:🎃 JOIN US FOR OUR 1ST ANNUAL PUMPKIN FESTIVAL! 🎃 \nWe had an amazing 1st annual Sunflower Festival with y’all this spring and we are looking forward to our 1st Annual Pumpkin Festival with you this Fall! 🤩 \nWe will be open Fridays\, Saturdays & Sundays from September 24th through November 6th 🎃 \nThere will be farm animals 🐐\, slides 🤩\, beeline mini ziplines 🐝 \, Pumpkin Jump Pillow 🎃\, Cattle Drive barrel train rides 🚜\,lots of 🎃 photo ops\, more Sunflowers 🌻\, and of course lots of Pumpkins! 🎃 Oh\, and you can aim and shoot pumpkins at 70+ mph with our Pumpkin Cannons! (Additional cost) 🎃💨 There are 20+ FUN activities for all ages! \nWe will have fresh squeezed lemonade 🍋\, burgers 🍔\, hot dogs 🌭 and Kona Ice 🍧! Outside food and drinks are welcome too! We have plenty of shaded seating! \nDATES: \nSeptember 24th to November 6th 2022 \nADMISSION: \n$14 per person \n(2 & under are free) \nIncludes over 20+ activities at the farm for all ages! \nPLEASE NOTE: Sunflowers and Pumpkins are an agricultural crop and therefore subject to weather\, growing conditions\, and ripening variables. We cannot guarantee that the sunflowers will bloom on a particular date\, or the availability of U-Pick Sunflowers & Pumpkins so prepare to be flexible with your visit. Stay tuned on Facebook and Instagram for updates. This is an outdoor event and therefore held weather permitting. Activities will be opened regardless\, Sunflowers can not be guaranteed. We have had a severe drought majority of the growing season so far but we are going to try our best to have a crop this fall! If not\, we will have Pumpkins available for purchase but not picking.
URL:https://westernbellefarm.com/event/1st-annual-pumpkin-festival-2/
ATTACH;FMTTYPE=image/jpeg:https://westernbellefarm.com/wp-content/uploads/2021/11/pumpkin-cta.jpg
END:VEVENT
BEGIN:VEVENT
DTSTART;TZID=Asia/Karachi:20220925T120000
DTEND;TZID=Asia/Karachi:20220925T180000
DTSTAMP:20260423T152904
CREATED:20220821T222114Z
LAST-MODIFIED:20220821T222114Z
UID:2277-1664107200-1664128800@westernbellefarm.com
SUMMARY:Teacher Appreciation Weekend!
DESCRIPTION:Join us on Saturday\, September 24th and Sunday\, September 25th for our Teacher Appreciation weekend! On this special weekend\, teachers will receive FREE admission to the farm! (must show a valid school ID)\n\nWestern Belle is a Family Farm located in West\, TX about 10 minutes north of Waco\, and about an 1hr and 15mins from the Dallas- Fort Worth Area. We open up our farm seasonally to offer Festivals on the Farm where there is something for EVERYONE to enjoy!\nWe have 20+ FUN activities included in admission:\n Beeline Mini Zip lines\n Cattle Drive Barrel Train\n Round Bale Rollers\n Pumpkin Jump Pillow\n Farm Animals\n Baby Bunnies\n Duck Races\n Barn Slides\n Pony Hop Races  & much more!\nWe will also have our refreshing FRESH Squeezed Lemonade  Kettle Cornburgers  and hot dogs  as well as Kona Ice! \n\nVisit our ticketing website for more information and to purchase your other guest’s tickets online!\n https://westernbellefarm.ticketspice.com/pumpkin-festival-2022
URL:https://westernbellefarm.com/event/teacher-appreciation-weekend-2/
ATTACH;FMTTYPE=image/png:https://westernbellefarm.com/wp-content/uploads/2022/08/Happy-World-Teacher-Day-Instagram-Post-Facebook-Cover-1.png
END:VEVENT
BEGIN:VEVENT
DTSTART;TZID=Asia/Karachi:20220930T130000
DTEND;TZID=Asia/Karachi:20220930T180000
DTSTAMP:20260423T152904
CREATED:20220613T130512Z
LAST-MODIFIED:20220927T190114Z
UID:2083-1664542800-1664560800@westernbellefarm.com
SUMMARY:1st Annual Pumpkin Festival
DESCRIPTION:🚜 FARM FRIDAYS 🚜 \nJoin us every Friday on the farm from 1:00PM to 6:00PM! \nIf you like the farm to yourself\, Fridays are a great time to visit! \n💲Admission is REDUCED to $11/person too! \nWe have 20+ FUN activities included in your admission:👇🏽 \n🐝 Beeline Mini Zip lines \n🐂 Cattle Drive Barrel Train \n🎃 Pumpkin Jump Pillow \n🚜 Hayrides \n🤸🏻‍♂️ Round Bale Rollers \n🐐 Farm Animals \n🦆 Duck Races \n😬 Barn Slides \n🐎 Pony Hop Races \n🎃 Thousands of pumpkins on festive displays\n📸 Lots of Photo Ops & much more! \n*PLEASE NOTE: The Canteen is NOT open on Fridays. As always\, you are welcome to bring drinks and packed lunches! \n🎟️ Tickets can be purchased online or at the farm 🎟️ \nhttps://westernbellefarm.ticketspice.com/pumpkin-festival-2022 \n📍We are located just 10 minutes north of Waco and 1 hour and 15 minutes south of DFW. \n🏠 Address of the farm: 7929 Heritage Parkway\, West\, TX 76691 \nSee y’all soon! 🤠
URL:https://westernbellefarm.com/event/1st-annual-pumpkin-festival-4/
ATTACH;FMTTYPE=image/jpeg:https://westernbellefarm.com/wp-content/uploads/2021/12/Pumpkins-on-Wagon-scaled-e1655392083767.jpg
END:VEVENT
END:VCALENDAR