BEGIN:VCALENDAR
VERSION:2.0
PRODID:-//Western Belle Farm - ECPv6.15.17//NONSGML v1.0//EN
CALSCALE:GREGORIAN
METHOD:PUBLISH
X-ORIGINAL-URL:https://westernbellefarm.com
X-WR-CALDESC:Events for Western Belle Farm
REFRESH-INTERVAL;VALUE=DURATION:PT1H
X-Robots-Tag:noindex
X-PUBLISHED-TTL:PT1H
BEGIN:VTIMEZONE
TZID:Asia/Karachi
BEGIN:STANDARD
TZOFFSETFROM:+0500
TZOFFSETTO:+0500
TZNAME:PKT
DTSTART:20220101T000000
END:STANDARD
END:VTIMEZONE
BEGIN:VEVENT
DTSTART;TZID=Asia/Karachi:20230923T100000
DTEND;TZID=Asia/Karachi:20230923T120000
DTSTAMP:20260422T190236
CREATED:20230825T162934Z
LAST-MODIFIED:20230901T153403Z
UID:2895-1695463200-1695470400@westernbellefarm.com
SUMMARY:Pumpkin Princess at Western Belle Farm
DESCRIPTION:The Pumpkin Princess is joining us at Western Belle for opening day of the Pumpkin Festival 2023! 👸🏼 \nShe will be available for photos from 10:00AM – 12:00PM! But when the clock strikes 12:00 noon\, the Pumpkin Princess will make her exit… because after all\, her carriage will be turning back into a pumpkin very soon. 🎃 \nThis will be a magical experience for children of all ages! We hope to see you there! ✨👑 \n🎟️ Tickets on sale NOW!
URL:https://westernbellefarm.com/event/pumpkin-princess-at-western-belle-farm-%f0%9f%91%91/
ATTACH;FMTTYPE=image/jpeg:https://westernbellefarm.com/wp-content/uploads/2023/08/IMG_5688-e1692980952217.jpeg
END:VEVENT
BEGIN:VEVENT
DTSTART;TZID=Asia/Karachi:20230923T100000
DTEND;TZID=Asia/Karachi:20230923T180000
DTSTAMP:20260422T190236
CREATED:20230713T185552Z
LAST-MODIFIED:20230901T153548Z
UID:2694-1695463200-1695492000@westernbellefarm.com
SUMMARY:Pumpkin Festival 2023
DESCRIPTION:🎃 Pumpkin Festival 🎃\nat Western Belle Farm \nCome celebrate the best season of the year at Western Belle! 🤠 \n📅 Saturday\, September 23rd 10:00AM – 6:00PM \n🎟️ Tickets on sale NOW! \nSPECIAL EVENTS FOR OPENING WEEKEND ONLY:\n🎨 FREE Face Painting 10:00AM – 12:00PM\n👸 The Pumpkin Princess meet & greet 10:00AM-12:00PM \n  \nOver 20+ activities at the farm plus all things PUMPKIN 🎃 \n🎃 Shoot pumpkins with our Pumpkin Cannon \n📸 Amazing pumpkin themed photo ops \n🚜 Wagon rides \n🐐 Farm animals to feed & pet \n🐝 Beeline mini zip lines \n🌽 Corn Bin \n🤸 Round Bale Rollers \n🐂 Cattle Drive Barrel Train rides \n🤗 Giant Pumpkin Jump Pillow \n🍎 Apple Cannons \n🍋 Our Famous Fresh Squeezed Lemonades \n🌮 New! Delicious Street Tacos \n🍺 Cantina with adult beverages \n🎶 Live music Saturday & Sundays \n🛍️ General Store full of small business items \n🥳 A great place for birthday parties! \n& so much more! \nThere’s hours of fun for everyone this fall at Western Belle! 🇺🇸 Don’t miss out on it 😉 \n  \n📍Address of the Pumpkin Festival: 7929 Heritage Parkway West\, TX 76691 \n  \n💲Admission: $16 / person \n$12 / person on Farm Fridays \n2 & under are free \n$12/ person for Seniors\, Military\, Teachers\, Nurses\, Fire & Police (per valid ID)  \n  \n🎟️ Save money & buy your tickets online NOW!
URL:https://westernbellefarm.com/event/2023-pumpkin-festival/
ATTACH;FMTTYPE=image/jpeg:https://westernbellefarm.com/wp-content/uploads/2023/06/Pumpkin-Festival-2023-Graphic-e1689274528365.jpg
END:VEVENT
BEGIN:VEVENT
DTSTART;TZID=Asia/Karachi:20230923T100000
DTEND;TZID=Asia/Karachi:20230924T180000
DTSTAMP:20260422T190236
CREATED:20230915T145526Z
LAST-MODIFIED:20230915T145526Z
UID:2958-1695463200-1695578400@westernbellefarm.com
SUMMARY:Grandparents Weekend
DESCRIPTION:If you’re a grandparent\, this one is for YOU! Bring the grandkids out and enjoy some family time at our farm! 👴🏽 \n  \nAll grandparents who bring their grandchild(ren) to the farm will receive FREE admission on Saturday\, September 23rd and Sunday\, September 24th! \n  \nThere’s hours of fun for everyone this fall at Western Belle! 🇺🇸 Don’t miss out on it 😉 \n🎃 Shoot pumpkins with our Pumpkin Cannon \n📸 Amazing pumpkin themed photo ops  \n🚜 Wagon rides \n🐐 Farm animals to feed & pet \n🐝 Beeline mini zip lines \n🌽 Corn Bin \n🤸 Round Bale Rollers \n🐂 Cattle Drive Barrel Train rides \n🤗 Giant Pumpkin Jump Pillow \n🍎 Apple Cannons \n🍋 Our Famous Fresh Squeezed Lemonades \n🌮 New! Delicious Street Tacos \n🍺 Cantina with adult beverages \n🎶 Live music Saturdays & Sundays  \n🛍️ General Store full of small business items \n🥳 A great place for birthday parties! \n& so much more! \n  \n📍Address of the Pumpkin Festival: 7929 Heritage Parkway West\, TX 76691 \n  \n💲Admission: $16 / person \n$12 / person on Farm Fridays \n2 & under are free  \n$12/ person for Seniors\, Military\, Teachers\, Nurses\, Fire & Police (per valid ID)
URL:https://westernbellefarm.com/event/grandparents-weekend/
ATTACH;FMTTYPE=image/png:https://westernbellefarm.com/wp-content/uploads/2023/09/Grandparents-Weekend-e1694789688163.png
END:VEVENT
BEGIN:VEVENT
DTSTART;TZID=Asia/Karachi:20230923T120000
DTEND;TZID=Asia/Karachi:20230923T150000
DTSTAMP:20260422T190236
CREATED:20230814T195557Z
LAST-MODIFIED:20230901T153620Z
UID:2757-1695470400-1695481200@westernbellefarm.com
SUMMARY:JP Music at Western Belle Farm
DESCRIPTION:Join us from 12:00PM-3:00PM on Saturday\, September 23rd for live music by JP Music! \n\n\nAlso\, enjoy over 20+ activities at the farm plus all things PUMPKIN \n(Farm Hours for September 23rd: 10:00AM-6:00PM)\n\n\nCome celebrate the best season of the year at Western Belle! \n\n\nSave money & buy your tickets to the farm online NOW!
URL:https://westernbellefarm.com/event/jp-music-at-western-belle-farm/
ATTACH;FMTTYPE=image/jpeg:https://westernbellefarm.com/wp-content/uploads/2023/08/IMG_5867-e1692043020912.jpg
END:VEVENT
BEGIN:VEVENT
DTSTART;TZID=Asia/Karachi:20230924T100000
DTEND;TZID=Asia/Karachi:20230924T180000
DTSTAMP:20260422T190236
CREATED:20230713T192528Z
LAST-MODIFIED:20230901T153826Z
UID:2699-1695549600-1695578400@westernbellefarm.com
SUMMARY:Pumpkin Festival 2023
DESCRIPTION:🎃 Pumpkin Festival 🎃\nat Western Belle Farm \nCome celebrate the best season of the year at Western Belle! 🤠 \n📅 Sunday\, September 24th 10:00AM – 6:00PM \n🎟️ Tickets on sale NOW! \nSPECIAL EVENTS FOR OPENING WEEKEND ONLY:\n🎨 FREE Face Painting 10:00AM – 12:00PM\n👸 The Pumpkin Princess meet & greet 10:00AM-12:00PM \n  \nOver 20+ activities at the farm plus all things PUMPKIN 🎃 \n🎃 Shoot pumpkins with our Pumpkin Cannon \n📸 Amazing pumpkin themed photo ops \n🚜 Wagon rides \n🐐 Farm animals to feed & pet \n🐝 Beeline mini zip lines \n🌽 Corn Bin \n🤸 Round Bale Rollers \n🐂 Cattle Drive Barrel Train rides \n🤗 Giant Pumpkin Jump Pillow \n🍎 Apple Cannons \n🍋 Our Famous Fresh Squeezed Lemonades \n🌮 New! Delicious Street Tacos \n🍺 Cantina with adult beverages \n🎶 Live music Saturday & Sundays \n🛍️ General Store full of small business items \n🥳 A great place for birthday parties! \n& so much more! \nThere’s hours of fun for everyone this fall at Western Belle! 🇺🇸 Don’t miss out on it 😉 \n  \n📍Address of the Pumpkin Festival: 7929 Heritage Parkway West\, TX 76691 \n  \n💲Admission: $16 / person \n$12 / person on Farm Fridays \n2 & under are free \n$12/ person for Seniors\, Military\, Teachers\, Nurses\, Fire & Police (per valid ID)  \n  \n🎟️ Save money & buy your tickets online NOW!
URL:https://westernbellefarm.com/event/pumpkin-festival-2023/
ATTACH;FMTTYPE=image/jpeg:https://westernbellefarm.com/wp-content/uploads/2023/06/Pumpkin-Festival-2023-Graphic-e1689274528365.jpg
END:VEVENT
BEGIN:VEVENT
DTSTART;TZID=Asia/Karachi:20230924T120000
DTEND;TZID=Asia/Karachi:20230924T150000
DTSTAMP:20260422T190236
CREATED:20230814T200454Z
LAST-MODIFIED:20230921T020310Z
UID:2763-1695556800-1695567600@westernbellefarm.com
SUMMARY:Markus Miller at Western Belle Farm
DESCRIPTION:Join us from 12:00PM-3:00PM on Sunday\, September 24th for live music by Markus Miller aka A/Lone Wolf ! \n\nAlso\, enjoy over 20+ activities at the farm plus all things PUMPKIN \n(Farm Hours for September 24th: 10:00AM-6:00PM)\n\nCome celebrate the best season of the year at Western Belle! \n\nSave money & buy your tickets to the farm online NOW!
URL:https://westernbellefarm.com/event/markus-miller-at-western-belle-farm/
ATTACH;FMTTYPE=image/jpeg:https://westernbellefarm.com/wp-content/uploads/2023/08/366914722_785039560294982_6437395448336330747_n-e1692043468557.jpeg
END:VEVENT
BEGIN:VEVENT
DTSTART;TZID=Asia/Karachi:20230929T130000
DTEND;TZID=Asia/Karachi:20230929T180000
DTSTAMP:20260422T190236
CREATED:20230713T193043Z
LAST-MODIFIED:20230901T153947Z
UID:2702-1695992400-1696010400@westernbellefarm.com
SUMMARY:Pumpkin Festival 2023
DESCRIPTION:🎃 Pumpkin Festival 🎃\nat Western Belle Farm \nCome celebrate the best season of the year at Western Belle! 🤠 \n📅 Friday\, September 29th 1:00PM – 6:00PM \n🎟️ Tickets on sale NOW! \n(Admission is $12 on Fridays) \nOver 20+ activities at the farm plus all things PUMPKIN 🎃 \n🎃 Shoot pumpkins with our Pumpkin Cannon \n📸 Amazing pumpkin themed photo ops \n🚜 Wagon rides \n🐐 Farm animals to feed & pet \n🐝 Beeline mini zip lines \n🌽 Corn Bin \n🤸 Round Bale Rollers \n🐂 Cattle Drive Barrel Train rides \n🤗 Giant Pumpkin Jump Pillow \n🍎 Apple Cannons \n🍋 Our Famous Fresh Squeezed Lemonades \n🌮 New! Delicious Street Tacos \n🍺 Cantina with adult beverages \n🎶 Live music Saturday & Sundays \n🛍️ General Store full of small business items \n🥳 A great place for birthday parties! \n& so much more! \nThere’s hours of fun for everyone this fall at Western Belle! 🇺🇸 Don’t miss out on it 😉 \n  \n📍Address of the Pumpkin Festival: 7929 Heritage Parkway West\, TX 76691 \n  \n💲Admission: $16 / person \n$12 / person on Farm Fridays \n2 & under are free \n$12/ person for Seniors\, Military\, Teachers\, Nurses\, Fire & Police (per valid ID)  \n  \n🎟️ Save money & buy your tickets online NOW!
URL:https://westernbellefarm.com/event/pumpkin-festival-2023-2/
ATTACH;FMTTYPE=image/jpeg:https://westernbellefarm.com/wp-content/uploads/2023/06/Pumpkin-Festival-2023-Graphic-e1689274528365.jpg
END:VEVENT
BEGIN:VEVENT
DTSTART;TZID=Asia/Karachi:20230929T130000
DTEND;TZID=Asia/Karachi:20231001T180000
DTSTAMP:20260422T190236
CREATED:20230915T145956Z
LAST-MODIFIED:20230927T030657Z
UID:2961-1695992400-1696183200@westernbellefarm.com
SUMMARY:Heroes Weekend
DESCRIPTION:Each day\, many brave men and women put their lives on the line and make many sacrifices in order to protect ours! They work tirelessly and are always there in our time of need. 🇺🇸 \n  \nAs a “thank you” from our family\, all Military\, Police\, Fire\, EMS\, & Nurses will receive FREE admission to the farm on Friday\, September 29th\, Saturday\, September 30th\, and Sunday\, October 1st! (Valid ID will be required) \n  \nDon’t miss out on fun at the farm! There is something for everyone! 😉 \n🎃 Shoot pumpkins with our Pumpkin Cannon \n📸 Amazing pumpkin themed photo ops \n🚜 Wagon rides \n🐐 Farm animals to feed & pet \n🐝 Beeline mini zip lines \n🌽 Corn Bin \n🤸 Round Bale Rollers \n🐂 Cattle Drive Barrel Train rides \n🤗 Giant Pumpkin Jump Pillow \n🍎 Apple Cannons \n🍋 Our Famous Fresh Squeezed Lemonades \n🌮 New! Delicious Street Tacos \n🍺 Cantina with adult beverages \n🎶 Live music Saturdays & Sundays \n🛍️ General Store full of small business items \n🥳 A great place for birthday parties! \n& so much more! \n  \n📍Address of the Pumpkin Festival: 7929 Heritage Parkway West\, TX 76691 \n  \n💲Admission: $16 / person \n$12 / person on Farm Fridays \n2 & under are free \n$12/ person for Seniors & Teachers (per valid ID) \n  \nSave money on General Admission and purchase your tickets online!
URL:https://westernbellefarm.com/event/heroes-weekend-4/
ATTACH;FMTTYPE=image/png:https://westernbellefarm.com/wp-content/uploads/2023/09/Heroes-Weekend-e1694789977216.png
END:VEVENT
BEGIN:VEVENT
DTSTART;TZID=Asia/Karachi:20230930T100000
DTEND;TZID=Asia/Karachi:20230930T180000
DTSTAMP:20260422T190236
CREATED:20230713T193226Z
LAST-MODIFIED:20230901T154134Z
UID:2704-1696068000-1696096800@westernbellefarm.com
SUMMARY:Pumpkin Festival 2023
DESCRIPTION:🎃 Pumpkin Festival 🎃\nat Western Belle Farm \nCome celebrate the best season of the year at Western Belle! 🤠 \n📅 Saturday\, September 30th 10:00AM – 6:00PM \n🎟️ Tickets on sale NOW! \nOver 20+ activities at the farm plus all things PUMPKIN 🎃 \n🎃 Shoot pumpkins with our Pumpkin Cannon \n📸 Amazing pumpkin themed photo ops \n🚜 Wagon rides \n🐐 Farm animals to feed & pet \n🐝 Beeline mini zip lines \n🌽 Corn Bin \n🤸 Round Bale Rollers \n🐂 Cattle Drive Barrel Train rides \n🤗 Giant Pumpkin Jump Pillow \n🍎 Apple Cannons \n🍋 Our Famous Fresh Squeezed Lemonades \n🌮 New! Delicious Street Tacos \n🍺 Cantina with adult beverages \n🎶 Live music Saturday & Sundays \n🛍️ General Store full of small business items \n🥳 A great place for birthday parties! \n& so much more! \nThere’s hours of fun for everyone this fall at Western Belle! 🇺🇸 Don’t miss out on it 😉 \n  \n📍Address of the Pumpkin Festival: 7929 Heritage Parkway West\, TX 76691 \n  \n💲Admission: $16 / person \n$12 / person on Farm Fridays \n2 & under are free \n$12/ person for Seniors\, Military\, Teachers\, Nurses\, Fire & Police (per valid ID)  \n  \n🎟️ Save money & buy your tickets online NOW!
URL:https://westernbellefarm.com/event/pumpkin-festival-2023-3/
ATTACH;FMTTYPE=image/jpeg:https://westernbellefarm.com/wp-content/uploads/2023/06/Pumpkin-Festival-2023-Graphic-e1689274528365.jpg
END:VEVENT
BEGIN:VEVENT
DTSTART;TZID=Asia/Karachi:20230930T100000
DTEND;TZID=Asia/Karachi:20230930T180000
DTSTAMP:20260422T190236
CREATED:20230927T030421Z
LAST-MODIFIED:20230927T030421Z
UID:2978-1696068000-1696096800@westernbellefarm.com
SUMMARY:HEROES WEEKEND
DESCRIPTION:Each day\, many brave men and women put their lives on the line in order to protect ours! They work tirelessly and are always there in our time of need. 🇺🇸 \n  \nAs a “thank you” from our family\, all Military\, Police\, Fire\, EMS\, & Nurses will receive FREE admission to the farm on Friday\, September 29th\, Saturday\, September 30th\, and Sunday\, October 1st! (Valid ID will be required) \n  \nDon’t miss out on fun at the farm! There is something for everyone! 😉 \n🎃 Shoot pumpkins with our Pumpkin Cannon \n📸 Amazing pumpkin themed photo ops \n🚜 Wagon rides \n🐐 Farm animals to feed & pet \n🐝 Beeline mini zip lines \n🌽 Corn Bin \n🤸 Round Bale Rollers \n🐂 Cattle Drive Barrel Train rides \n🤗 Giant Pumpkin Jump Pillow \n🍎 Apple Cannons \n🍋 Our Famous Fresh Squeezed Lemonades \n🌮 New! Delicious Street Tacos \n🍺 Cantina with adult beverages \n🎶 Live music Saturdays & Sundays \n🛍️ General Store full of small business items \n🥳 A great place for birthday parties! \n& so much more! \n  \n📍Address of the Pumpkin Festival: 7929 Heritage Parkway West\, TX 76691 \n  \n💲Admission: $16 / person \n$12 / person on Farm Fridays \n2 & under are free \n$12/ person for Seniors & Teachers (per valid ID) \n  \nSave money on General Admission and purchase your tickets online!
URL:https://westernbellefarm.com/event/heroes-weekend-5/
ATTACH;FMTTYPE=image/png:https://westernbellefarm.com/wp-content/uploads/2023/09/Heroes-Weekend-e1694789977216.png
END:VEVENT
BEGIN:VEVENT
DTSTART;TZID=Asia/Karachi:20230930T120000
DTEND;TZID=Asia/Karachi:20230930T150000
DTSTAMP:20260422T190236
CREATED:20230814T201040Z
LAST-MODIFIED:20230901T154218Z
UID:2766-1696075200-1696086000@westernbellefarm.com
SUMMARY:Brazos Brothers at Western Belle Farm
DESCRIPTION:Join us from 12:00PM-3:00PM on Saturday\, September 30th for live music by Brazos Brothers! \n\nAlso\, enjoy over 20+ activities at the farm plus all things PUMPKIN \n(Farm Hours for September 30th: 10:00AM-6:00PM)\n\nCome celebrate the best season of the year at Western Belle! \n\nSave money & buy your tickets to the farm online NOW!
URL:https://westernbellefarm.com/event/brazos-brothers-at-western-belle-farm/
ATTACH;FMTTYPE=image/jpeg:https://westernbellefarm.com/wp-content/uploads/2023/08/366830980_369874848896610_8490799693287881672_n-e1692043827631.jpeg
END:VEVENT
END:VCALENDAR