BEGIN:VCALENDAR
VERSION:2.0
PRODID:-//Western Belle Farm - ECPv6.15.17//NONSGML v1.0//EN
CALSCALE:GREGORIAN
METHOD:PUBLISH
X-ORIGINAL-URL:https://westernbellefarm.com
X-WR-CALDESC:Events for Western Belle Farm
REFRESH-INTERVAL;VALUE=DURATION:PT1H
X-Robots-Tag:noindex
X-PUBLISHED-TTL:PT1H
BEGIN:VTIMEZONE
TZID:Asia/Karachi
BEGIN:STANDARD
TZOFFSETFROM:+0500
TZOFFSETTO:+0500
TZNAME:PKT
DTSTART:20230101T000000
END:STANDARD
END:VTIMEZONE
BEGIN:VEVENT
DTSTART;TZID=Asia/Karachi:20241102T100000
DTEND;TZID=Asia/Karachi:20241102T180000
DTSTAMP:20260419T231933
CREATED:20240724T195020Z
LAST-MODIFIED:20240923T192659Z
UID:3600-1730541600-1730570400@westernbellefarm.com
SUMMARY:Pumpkin Festival 2024
DESCRIPTION:FARM HOURS: SATURDAY\, NOVEMBER 2ND | 10:00AM-6:00PM\nSpecial Events include:Live Music by Savannah Kay from 12:00PM – 3:00PM \n🎃 🍂 PUMPKIN FESTIVAL 2024 🍂🎃 \n• September 21st to November 3rd • \n  \nLet’s celebrate fall y’all! 🍂  We have over 20+ activities for everyone to enjoy at the farm this fall season and you don’t want to miss it! 🤠 \n  \n🚜 Take a hayride around the farm \n🌾 Get lost in the 4-acre Maze \n🎃 Jump on the Pumpkin Jump Pillow \n🌽 Play in the Corn Bin \n📸 Take photos at the festive pumpkin displays \n🐐 Pet & feed the farm animals \n🐝 Zip down the Beeline Mini Zip lines \n🐂 Cattle Drive Barrel Train rides \n🤸🏻‍♂️ Roll in the Round Bale Rollers \n🎶 Enjoy LIVE Music \n& so much more! \n  \nThere is something ALL ages will enjoy! Shoot our Apple Cannons 🍎 & our Pumpkin Cannon! It’s a real blast 🎃 \n  \nWe will also have our refreshing Lemonades 🍋 fresh popped Kettle Corn 🍿 Street Tacos 🌮 Texas-sized Soft Pretzels 🥨 & more! \n  \n🎟️ Tickets on sale NOW! Click here! \n  \n📍We are located just 10 minutes north of Waco and 1 hour south of DFW. \n  \n🏠 Address of the farm: 7929 Heritage Parkway\, West\, TX 76691 \n  \n🎃 The Pumpkin Festival 2024 is open every Saturday & Sunday from September 21 – November 3rd & Fridays in October!
URL:https://westernbellefarm.com/event/pumpkin-festival-2024-16/
LOCATION:Western Belle Farm\, 7929 Heritage Parkway\, West\, Texas\, 76691
ATTACH;FMTTYPE=image/png:https://westernbellefarm.com/wp-content/uploads/2024/07/Copy-of-PumpkinFestival2024-e1721837228679.png
END:VEVENT
BEGIN:VEVENT
DTSTART;TZID=Asia/Karachi:20241102T120000
DTEND;TZID=Asia/Karachi:20241102T150000
DTSTAMP:20260419T231933
CREATED:20240802T141628Z
LAST-MODIFIED:20240923T192632Z
UID:3650-1730548800-1730559600@westernbellefarm.com
SUMMARY:Live Music by Savannah Kay
DESCRIPTION:🎶 Join us at the farm on Saturday\, November 2nd from 12:00PM – 3:00PM for live music by Savannah Kay! \nAlong with the live music\, your admission also includes access to over 20+ activities that are fun for the whole family 🤸🏻‍♂️\, delicious food options 🌮\, thousands of pumpkins on display 🎃\, and beautiful fall photo ops 📸! \nThere is something ALL ages will enjoy! \n⏰ Farm Hours for Saturday\, November 2nd are 10:00AM – 6:00PM! \n🎟️ Tickets on sale NOW! Click here! \n📍We are located just 10 minutes north of Waco and 1 hour south of DFW. \n🏠 Address of the farm: 7929 Heritage Parkway\, West\, TX 76691 \n🎃 The Pumpkin Festival 2024 is open every Saturday & Sunday from September 21 – November 3rd & Fridays in October!
URL:https://westernbellefarm.com/event/live-music-by-savannah-kay-2/
LOCATION:Western Belle Farm\, 7929 Heritage Parkway\, West\, Texas\, 76691
ATTACH;FMTTYPE=image/jpeg:https://westernbellefarm.com/wp-content/uploads/2024/08/DSC03616-e1722454792730.jpg
END:VEVENT
BEGIN:VEVENT
DTSTART;TZID=Asia/Karachi:20241103T100000
DTEND;TZID=Asia/Karachi:20241103T180000
DTSTAMP:20260419T231933
CREATED:20240724T195202Z
LAST-MODIFIED:20240923T192548Z
UID:3603-1730628000-1730656800@westernbellefarm.com
SUMMARY:Pumpkin Festival 2024
DESCRIPTION:FARM HOURS: SUNDAY\, NOVEMBER 3RD | 10:00AM-6:00PM\n  \n🎃 🍂 PUMPKIN FESTIVAL 2024 🍂🎃 \n• September 21st to November 3rd • \n  \nLet’s celebrate fall y’all! 🍂  We have over 20+ activities for everyone to enjoy at the farm this fall season and you don’t want to miss it! 🤠 \n  \n🚜 Take a hayride around the farm \n🌾 Get lost in the 4-acre Maze \n🎃 Jump on the Pumpkin Jump Pillow \n🌽 Play in the Corn Bin \n📸 Take photos at the festive pumpkin displays \n🐐 Pet & feed the farm animals \n🐝 Zip down the Beeline Mini Zip lines \n🐂 Cattle Drive Barrel Train rides \n🤸🏻‍♂️ Roll in the Round Bale Rollers \n🎶 Enjoy LIVE Music \n& so much more! \n  \nThere is something ALL ages will enjoy! Shoot our Apple Cannons 🍎 & our Pumpkin Cannon! It’s a real blast 🎃 \n  \nWe will also have our refreshing Lemonades 🍋 fresh popped Kettle Corn 🍿 Street Tacos 🌮 Texas-sized Soft Pretzels 🥨 & more! \n  \n🎟️ Tickets on sale NOW! Click here! \n📍We are located just 10 minutes north of Waco and 1 hour south of DFW. \n  \n🏠 Address of the farm: 7929 Heritage Parkway\, West\, TX 76691 \n  \n🎃 The Pumpkin Festival 2024 is open every Saturday & Sunday from September 21 – November 3rd & Fridays in October!
URL:https://westernbellefarm.com/event/pumpkin-festival-2024-17/
LOCATION:Western Belle Farm\, 7929 Heritage Parkway\, West\, Texas\, 76691
ATTACH;FMTTYPE=image/png:https://westernbellefarm.com/wp-content/uploads/2024/07/Copy-of-PumpkinFestival2024-e1721837228679.png
END:VEVENT
BEGIN:VEVENT
DTSTART;TZID=Asia/Karachi:20241103T120000
DTEND;TZID=Asia/Karachi:20241103T150000
DTSTAMP:20260419T231933
CREATED:20240822T161640Z
LAST-MODIFIED:20240923T192434Z
UID:3700-1730635200-1730646000@westernbellefarm.com
SUMMARY:Live Music by Markus Miller
DESCRIPTION:🎶 Join us at the farm on Sunday\, November 3rd from 12:00PM – 3:00PM for live music by Markus Miller! \nAlong with the live music\, your admission also includes access to over 20+ activities from that are fun for the whole family 🤸🏻‍♂️\, delicious food options 🌮\, thousands of pumpkins on display 🎃\, and beautiful fall photo ops 📸! \nThere is something ALL ages will enjoy! \n⏰ Farm Hours for Sunday\, November 3rd are 10:00AM – 6:00PM! \n🎟️ Tickets on sale NOW! Click here! \n📍We are located just 10 minutes north of Waco and 1 hour south of DFW. \n🏠 Address of the farm: 7929 Heritage Parkway\, West\, TX 76691 \n🎃 The Pumpkin Festival 2024 is open every Saturday & Sunday from September 21 – November 3rd & Fridays in October!
URL:https://westernbellefarm.com/event/live-music-by-megan-urby/
LOCATION:Western Belle Farm\, 7929 Heritage Parkway\, West\, Texas\, 76691
ATTACH;FMTTYPE=image/jpeg:https://westernbellefarm.com/wp-content/uploads/2024/08/IMG_0316-e1722455049149.jpg
END:VEVENT
BEGIN:VEVENT
DTSTART;TZID=Asia/Karachi:20241111T093000
DTEND;TZID=Asia/Karachi:20241111T133000
DTSTAMP:20260419T231933
CREATED:20240905T142350Z
LAST-MODIFIED:20240908T023658Z
UID:3750-1731317400-1731331800@westernbellefarm.com
SUMMARY:✏️ 🍎 NOVEMBER Homeschool Day 🍎✏️
DESCRIPTION:✏️ 🍎 NOVEMBER HOMESCHOOL FIELD TRIP DAY 🍎✏️\n🗓️ Monday\, November 11th from 9:30am – 1:30pm \n  \n❗️SOLD OUT❗️This is a limited ticket event to ensure everyone enjoys their visit. There will NOT be at the gate tickets available! 🤠 \nEmail us to be added to the waitlist for October or November Homeschool Day tickets: info@WesternBelleFarm.com \n  \n  \nJoin us for a special field trip day at the farm specifically for our homeschool community. \nCome explore\, learn and play at the farm at a special discounted field trip rate! ✏️ \n  \n🤸🏼‍♂️ Over 20+ farm activities included and open for “free play” (Apple Cannons are an additional charge) \nAdmission to the activities includes special Pumpkin Festival activities: \n🎃 Learn how we grow pumpkins during our Pumpkin Lifecycle lessons \n🚜 Hayrides around the farm and through our various fields of crops \n🌾 Practice problem solving & teamwork as you navigate our 4-acre Maze \n  \nCost: $8 per person \n(Ages 2 & under are free)
URL:https://westernbellefarm.com/event/%e2%9c%8f%ef%b8%8f-%f0%9f%8d%8e-november-homeschool-day-%f0%9f%8d%8e%e2%9c%8f%ef%b8%8f/
LOCATION:Western Belle Farm\, 7929 Heritage Parkway\, West\, Texas\, 76691
ATTACH;FMTTYPE=image/png:https://westernbellefarm.com/wp-content/uploads/2024/09/4A168B64-3A3E-4BBE-820F-EF4CDF756FC4-e1725545745838.png
END:VEVENT
END:VCALENDAR