BEGIN:VCALENDAR
VERSION:2.0
PRODID:-//Western Belle Farm - ECPv6.15.17//NONSGML v1.0//EN
CALSCALE:GREGORIAN
METHOD:PUBLISH
X-WR-CALNAME:Western Belle Farm
X-ORIGINAL-URL:https://westernbellefarm.com
X-WR-CALDESC:Events for Western Belle Farm
REFRESH-INTERVAL;VALUE=DURATION:PT1H
X-Robots-Tag:noindex
X-PUBLISHED-TTL:PT1H
BEGIN:VTIMEZONE
TZID:Asia/Karachi
BEGIN:STANDARD
TZOFFSETFROM:+0500
TZOFFSETTO:+0500
TZNAME:PKT
DTSTART:20230101T000000
END:STANDARD
END:VTIMEZONE
BEGIN:VEVENT
DTSTART;TZID=Asia/Karachi:20241004T130000
DTEND;TZID=Asia/Karachi:20241006T180000
DTSTAMP:20260420T014458
CREATED:20240816T185849Z
LAST-MODIFIED:20240930T203049Z
UID:3673-1728046800-1728237600@westernbellefarm.com
SUMMARY:First Responders Weekend
DESCRIPTION:🚒 🚔 FIRST RESPONDERS WEEKEND 🚔 🚒 \n👉🏽 We’ve got EXTRA fun on the farm for y’all this coming weekend thanks to Leroy & Axtell Fire Companies! \n🚒 Fire Truck rides \n🎟️ A gun raffle \n🥪 Pulled Pork Sandwiches \n(More details below!) \n  \n🚔 It’s First Responders Weekend at the Pumpkin Festival: October 4th-6th \nAs a way to thank our First Responders\, all active Military\, Fire\, Police\, EMS\, & Nurses will receive FREE admission (with a valid photo ID) \n  \n⏰ The special events listed above with Leroy & Axtell Fire will be: \nSaturday October 5th: 10:00am-4:00pm \nSunday October 6th 10:00am-2:00pm \n  \nOn this Saturday October 5th & Sunday October 6th come support the Leroy & Axtell Fire Companies! \nNo admission is required to stop by and support them. \nThey will be offering the following by donation: \n🚒 Fire Truck rides \n🐖Pulled Pork Sandwich\, chips & a drink \n  \nWe look forward to having y’all out to the farm this weekend! We appreciate Leroy & Axtell Fire Company’s dedication to the community and we’d love for everyone to show up and support them this weekend! 💰 🚒 \n  \n🎃 🎃 🎃 🎃 🎃 🎃 🎃 🎃 🎃 🎃 🎃 🎃 🎃 🎃 🎃 🎃 🎃 🎃 🎃 🎃 🎃 🎃 🎃 🎃 🎃 🎃 \n  \nDon’t miss out on fun at the farm! There is something for everyone! 😉 \n  \n🚜 Take a hayride around the farm \n🌾 Get lost in the 4-acre Maze \n🎃 Jump on the Pumpkin Jump Pillow \n🌽 Play in the Corn Bin \n📸 Take photos at the festive pumpkin displays \n🐐 Pet & feed the farm animals \n🐝 Zip down the Beeline Mini Zip lines \n🐂 Cattle Drive Barrel Train rides \n🤸🏻‍♂️ Roll in the Round Bale Rollers \n🛍️ Shop in our General Store \n🎶 Enjoy LIVE Music \n& so much more! \n  \n📍Address of the Pumpkin Festival: 7929 Heritage Parkway West\, TX 76691 \n  \n💲Admission information:  \nGeneral Admission $16 / person \nDiscounted Admission $14 / person \nFarm Fridays $12 / person \n2 & under are free  \n  \n🎟️ Buy tickets here! 🎟️
URL:https://westernbellefarm.com/event/first-responders-weekend/
LOCATION:Western Belle Farm\, 7929 Heritage Parkway\, West\, Texas\, 76691
ATTACH;FMTTYPE=image/png:https://westernbellefarm.com/wp-content/uploads/2024/08/Heroes-Weekend-e1723834659311.png
END:VEVENT
BEGIN:VEVENT
DTSTART;TZID=Asia/Karachi:20241005T120000
DTEND;TZID=Asia/Karachi:20241005T150000
DTSTAMP:20260420T014458
CREATED:20240731T193715Z
LAST-MODIFIED:20240923T195356Z
UID:3627-1728129600-1728140400@westernbellefarm.com
SUMMARY:Live Music by Brazos Brothers
DESCRIPTION:🎶 Join us at the farm on Saturday\, October 5th from 12:00PM – 3:00PM for live music by Brazos Brothers! \nAlong with the live music\, your admission also includes access to over 20+ activities that are fun for the whole family 🤸🏻‍♂️\, delicious food options 🌮\, thousands of pumpkins on display 🎃\, and beautiful fall photo ops 📸! \nThere is something ALL ages will enjoy! \n⏰ Farm Hours for Saturday\, October 5th are 10:00AM – 6:00PM! \n🎟️ Tickets on sale NOW! Click here! \n📍We are located just 10 minutes north of Waco and 1 hour south of DFW. \n🏠 Address of the farm: 7929 Heritage Parkway\, West\, TX 76691 \n🎃 The Pumpkin Festival 2024 is open every Saturday & Sunday from September 21 – November 3rd & Fridays in October!
URL:https://westernbellefarm.com/event/live-music-by-brazos-brothers/
LOCATION:Western Belle Farm\, 7929 Heritage Parkway\, West\, Texas\, 76691
END:VEVENT
BEGIN:VEVENT
DTSTART;TZID=Asia/Karachi:20241006T120000
DTEND;TZID=Asia/Karachi:20241006T150000
DTSTAMP:20260420T014458
CREATED:20240731T194142Z
LAST-MODIFIED:20240923T195245Z
UID:3632-1728216000-1728226800@westernbellefarm.com
SUMMARY:Live Music by Savannah Kay
DESCRIPTION:🎶 Join us at the farm on Sunday\, October 6th from 12:00PM – 3:00PM for live music by Savannah Kay! \nAlong with the live music\, your admission also includes access to over 20+ activities that are fun for the whole family 🤸🏻‍♂️\, delicious food options 🌮\, thousands of pumpkins on display 🎃\, and beautiful fall photo ops 📸! \nThere is something ALL ages will enjoy! \n⏰ Farm Hours for Sunday\, October 6th are 10:00AM – 6:00PM! \n🎟️ Tickets on sale NOW! Click here! \n📍We are located just 10 minutes north of Waco and 1 hour south of DFW. \n🏠 Address of the farm: 7929 Heritage Parkway\, West\, TX 76691 \n🎃 The Pumpkin Festival 2024 is open every Saturday & Sunday from September 21 – November 3rd & Fridays in October!
URL:https://westernbellefarm.com/event/live-music-by-savannah-kay/
LOCATION:Western Belle Farm\, 7929 Heritage Parkway\, West\, Texas\, 76691
ATTACH;FMTTYPE=image/jpeg:https://westernbellefarm.com/wp-content/uploads/2024/08/DSC03616-e1722454792730.jpg
END:VEVENT
BEGIN:VEVENT
DTSTART;TZID=Asia/Karachi:20241012T120000
DTEND;TZID=Asia/Karachi:20241012T160000
DTSTAMP:20260420T014458
CREATED:20240731T194433Z
LAST-MODIFIED:20240923T195011Z
UID:3635-1728734400-1728748800@westernbellefarm.com
SUMMARY:Live Music by Markus Miller
DESCRIPTION:🎶 Join us at the farm on Saturday\, October 12th from 12:00PM – 4:00PM for live music by Markus Miller! \nAlong with the live music\, your admission also includes access to over 20+ activities that are fun for the whole family 🤸🏻‍♂️\, delicious food options 🌮\, thousands of pumpkins on display 🎃\, and beautiful fall photo ops 📸! \nThere is something ALL ages will enjoy! \n⏰ Farm Hours for Saturday\, October 12th are 10:00AM – 6:00PM! \n🎟️ Tickets on sale NOW! Click here! \n📍We are located just 10 minutes north of Waco and 1 hour south of DFW. \n🏠 Address of the farm: 7929 Heritage Parkway\, West\, TX 76691 \n🎃 The Pumpkin Festival 2024 is open every Saturday & Sunday from September 21 – November 3rd & Fridays in October!
URL:https://westernbellefarm.com/event/live-music-by-markus-miller-2/
LOCATION:Western Belle Farm\, 7929 Heritage Parkway\, West\, Texas\, 76691
ATTACH;FMTTYPE=image/jpeg:https://westernbellefarm.com/wp-content/uploads/2024/08/IMG_0316-e1722455049149.jpg
END:VEVENT
BEGIN:VEVENT
DTSTART;TZID=Asia/Karachi:20241012T180000
DTEND;TZID=Asia/Karachi:20241012T210000
DTSTAMP:20260420T014458
CREATED:20240830T165430Z
LAST-MODIFIED:20240923T193917Z
UID:3733-1728756000-1728766800@westernbellefarm.com
SUMMARY:Live Music by Rosenthal Parkway Band
DESCRIPTION:🎶 Join us at the farm\, during our Glow Night\, on Saturday\, October 12th from 6:00PM – 9:00PM for live music by Rosenthal Parkway Band! \nAlong with the live music\, your admission also includes access to over 20+ activities that are fun for the whole family 🤸🏻‍♂️\, thousands of pumpkins on display 🎃\, and beautiful fall photo ops! 📸 \nThere is something ALL ages will enjoy! \n⏰ Farm Hours for Saturday\, October 12th are 10:00AM – 6:00PM! Glow Night extended hours are from 6:00PM – 9:00PM! \n🎟️ Tickets on sale NOW! Click here! \n📍We are located just 10 minutes north of Waco and 1 hour south of DFW. \n🏠 Address of the farm: 7929 Heritage Parkway\, West\, TX 76691 \n🎃 The Pumpkin Festival 2024 is open every Saturday & Sunday from September 21 – November 3rd & Fridays in October!
URL:https://westernbellefarm.com/event/live-music-by-rosenthal-parkway-band/
LOCATION:Western Belle Farm\, 7929 Heritage Parkway\, West\, Texas\, 76691
ATTACH;FMTTYPE=image/jpeg:https://westernbellefarm.com/wp-content/uploads/2024/08/website-profile-e1725036802164.jpeg
END:VEVENT
BEGIN:VEVENT
DTSTART;TZID=Asia/Karachi:20241018T130000
DTEND;TZID=Asia/Karachi:20241020T180000
DTSTAMP:20260420T014458
CREATED:20240816T195629Z
LAST-MODIFIED:20240911T154356Z
UID:3685-1729256400-1729447200@westernbellefarm.com
SUMMARY:Pumpkin Painting
DESCRIPTION:Pumpkin Painting! 🎨 🎃  \n  \nCome out to the farm on October 18-20th and 25th-27th for FREE Pumpkin Painting (with the purchase of any pumpkin). We will have all the painting supplies you need to create your own pumpkin masterpiece. We are celebrating the “peak” weekends of Pumpkin Season with this bonus activity on these two weekends only! \n  \nThere’s hours of fun for everyone this fall at Western Belle! 🇺🇸 Don’t miss out on it 😉 \n  \n🚜 Take a hayride around the farm \n🌾 Get lost in the 4-acre Maze \n🎃 Jump on the Pumpkin Jump Pillow \n🌽 Play in the Corn Bin \n📸 Take photos at the festive pumpkin displays \n🐐 Pet & feed the farm animals \n🐝 Zip down the Beeline Mini Zip lines \n🐂 Cattle Drive Barrel Train rides \n🤸🏻‍♂️ Roll in the Round Bale Rollers \n🛍️ Shop in our General Store \n🎶 Enjoy LIVE Music \n& so much more! \n  \n📍Address of the Pumpkin Festival: 7929 Heritage Parkway West\, TX 76691 \n  \n💲Admission information:  \nGeneral Admission $16 / person \nDiscounted Admission $14 / person \nFarm Fridays $12 / person \n2 & under are free  \n  \n🎟️ Buy tickets here! 🎟️
URL:https://westernbellefarm.com/event/pumpkin-painting/
LOCATION:Western Belle Farm\, 7929 Heritage Parkway\, West\, Texas\, 76691
ATTACH;FMTTYPE=image/png:https://westernbellefarm.com/wp-content/uploads/2024/08/Pumpkin-Painting-e1723838102275.png
END:VEVENT
BEGIN:VEVENT
DTSTART;TZID=Asia/Karachi:20241019T120000
DTEND;TZID=Asia/Karachi:20241019T150000
DTSTAMP:20260420T014458
CREATED:20240731T194754Z
LAST-MODIFIED:20240923T193445Z
UID:3638-1729339200-1729350000@westernbellefarm.com
SUMMARY:Live Music by Neon Whiskey
DESCRIPTION:🎶 Join us at the farm on Saturday\, October 19th  from 12:00PM – 3:00PM for live music by Neon Whiskey! \nAlong with the live music\, your admission also includes access to over 20+ activities that are fun for the whole family 🤸🏻‍♂️\, delicious food options 🌮\, thousands of pumpkins on display 🎃\, and beautiful fall photo ops 📸! \nThere is something  ALL ages will enjoy! \n⏰ Farm Hours for Saturday\, October 19th are 10:00AM – 6:00PM! \n🎟️ Tickets on sale NOW! Click here! \n📍We are located just 10 minutes north of Waco and 1 hour south of DFW. \n🏠 Address of the farm: 7929 Heritage Parkway\, West\, TX 76691 \n🎃 The Pumpkin Festival 2024 is open every Saturday & Sunday from September 21 – November 3rd & Fridays in October!
URL:https://westernbellefarm.com/event/live-music-by-neon-whiskey/
LOCATION:Western Belle Farm\, 7929 Heritage Parkway\, West\, Texas\, 76691
END:VEVENT
BEGIN:VEVENT
DTSTART;TZID=Asia/Karachi:20241020T120000
DTEND;TZID=Asia/Karachi:20241020T130000
DTSTAMP:20260420T014458
CREATED:20240731T195105Z
LAST-MODIFIED:20240923T193252Z
UID:3642-1729425600-1729429200@westernbellefarm.com
SUMMARY:Live Music by Markus Miller
DESCRIPTION:🎶 Join us at the farm on Sunday\, October 20th from 12:00PM – 4:00PM for live music by Markus Miller! \nAlong with the live music\, your admission also includes access to over 20+ activities that are fun for the whole family 🤸🏻‍♂️\, delicious food options 🌮\, thousands of pumpkins on display 🎃\, and beautiful fall photo ops 📸! \nThere is something  ALL ages will enjoy! \n⏰ Farm Hours for Sunday\, October 20th are 10:00AM – 6:00PM! \n🎟️ Tickets on sale NOW! Click here! \n📍We are located just 10 minutes north of Waco and 1 hour south of DFW. \n🏠 Address of the farm: 7929 Heritage Parkway\, West\, TX 76691 \n 🎃 The Pumpkin Festival 2024 is open every Saturday & Sunday from September 21 – November 3rd & Fridays in October!
URL:https://westernbellefarm.com/event/live-music-by-markus-miller-3/
LOCATION:Western Belle Farm\, 7929 Heritage Parkway\, West\, Texas\, 76691
ATTACH;FMTTYPE=image/jpeg:https://westernbellefarm.com/wp-content/uploads/2024/08/IMG_0316-e1722455049149.jpg
END:VEVENT
BEGIN:VEVENT
DTSTART;TZID=Asia/Karachi:20241025T130000
DTEND;TZID=Asia/Karachi:20241027T180000
DTSTAMP:20260420T014458
CREATED:20240816T195848Z
LAST-MODIFIED:20240911T155301Z
UID:3688-1729861200-1730052000@westernbellefarm.com
SUMMARY:Pumpkin Painting
DESCRIPTION:Pumpkin Painting! 🎨 🎃  \n  \nCome out to the farm on October 18-20th and 25th-27th for FREE Pumpkin Painting (with the purchase of any pumpkin). We will have all the painting supplies you need to create your own pumpkin masterpiece. We are celebrating the “peak” weekends of Pumpkin Season with this bonus activity on these two weekends only! \n  \nThere’s hours of fun for everyone this fall at Western Belle! 🇺🇸 Don’t miss out on it 😉 \n  \n🚜 Take a hayride around the farm \n🌾 Get lost in the 4-acre Maze \n🎃 Jump on the Pumpkin Jump Pillow \n🌽 Play in the Corn Bin \n📸 Take photos at the festive pumpkin displays \n🐐 Pet & feed the farm animals \n🐝 Zip down the Beeline Mini Zip lines \n🐂 Cattle Drive Barrel Train rides \n🤸🏻‍♂️ Roll in the Round Bale Rollers \n🛍️ Shop in our General Store \n🎶 Enjoy LIVE Music \n& so much more! \n  \n📍Address of the Pumpkin Festival: 7929 Heritage Parkway West\, TX 76691 \n  \n💲Admission information:  \nGeneral Admission $16 / person \nDiscounted Admission $14 / person \nFarm Fridays $12 / person \n2 & under are free  \n  \n🎟️ Buy tickets here! 🎟️
URL:https://westernbellefarm.com/event/pumpkin-painting-2/
LOCATION:Western Belle Farm\, 7929 Heritage Parkway\, West\, Texas\, 76691
ATTACH;FMTTYPE=image/png:https://westernbellefarm.com/wp-content/uploads/2024/08/Pumpkin-Painting-e1723838102275.png
END:VEVENT
BEGIN:VEVENT
DTSTART;TZID=Asia/Karachi:20241026T120000
DTEND;TZID=Asia/Karachi:20241026T150000
DTSTAMP:20260420T014458
CREATED:20240731T195349Z
LAST-MODIFIED:20240923T192844Z
UID:3644-1729944000-1729954800@westernbellefarm.com
SUMMARY:Live Music by Holly Tucker
DESCRIPTION:🎶 Join us at the farm on Saturday\, October 26th from 12:00PM – 3:00PM for live music by Holly Tucker! \nAlong with the live music\, your admission also includes access to over 20+ activities that are fun for the whole family 🤸🏻‍♂️\, delicious food options 🌮\, thousands of pumpkins on display 🎃\, and beautiful fall photo ops 📸! \nThere is something ALL ages will enjoy! \n⏰ Farm Hours for Saturday\, October 26th are 10:00AM – 6:00PM! \n🎟️ Tickets on sale NOW! Click here! \n📍We are located just 10 minutes north of Waco and 1 hour south of DFW. \n🏠 Address of the farm: 7929 Heritage Parkway\, West\, TX 76691 \n🎃 The Pumpkin Festival 2024 is open every Saturday & Sunday from September 21 – November 3rd & Fridays in October!
URL:https://westernbellefarm.com/event/live-music-by-holly-tucker-2/
LOCATION:Western Belle Farm\, 7929 Heritage Parkway\, West\, Texas\, 76691
ATTACH;FMTTYPE=image/jpeg:https://westernbellefarm.com/wp-content/uploads/2024/08/IMG_0317-e1722455599596.jpg
END:VEVENT
BEGIN:VEVENT
DTSTART;TZID=Asia/Karachi:20241027T130000
DTEND;TZID=Asia/Karachi:20241027T160000
DTSTAMP:20260420T014458
CREATED:20240802T141304Z
LAST-MODIFIED:20240923T192730Z
UID:3647-1730034000-1730044800@westernbellefarm.com
SUMMARY:Live Music by Brazos Brothers
DESCRIPTION:🎶 Join us at the farm on Sunday\, October 27th from 1:00PM – 4:00PM for live music by Brazos Brothers! \nAlong with the live music\, your admission also includes access to over 20+ activities that are fun for the whole family 🤸🏻‍♂️\, delicious food options 🌮\, thousands of pumpkins on display 🎃\, and beautiful fall photo ops 📸! \nThere is something ALL ages will enjoy! \n⏰ Farm Hours for Sunday\, October 27th are 10:00AM – 6:00PM! \n🎟️ Tickets on sale NOW! Click here! \n📍We are located just 10 minutes north of Waco and 1 hour south of DFW. \n🏠 Address of the farm: 7929 Heritage Parkway\, West\, TX 76691 \n🎃 The Pumpkin Festival 2024 is open every Saturday & Sunday from September 21 – November 3rd & Fridays in October!
URL:https://westernbellefarm.com/event/live-music-by-brazos-brothers-2/
LOCATION:Western Belle Farm\, 7929 Heritage Parkway\, West\, Texas\, 76691
END:VEVENT
END:VCALENDAR