BEGIN:VCALENDAR
VERSION:2.0
PRODID:-//Western Belle Farm - ECPv6.15.17//NONSGML v1.0//EN
CALSCALE:GREGORIAN
METHOD:PUBLISH
X-ORIGINAL-URL:https://westernbellefarm.com
X-WR-CALDESC:Events for Western Belle Farm
REFRESH-INTERVAL;VALUE=DURATION:PT1H
X-Robots-Tag:noindex
X-PUBLISHED-TTL:PT1H
BEGIN:VTIMEZONE
TZID:Asia/Karachi
BEGIN:STANDARD
TZOFFSETFROM:+0500
TZOFFSETTO:+0500
TZNAME:PKT
DTSTART:20230101T000000
END:STANDARD
END:VTIMEZONE
BEGIN:VEVENT
DTSTART;TZID=Asia/Karachi:20240921T100000
DTEND;TZID=Asia/Karachi:20240922T180000
DTSTAMP:20260420T044257
CREATED:20240816T192310Z
LAST-MODIFIED:20240911T150119Z
UID:3680-1726912800-1727028000@westernbellefarm.com
SUMMARY:Grandparents Weekend
DESCRIPTION:Grandparents Weekend 👴🏼 👵🏼  \n  \nIf you’re a grandparent\, this one is for YOU! Bring the grandkids out and enjoy some family time at our farm! 🎃 \n  \nAll grandparents who bring their grandchild(ren)to the farm will receive FREE admission on Saturday\, September 21st and Sunday\, September 22nd! \n  \nThere’s hours of fun for everyone this fall at Western Belle! 🇺🇸 Don’t miss out on it 😉 \n  \n🚜 Take a hayride around the farm \n🌾 Get lost in the 4-acre Maze \n🎃 Jump on the Pumpkin Jump Pillow \n🌽 Play in the Corn Bin \n📸 Take photos at the festive pumpkin displays \n🐐 Pet & feed the farm animals \n🐝 Zip down the Beeline Mini Zip lines \n🐂 Cattle Drive Barrel Train rides \n🤸🏻‍♂️ Roll in the Round Bale Rollers \n🛍️ Shop in our General Store \n🎶 Enjoy LIVE Music \n& so much more! \n  \n📍Address of the Pumpkin Festival: 7929 Heritage Parkway West\, TX 76691 \n  \n💲Admission information:  \nGeneral Admission $16 / person \nDiscounted Admission $14 / person \n2 & under are free  \n  \n🎟️ Buy tickets here! 🎟️
URL:https://westernbellefarm.com/event/grandparents-weekend-2/
LOCATION:Western Belle Farm\, 7929 Heritage Parkway\, West\, Texas\, 76691
ATTACH;FMTTYPE=image/png:https://westernbellefarm.com/wp-content/uploads/2024/08/4E693241-149B-4B04-ADA0-2C7B59A4CE3A-e1723836077460.png
END:VEVENT
BEGIN:VEVENT
DTSTART;TZID=Asia/Karachi:20240922T120000
DTEND;TZID=Asia/Karachi:20240922T150000
DTSTAMP:20260420T044257
CREATED:20240731T192120Z
LAST-MODIFIED:20240911T150934Z
UID:3620-1727006400-1727017200@westernbellefarm.com
SUMMARY:Live Music by JP Music
DESCRIPTION:🎶 Join us at the farm on Sunday\, September 22nd from 12:00PM – 3:00PM for live music by JP Music! \nAlong with the live music\, your admission also includes access to over 20+ activities that are fun for the whole family 🤸🏻‍♂️\, delicious food options 🌮\, thousands of pumpkins on display 🎃\, and beautiful fall photo ops 📸! \nThere is something ALL ages will enjoy! \n⏰ Farm Hours for Sunday\, September 22nd are 10:00AM – 6:00PM! \n🎟️ Tickets go on sale September 1st for our PRESALE! Save $2 per ticket by purchasing during our limited ticket presale! \n📍We are located just 10 minutes north of Waco and 1 hour south of DFW. \n🏠 Address of the farm: 7929 Heritage Parkway\, West\, TX 76691 \n🎃 The Pumpkin Festival 2024 is open every Saturday & Sunday from September 21 – November 3rd & Fridays in October! \n  \n🎟️ Buy tickets here! 🎟️
URL:https://westernbellefarm.com/event/live-music-by-jp-music-10/
LOCATION:Western Belle Farm\, 7929 Heritage Parkway\, West\, Texas\, 76691
ATTACH;FMTTYPE=image/jpeg:https://westernbellefarm.com/wp-content/uploads/2024/08/IMG_2836-e1722453251800.jpg
END:VEVENT
END:VCALENDAR