BEGIN:VCALENDAR
VERSION:2.0
PRODID:-//Western Belle Farm - ECPv6.15.17//NONSGML v1.0//EN
CALSCALE:GREGORIAN
METHOD:PUBLISH
X-ORIGINAL-URL:https://westernbellefarm.com
X-WR-CALDESC:Events for Western Belle Farm
REFRESH-INTERVAL;VALUE=DURATION:PT1H
X-Robots-Tag:noindex
X-PUBLISHED-TTL:PT1H
BEGIN:VTIMEZONE
TZID:Asia/Karachi
BEGIN:STANDARD
TZOFFSETFROM:+0500
TZOFFSETTO:+0500
TZNAME:PKT
DTSTART:20230101T000000
END:STANDARD
END:VTIMEZONE
BEGIN:VEVENT
DTSTART;TZID=Asia/Karachi:20241103T120000
DTEND;TZID=Asia/Karachi:20241103T150000
DTSTAMP:20260420T014720
CREATED:20240822T161640Z
LAST-MODIFIED:20240923T192434Z
UID:3700-1730635200-1730646000@westernbellefarm.com
SUMMARY:Live Music by Markus Miller
DESCRIPTION:🎶 Join us at the farm on Sunday\, November 3rd from 12:00PM – 3:00PM for live music by Markus Miller! \nAlong with the live music\, your admission also includes access to over 20+ activities from that are fun for the whole family 🤸🏻‍♂️\, delicious food options 🌮\, thousands of pumpkins on display 🎃\, and beautiful fall photo ops 📸! \nThere is something ALL ages will enjoy! \n⏰ Farm Hours for Sunday\, November 3rd are 10:00AM – 6:00PM! \n🎟️ Tickets on sale NOW! Click here! \n📍We are located just 10 minutes north of Waco and 1 hour south of DFW. \n🏠 Address of the farm: 7929 Heritage Parkway\, West\, TX 76691 \n🎃 The Pumpkin Festival 2024 is open every Saturday & Sunday from September 21 – November 3rd & Fridays in October!
URL:https://westernbellefarm.com/event/live-music-by-megan-urby/
LOCATION:Western Belle Farm\, 7929 Heritage Parkway\, West\, Texas\, 76691
ATTACH;FMTTYPE=image/jpeg:https://westernbellefarm.com/wp-content/uploads/2024/08/IMG_0316-e1722455049149.jpg
END:VEVENT
END:VCALENDAR