BEGIN:VCALENDAR
VERSION:2.0
PRODID:-//Western Belle Farm - ECPv6.15.17//NONSGML v1.0//EN
CALSCALE:GREGORIAN
METHOD:PUBLISH
X-ORIGINAL-URL:https://westernbellefarm.com
X-WR-CALDESC:Events for Western Belle Farm
REFRESH-INTERVAL;VALUE=DURATION:PT1H
X-Robots-Tag:noindex
X-PUBLISHED-TTL:PT1H
BEGIN:VTIMEZONE
TZID:Asia/Karachi
BEGIN:STANDARD
TZOFFSETFROM:+0500
TZOFFSETTO:+0500
TZNAME:PKT
DTSTART:20220101T000000
END:STANDARD
END:VTIMEZONE
BEGIN:VEVENT
DTSTART;TZID=Asia/Karachi:20230514T100000
DTEND;TZID=Asia/Karachi:20230514T180000
DTSTAMP:20260421T093540
CREATED:20230310T200343Z
LAST-MODIFIED:20230514T033324Z
UID:2471-1684058400-1684087200@westernbellefarm.com
SUMMARY:CLOSED MAY 14TH DUE TO THE WEATHER! 🌧️
DESCRIPTION:• SPRING  🌻  FESTIVAL •\n  \n🌧️ CLOSED SUNDAY MAY 14TH DUE TO THE WEATHER & CONDITIONS AT THE FARM 🌧️ \n  \nat Western Belle Farm \nCome celebrate Spring at the Farm: \n🗓️ Sunday\, May 14th CLOSED (due to the weather) \nCome enjoy fields of beautiful U-pick flowers\, 20+ farm activities\, live music and our famous fresh squeezed lemonades! \nThere is something everyone will enjoy at the farm! 🤗 \nLive music! The Brazos Brothers will play from 1:00PM to 3:00PM! \n🌻 Over 5 acres of beautiful flower fields \n🌻 Pick & purchase your own flowers to take home \n🌻 10+ beautiful photo op spots \n🌻 Beeline mini zip lines \n🌻 Barn Slides \n🌻 Cattle Drive Barrel Train rides \n🌻 Farm Animals to feed & pet \n🌻 Jumping Pillow \n🌻 Farm Market with various local items & more! \nStay tuned as we will be releasing more details in the coming weeks 🌻 🌸 🎶 \nFor the most up to date details\, follow us on Facebook or Instagram! \n  \nThere’s going to be many improvements around the farm since our first season with y’all in 2022\, and we can’t wait to share them with you 😬 \n  \n📍Address of the festival: 7929 Heritage Parkway West\, TX 76691 \n💲Admission: $14/ person \n2 & under are free | $11/ person for Seniors\, Military\, Teachers\, First Responders (per valid ID)  \nTickets can be purchased online or at the farm! \nPurchase tickets here! : https://www.simpletix.com/e/2023-spring-festival-tickets-125659
URL:https://westernbellefarm.com/event/spring-festival-2023-2/
ATTACH;FMTTYPE=image/jpeg:https://westernbellefarm.com/wp-content/uploads/2023/01/SpringFestival-e1678477813267.jpg
END:VEVENT
BEGIN:VEVENT
DTSTART;TZID=Asia/Karachi:20230520T100000
DTEND;TZID=Asia/Karachi:20230520T200000
DTSTAMP:20260421T093540
CREATED:20230310T201159Z
LAST-MODIFIED:20230520T053006Z
UID:2476-1684576800-1684612800@westernbellefarm.com
SUMMARY:Spring Festival 2023
DESCRIPTION:🌧️ Due to the amount of rainfall we have already received (and are still receiving) we have decided to go ahead and  \nDELAY THE OPENING on Saturday May 20th to 12 NOON. 🌧️ We will assess the grounds early and make a final determination by 10:00AM! Stay tuned for updates! \n\n• SPRING  🌻  FESTIVAL •\nat Western Belle Farm \nCome celebrate Spring at the Farm: \n🗓️ Saturday\, May 20th 10:00 – 8:00PM \n🌻❗️The Sunflowers are just starting to bloom❗️We will NOT have U-Pick Sunflowers\, we will have Zinnia U-Pick only. The fields may be a bit muddy still\, dress accordingly!🌻  \nCome enjoy fields of beautiful U-pick flowers\, 20+ farm activities\, live music and our famous fresh squeezed lemonades! \nThere is something everyone will enjoy at the farm! 🤗 \n🎶 LIVE music by Brazos Brothers 12:00 – 4:00PM! \n🌻 Over 5 acres of beautiful flower fields \n🌻 Pick & purchase your own flowers to take home \n🌻 10+ beautiful photo op spots \n🌻 Beeline mini zip lines \n🌻 Barn Slides \n🌻 Cattle Drive Barrel Train rides \n🌻 Farm Animals to feed & pet \n🌻 Jumping Pillow \n🌻 Farm Market with various local items & more! \nStay tuned as we will be releasing more details in the coming weeks 🌻 🌸 🎶 \nFor the most up to date details\, follow us on Facebook or Instagram! \n  \nThere’s going to be many improvements around the farm since our first season with y’all in 2022\, and we can’t wait to share them with you 😬 \n  \n📍Address of the festival: 7929 Heritage Parkway West\, TX 76691 \n💲Admission: $14/ person \n2 & under are free | $11/ person for Seniors\, Military\, Teachers\, First Responders (per valid ID)  \nTickets can be purchased online or at the farm! \nPurchase tickets here! : https://www.simpletix.com/e/2023-spring-festival-tickets-125659
URL:https://westernbellefarm.com/event/spring-festival-2023-4/
ATTACH;FMTTYPE=image/jpeg:https://westernbellefarm.com/wp-content/uploads/2023/01/SpringFestival-e1678477813267.jpg
END:VEVENT
BEGIN:VEVENT
DTSTART;TZID=Asia/Karachi:20230521T100000
DTEND;TZID=Asia/Karachi:20230521T180000
DTSTAMP:20260421T093540
CREATED:20230310T201416Z
LAST-MODIFIED:20230521T031922Z
UID:2478-1684663200-1684692000@westernbellefarm.com
SUMMARY:Spring Festival 2023
DESCRIPTION:• SPRING  🌻  FESTIVAL •\nat Western Belle Farm \nCome celebrate Spring at the Farm: \n🗓️ Sunday\, May 21st 10:00 – 6:00PM \n🌻❗️The Sunflowers are just starting to bloom and the zinnias are a beautiful full field of color❗️The fields are still a bit muddy from Friday evening’s rain\, please wear old shoes or boots!🌻  \nCome enjoy fields of beautiful U-pick flowers\, 20+ farm activities\, live music and our famous fresh squeezed lemonades! \nThere is something everyone will enjoy at the farm! 🤗 \n🎶 LIVE music by Joel Wood Band 12:00 – 3:00PM! \n🚓👨‍🚒🪖 Heroes Weekend! All Fire\, EMS\, Police\, and Military members will receive FREE admission (valid ID required) \n🌻 Over 5 acres of beautiful flower fields \n🌻 Pick & purchase your own flowers to take home \n🌻 10+ beautiful photo op spots \n🌻 Beeline mini zip lines \n🌻 Barn Slides \n🌻 Cattle Drive Barrel Train rides \n🌻 Farm Animals to feed & pet \n🌻 Jumping Pillow \n🌻 Farm Market with various local items & more! \nFor the most up to date details\, follow us on Facebook or Instagram! \n  \nThere’s going to be many improvements around the farm since our first season with y’all in 2022\, and we can’t wait to share them with you 😬 \n  \n📍Address of the festival: 7929 Heritage Parkway West\, TX 76691 \n💲Admission: $14/ person \n2 & under are free | $11/ person for Seniors\, Military\, Teachers\, First Responders (per valid ID)  \nTickets can be purchased online or at the farm! \nPurchase tickets here! : https://www.simpletix.com/e/2023-spring-festival-tickets-125659
URL:https://westernbellefarm.com/event/spring-festival-2023-5/
ATTACH;FMTTYPE=image/jpeg:https://westernbellefarm.com/wp-content/uploads/2023/01/SpringFestival-e1678477813267.jpg
END:VEVENT
BEGIN:VEVENT
DTSTART;TZID=Asia/Karachi:20230526T150000
DTEND;TZID=Asia/Karachi:20230526T200000
DTSTAMP:20260421T093540
CREATED:20230310T201736Z
LAST-MODIFIED:20230501T160023Z
UID:2480-1685113200-1685131200@westernbellefarm.com
SUMMARY:Spring Festival 2023
DESCRIPTION:• SPRING  🌻  FESTIVAL •\nat Western Belle Farm \nCome celebrate Spring at the Farm: \n🗓️ Friday\, May 27th 3:00 – 8:00PM \n(Admission is $11/person on Fridays. Limited concessions available. Outside food/drinks always welcome!) \nCome enjoy fields of beautiful U-pick flowers\, 20+ farm activities\, live music and our famous fresh squeezed lemonades! \nThere is something everyone will enjoy at the farm! 🤗 \n🌻 Over 5 acres of beautiful flower fields \n🌻 Pick & purchase your own flowers to take home \n🌻 10+ beautiful photo op spots \n🌻 Beeline mini zip lines \n🌻 Barn Slides \n🌻 Cattle Drive Barrel Train rides \n🌻 Farm Animals to feed & pet \n🌻 Jumping Pillow \n🌻 Farm Market with various local items & more! \nStay tuned as we will be releasing more details in the coming weeks 🌻 🌸 🎶 \nFor the most up to date details\, follow us on Facebook or Instagram! \n  \nThere’s going to be many improvements around the farm since our first season with y’all in 2022\, and we can’t wait to share them with you 😬 \n  \n📍Address of the festival: 7929 Heritage Parkway West\, TX 76691 \n💲Admission: $11/ person \n2 & under are free | $11/ person for Seniors\, Military\, Teachers\, First Responders (per valid ID)  \nTickets can be purchased online or at the farm! \nPurchase tickets here! : https://www.simpletix.com/e/2023-spring-festival-tickets-125659
URL:https://westernbellefarm.com/event/spring-festival-2023-6/
ATTACH;FMTTYPE=image/jpeg:https://westernbellefarm.com/wp-content/uploads/2023/01/SpringFestival-e1678477813267.jpg
END:VEVENT
BEGIN:VEVENT
DTSTART;TZID=Asia/Karachi:20230527T100000
DTEND;TZID=Asia/Karachi:20230527T200000
DTSTAMP:20260421T093540
CREATED:20230310T203241Z
LAST-MODIFIED:20230310T203241Z
UID:2482-1685181600-1685217600@westernbellefarm.com
SUMMARY:Spring Festival 2023
DESCRIPTION:• SPRING  🌻  FESTIVAL •\nat Western Belle Farm \nCome celebrate Spring at the Farm: \n🗓️ Saturday\, May 27th 10:00 – 8:00PM \nCome enjoy fields of beautiful U-pick flowers\, 20+ farm activities\, live music and our famous fresh squeezed lemonades! \nThere is something everyone will enjoy at the farm! 🤗 \n🎶 LIVE music by Stephany Chavira 12:00 – 3:00PM \n🌻 Over 4 acres of beautiful flower fields \n🌻 Pick & purchase your own flowers to take home \n🌻 10+ beautiful photo op spots \n🌻 Beeline mini zip lines \n🌻 Barn Slides \n🌻 Cattle Drive Barrel Train rides \n🌻 Farm Animals to feed & pet \n🌻 Jumping Pillow \n🌻 Farm Market with various local items & more! \nStay tuned as we will be releasing more details in the coming weeks 🌻 🌸 🎶 \nFor the most up to date details\, follow us on Facebook or Instagram! \n  \nThere’s going to be many improvements around the farm since our first season with y’all in 2022\, and we can’t wait to share them with you 😬 \n  \n📍Address of the festival: 7929 Heritage Parkway West\, TX 76691 \n💲Admission: $14/ person \n2 & under are free | $11/ person for Seniors\, Military\, Teachers\, First Responders (per valid ID)  \nTickets can be purchased online or at the farm! \nPurchase tickets here! : https://www.simpletix.com/e/2023-spring-festival-tickets-125659
URL:https://westernbellefarm.com/event/spring-festival-2023-7/
ATTACH;FMTTYPE=image/jpeg:https://westernbellefarm.com/wp-content/uploads/2023/01/SpringFestival-e1678477813267.jpg
END:VEVENT
BEGIN:VEVENT
DTSTART;TZID=Asia/Karachi:20230528T100000
DTEND;TZID=Asia/Karachi:20230528T200000
DTSTAMP:20260421T093540
CREATED:20230310T203526Z
LAST-MODIFIED:20230522T174958Z
UID:2484-1685268000-1685304000@westernbellefarm.com
SUMMARY:Spring Festival 2023
DESCRIPTION:• SPRING  🌻  FESTIVAL •\nat Western Belle Farm \nCome celebrate Spring at the Farm: \n🗓️ Sunday\, May 28th 10:00 – 8:00PM \nCome enjoy fields of beautiful U-pick flowers\, 20+ farm activities\, live music and our famous fresh squeezed lemonades! \nThere is something everyone will enjoy at the farm! 🤗 \n🎨 FREE Face Painting 10:00AM – 1:00PM! \n🎶 LIVE music by Jennifer Pisarcik 12:00 – 4:00PM! \n Hat Trick Hat Bar will be at the farm on Sunday selling hats from 10:00 AM-4:00 PM! \n🌻 Over 5 acres of beautiful flower fields \n🌻 Pick & purchase your own flowers to take home \n🌻 10+ beautiful photo op spots \n🌻 Beeline mini zip lines \n🌻 Barn Slides \n🌻 Cattle Drive Barrel Train rides \n🌻 Farm Animals to feed & pet \n🌻 Jumping Pillow \n🌻 Farm Market with various local items & more! \nStay tuned as we will be releasing more details in the coming weeks 🌻 🌸 🎶 \nFor the most up to date details\, follow us on Facebook or Instagram! \n  \nThere’s going to be many improvements around the farm since our first season with y’all in 2022\, and we can’t wait to share them with you 😬 \n  \n📍Address of the festival: 7929 Heritage Parkway West\, TX 76691 \n💲Admission: $14/ person \n2 & under are free | $11/ person for Seniors\, Military\, Teachers\, First Responders (per valid ID)  \nTickets can be purchased online or at the farm! \nPurchase tickets here! : https://www.simpletix.com/e/2023-spring-festival-tickets-125659
URL:https://westernbellefarm.com/event/spring-festival-2023-8/
ATTACH;FMTTYPE=image/jpeg:https://westernbellefarm.com/wp-content/uploads/2023/01/SpringFestival-e1678477813267.jpg
END:VEVENT
BEGIN:VEVENT
DTSTART;TZID=Asia/Karachi:20230529T100000
DTEND;TZID=Asia/Karachi:20230529T180000
DTSTAMP:20260421T093540
CREATED:20230322T173056Z
LAST-MODIFIED:20230522T171108Z
UID:2520-1685354400-1685383200@westernbellefarm.com
SUMMARY:Spring Festival 2023
DESCRIPTION:• SPRING  🌻  FESTIVAL •\nat Western Belle Farm \nCome celebrate Spring at the Farm: \n🗓️ Monday\, May 29th 10:00 – 6:00PM \nCome enjoy fields of beautiful U-pick flowers\, 20+ farm activities\, live music and our famous fresh squeezed lemonades! \nThere is something everyone will enjoy at the farm! 🤗 \n🌻 Over 5 acres of beautiful flower fields \n🌻 Pick & purchase your own flowers to take home \n🌻 10+ beautiful photo op spots \n🌻 Beeline mini zip lines \n🌻 Barn Slides \n🌻 Cattle Drive Barrel Train rides \n🌻 Farm Animals to feed & pet \n🌻 Jumping Pillow \n🌻 Farm Market with various local items & more! \n🐕 White Paws will be joining us all day to make connections\, offer services\, and donate a service dog to a veteran of the community that is in need! \nFor the most up to date details\, follow us on Facebook or Instagram! \nThere’s going to be many improvements around the farm since our first season with y’all in 2022\, and we can’t wait to share them with you 😬 \n📍Address of the festival: 7929 Heritage Parkway West\, TX 76691 \n💲Admission: $14/ person \n2 & under are free | $11/ person for Seniors\, Military\, Teachers\, First Responders (per valid ID) \nTickets can be purchased online or at the farm! \nPurchase tickets here! : https://www.simpletix.com/e/2023-spring-festival-tickets-125659
URL:https://westernbellefarm.com/event/spring-festival-2023-15/
ATTACH;FMTTYPE=image/jpeg:https://westernbellefarm.com/wp-content/uploads/2023/03/SpringFestival-e1679506227807.jpg
END:VEVENT
END:VCALENDAR