BEGIN:VCALENDAR
VERSION:2.0
PRODID:-//Western Belle Farm - ECPv6.15.17//NONSGML v1.0//EN
CALSCALE:GREGORIAN
METHOD:PUBLISH
X-WR-CALNAME:Western Belle Farm
X-ORIGINAL-URL:https://westernbellefarm.com
X-WR-CALDESC:Events for Western Belle Farm
REFRESH-INTERVAL;VALUE=DURATION:PT1H
X-Robots-Tag:noindex
X-PUBLISHED-TTL:PT1H
BEGIN:VTIMEZONE
TZID:Asia/Karachi
BEGIN:STANDARD
TZOFFSETFROM:+0500
TZOFFSETTO:+0500
TZNAME:PKT
DTSTART:20220101T000000
END:STANDARD
END:VTIMEZONE
BEGIN:VEVENT
DTSTART;TZID=Asia/Karachi:20230521T100000
DTEND;TZID=Asia/Karachi:20230521T180000
DTSTAMP:20260421T103149
CREATED:20230310T201416Z
LAST-MODIFIED:20230521T031922Z
UID:2478-1684663200-1684692000@westernbellefarm.com
SUMMARY:Spring Festival 2023
DESCRIPTION:• SPRING  🌻  FESTIVAL •\nat Western Belle Farm \nCome celebrate Spring at the Farm: \n🗓️ Sunday\, May 21st 10:00 – 6:00PM \n🌻❗️The Sunflowers are just starting to bloom and the zinnias are a beautiful full field of color❗️The fields are still a bit muddy from Friday evening’s rain\, please wear old shoes or boots!🌻  \nCome enjoy fields of beautiful U-pick flowers\, 20+ farm activities\, live music and our famous fresh squeezed lemonades! \nThere is something everyone will enjoy at the farm! 🤗 \n🎶 LIVE music by Joel Wood Band 12:00 – 3:00PM! \n🚓👨‍🚒🪖 Heroes Weekend! All Fire\, EMS\, Police\, and Military members will receive FREE admission (valid ID required) \n🌻 Over 5 acres of beautiful flower fields \n🌻 Pick & purchase your own flowers to take home \n🌻 10+ beautiful photo op spots \n🌻 Beeline mini zip lines \n🌻 Barn Slides \n🌻 Cattle Drive Barrel Train rides \n🌻 Farm Animals to feed & pet \n🌻 Jumping Pillow \n🌻 Farm Market with various local items & more! \nFor the most up to date details\, follow us on Facebook or Instagram! \n  \nThere’s going to be many improvements around the farm since our first season with y’all in 2022\, and we can’t wait to share them with you 😬 \n  \n📍Address of the festival: 7929 Heritage Parkway West\, TX 76691 \n💲Admission: $14/ person \n2 & under are free | $11/ person for Seniors\, Military\, Teachers\, First Responders (per valid ID)  \nTickets can be purchased online or at the farm! \nPurchase tickets here! : https://www.simpletix.com/e/2023-spring-festival-tickets-125659
URL:https://westernbellefarm.com/event/spring-festival-2023-5/
ATTACH;FMTTYPE=image/jpeg:https://westernbellefarm.com/wp-content/uploads/2023/01/SpringFestival-e1678477813267.jpg
END:VEVENT
END:VCALENDAR