BEGIN:VCALENDAR
VERSION:2.0
PRODID:-//Western Belle Farm - ECPv6.15.17//NONSGML v1.0//EN
CALSCALE:GREGORIAN
METHOD:PUBLISH
X-WR-CALNAME:Western Belle Farm
X-ORIGINAL-URL:https://westernbellefarm.com
X-WR-CALDESC:Events for Western Belle Farm
REFRESH-INTERVAL;VALUE=DURATION:PT1H
X-Robots-Tag:noindex
X-PUBLISHED-TTL:PT1H
BEGIN:VTIMEZONE
TZID:Asia/Karachi
BEGIN:STANDARD
TZOFFSETFROM:+0500
TZOFFSETTO:+0500
TZNAME:PKT
DTSTART:20220101T000000
END:STANDARD
END:VTIMEZONE
BEGIN:VEVENT
DTSTART;TZID=Asia/Karachi:20231001T100000
DTEND;TZID=Asia/Karachi:20231001T180000
DTSTAMP:20260421T022008
CREATED:20230713T193802Z
LAST-MODIFIED:20230901T154401Z
UID:2706-1696154400-1696183200@westernbellefarm.com
SUMMARY:Pumpkin Festival 2023
DESCRIPTION:🎃 Pumpkin Festival 🎃\nat Western Belle Farm \nCome celebrate the best season of the year at Western Belle! 🤠 \n📅 Sunday\, October 1st 10:00AM – 6:00PM \n🎟️ Tickets on sale NOW! \nOver 20+ activities at the farm plus all things PUMPKIN 🎃 \n🎃 Shoot pumpkins with our Pumpkin Cannon \n📸 Amazing pumpkin themed photo ops \n🚜 Wagon rides \n🐐 Farm animals to feed & pet \n🐝 Beeline mini zip lines \n🌽 Corn Bin \n🤸 Round Bale Rollers \n🐂 Cattle Drive Barrel Train rides \n🤗 Giant Pumpkin Jump Pillow \n🍎 Apple Cannons \n🍋 Our Famous Fresh Squeezed Lemonades \n🌮 New! Delicious Street Tacos \n🍺 Cantina with adult beverages \n🎶 Live music Saturday & Sundays \n🛍️ General Store full of small business items \n🥳 A great place for birthday parties! \n& so much more! \nThere’s hours of fun for everyone this fall at Western Belle! 🇺🇸 Don’t miss out on it 😉 \n  \n📍Address of the Pumpkin Festival: 7929 Heritage Parkway West\, TX 76691 \n  \n💲Admission: $16 / person \n$12 / person on Farm Fridays \n2 & under are free \n$12/ person for Seniors\, Military\, Teachers\, Nurses\, Fire & Police (per valid ID)  \n  \n🎟️ Save money & buy your tickets online NOW!
URL:https://westernbellefarm.com/event/pumpkin-festival-2023-4/
LOCATION:Texas
ATTACH;FMTTYPE=image/jpeg:https://westernbellefarm.com/wp-content/uploads/2023/06/Pumpkin-Festival-2023-Graphic-e1689274528365.jpg
END:VEVENT
BEGIN:VEVENT
DTSTART;TZID=Asia/Karachi:20231006T130000
DTEND;TZID=Asia/Karachi:20231006T180000
DTSTAMP:20260421T022008
CREATED:20230713T194330Z
LAST-MODIFIED:20230901T154600Z
UID:2708-1696597200-1696615200@westernbellefarm.com
SUMMARY:Pumpkin Festival 2023
DESCRIPTION:🎃 Pumpkin Festival 🎃\nat Western Belle Farm \nCome celebrate the best season of the year at Western Belle! 🤠 \n📅 Friday\, October 6th 1:00PM – 6:00PM \n🎟️ Tickets on sale NOW! \n(Admission is $12 on Fridays) \nOver 20+ activities at the farm plus all things PUMPKIN 🎃 \n🎃 Shoot pumpkins with our Pumpkin Cannon \n📸 Amazing pumpkin themed photo ops \n🚜 Wagon rides \n🐐 Farm animals to feed & pet \n🐝 Beeline mini zip lines \n🌽 Corn Bin \n🤸 Round Bale Rollers \n🐂 Cattle Drive Barrel Train rides \n🤗 Giant Pumpkin Jump Pillow \n🍎 Apple Cannons \n🍋 Our Famous Fresh Squeezed Lemonades \n🌮 New! Delicious Street Tacos \n🍺 Cantina with adult beverages \n🎶 Live music Saturday & Sundays \n🛍️ General Store full of small business items \n🥳 A great place for birthday parties! \n& so much more! \nThere’s hours of fun for everyone this fall at Western Belle! 🇺🇸 Don’t miss out on it 😉 \n  \n📍Address of the Pumpkin Festival: 7929 Heritage Parkway West\, TX 76691 \n  \n💲Admission: $16 / person \n$12 / person on Farm Fridays \n2 & under are free \n$12/ person for Seniors\, Military\, Teachers\, Nurses\, Fire & Police (per valid ID)  \n  \n🎟️ Save money & buy your tickets online starting NOW!
URL:https://westernbellefarm.com/event/pumpkin-festival-2023-5/
LOCATION:Texas
ATTACH;FMTTYPE=image/jpeg:https://westernbellefarm.com/wp-content/uploads/2023/06/Pumpkin-Festival-2023-Graphic-e1689274528365.jpg
END:VEVENT
BEGIN:VEVENT
DTSTART;TZID=Asia/Karachi:20231007T100000
DTEND;TZID=Asia/Karachi:20231007T120000
DTSTAMP:20260421T022008
CREATED:20231006T174259Z
LAST-MODIFIED:20231006T174259Z
UID:3009-1696672800-1696680000@westernbellefarm.com
SUMMARY:Princess at the Patch
DESCRIPTION: Come meet the Princess at the Patch \n\nShe will be doing meet & greets this Saturday\, October 7th from 10:00am to 12:00pm in our Pumpkin Tent!\n\nShe came for the apples because she heard we are having a blast shooting them from the cannons! \n\nVisit with the princess\, explore the farm\, and celebrate the best time of the year: FALL  \n\nFarm hours for Saturday\, October 7th: 10:00am to 6:00pm
URL:https://westernbellefarm.com/event/princess-at-the-patch-5/
LOCATION:Texas
ATTACH;FMTTYPE=image/jpeg:https://westernbellefarm.com/wp-content/uploads/2023/10/385078399_396071749610253_2463249901017762588_n-e1696614123277.jpeg
END:VEVENT
BEGIN:VEVENT
DTSTART;TZID=Asia/Karachi:20231007T100000
DTEND;TZID=Asia/Karachi:20231007T180000
DTSTAMP:20260421T022008
CREATED:20230713T194633Z
LAST-MODIFIED:20230901T154657Z
UID:2710-1696672800-1696701600@westernbellefarm.com
SUMMARY:Pumpkin Festival 2023
DESCRIPTION:🎃 Pumpkin Festival 🎃\nat Western Belle Farm \nCome celebrate the best season of the year at Western Belle! 🤠 \n📅 Saturday\, October 7th 10:00AM – 6:00PM \n🎟️ Tickets on sale NOW! \nOver 20+ activities at the farm plus all things PUMPKIN 🎃 \n🎃 Shoot pumpkins with our Pumpkin Cannon \n📸 Amazing pumpkin themed photo ops \n🚜 Wagon rides \n🐐 Farm animals to feed & pet \n🐝 Beeline mini zip lines \n🌽 Corn Bin \n🤸 Round Bale Rollers \n🐂 Cattle Drive Barrel Train rides \n🤗 Giant Pumpkin Jump Pillow \n🍎 Apple Cannons \n🍋 Our Famous Fresh Squeezed Lemonades \n🌮 New! Delicious Street Tacos \n🍺 Cantina with adult beverages \n🎶 Live music Saturday & Sundays \n🛍️ General Store full of small business items \n🥳 A great place for birthday parties! \n& so much more! \nThere’s hours of fun for everyone this fall at Western Belle! 🇺🇸 Don’t miss out on it 😉 \n  \n📍Address of the Pumpkin Festival: 7929 Heritage Parkway West\, TX 76691 \n  \n💲Admission: $16 / person \n$12 / person on Farm Fridays \n2 & under are free \n$12/ person for Seniors\, Military\, Teachers\, Nurses\, Fire & Police (per valid ID)  \n  \n🎟️ Save money & buy your tickets online NOW!
URL:https://westernbellefarm.com/event/pumpkin-festival-2023-6/
LOCATION:Texas
ATTACH;FMTTYPE=image/jpeg:https://westernbellefarm.com/wp-content/uploads/2023/06/Pumpkin-Festival-2023-Graphic-e1689274528365.jpg
END:VEVENT
BEGIN:VEVENT
DTSTART;TZID=Asia/Karachi:20231008T100000
DTEND;TZID=Asia/Karachi:20231008T180000
DTSTAMP:20260421T022008
CREATED:20230713T200025Z
LAST-MODIFIED:20230901T155111Z
UID:2712-1696759200-1696788000@westernbellefarm.com
SUMMARY:Pumpkin Festival 2023
DESCRIPTION:🎃 Pumpkin Festival 🎃\nat Western Belle Farm \nCome celebrate the best season of the year at Western Belle! 🤠 \n📅 Sunday\, October 8th 10:00AM – 6:00PM \n🎟️ Tickets on sale NOW! \nOver 20+ activities at the farm plus all things PUMPKIN 🎃 \n🎃 Shoot pumpkins with our Pumpkin Cannon \n📸 Amazing pumpkin themed photo ops \n🚜 Wagon rides \n🐐 Farm animals to feed & pet \n🐝 Beeline mini zip lines \n🌽 Corn Bin \n🤸 Round Bale Rollers \n🐂 Cattle Drive Barrel Train rides \n🤗 Giant Pumpkin Jump Pillow \n🍎 Apple Cannons \n🍋 Our Famous Fresh Squeezed Lemonades \n🌮 New! Delicious Street Tacos \n🍺 Cantina with adult beverages \n🎶 Live music Saturday & Sundays \n🛍️ General Store full of small business items \n🥳 A great place for birthday parties! \n& so much more! \nThere’s hours of fun for everyone this fall at Western Belle! 🇺🇸 Don’t miss out on it 😉 \n  \n📍Address of the Pumpkin Festival: 7929 Heritage Parkway West\, TX 76691 \n  \n💲Admission: $16 / person \n$12 / person on Farm Fridays \n2 & under are free \n$12/ person for Seniors\, Military\, Teachers\, Nurses\, Fire & Police (per valid ID)  \n  \n🎟️ Save money & buy your tickets online NOW!
URL:https://westernbellefarm.com/event/pumpkin-festival-2023-7/
LOCATION:Texas
ATTACH;FMTTYPE=image/jpeg:https://westernbellefarm.com/wp-content/uploads/2023/06/Pumpkin-Festival-2023-Graphic-e1689274528365.jpg
END:VEVENT
BEGIN:VEVENT
DTSTART;TZID=Asia/Karachi:20231009T100000
DTEND;TZID=Asia/Karachi:20231009T180000
DTSTAMP:20260421T022008
CREATED:20230713T200227Z
LAST-MODIFIED:20230901T155319Z
UID:2714-1696845600-1696874400@westernbellefarm.com
SUMMARY:Columbus Day
DESCRIPTION:🎃 Pumpkin Festival 🎃\nat Western Belle Farm \nCome celebrate Columbus Day at Western Belle! 🤠 \n📅 Monday\, October 9th 10:00AM – 6:00PM \n🎟️ Tickets on sale NOW! \nOver 20+ activities at the farm plus all things PUMPKIN 🎃 \n🎃 Shoot pumpkins with our Pumpkin Cannon \n📸 Amazing pumpkin themed photo ops \n🚜 Wagon rides \n🐐 Farm animals to feed & pet \n🐝 Beeline mini zip lines \n🌽 Corn Bin \n🤸 Round Bale Rollers \n🐂 Cattle Drive Barrel Train rides \n🤗 Giant Pumpkin Jump Pillow \n🍎 Apple Cannons \n🍋 Our Famous Fresh Squeezed Lemonades \n🌮 New! Delicious Street Tacos \n🍺 Cantina with adult beverages \n🎶 Live music Saturday & Sundays \n🛍️ General Store full of small business items \n🥳 A great place for birthday parties! \n& so much more! \nThere’s hours of fun for everyone this fall at Western Belle! 🇺🇸 Don’t miss out on it 😉 \n  \n📍Address of the Pumpkin Festival: 7929 Heritage Parkway West\, TX 76691 \n  \n💲Admission: $12/ person (Columbus Day special pricing!) \n2 & under are free \n$12/ person for Seniors\, Military\, Teachers\, Nurses\, Fire & Police (per valid ID)  \n  \n🎟️ Save money & buy your tickets online NOW!
URL:https://westernbellefarm.com/event/columbus-day/
LOCATION:Texas
ATTACH;FMTTYPE=image/jpeg:https://westernbellefarm.com/wp-content/uploads/2023/06/Pumpkin-Festival-2023-Graphic-e1689274528365.jpg
END:VEVENT
BEGIN:VEVENT
DTSTART;TZID=Asia/Karachi:20231013T130000
DTEND;TZID=Asia/Karachi:20231013T180000
DTSTAMP:20260421T022008
CREATED:20230713T200429Z
LAST-MODIFIED:20230901T155437Z
UID:2716-1697202000-1697220000@westernbellefarm.com
SUMMARY:Pumpkin Festival 2023
DESCRIPTION:🎃 Pumpkin Festival 🎃\nat Western Belle Farm \nCome celebrate the best season of the year at Western Belle! 🤠 \n📅 Friday\, October 13th 1:00PM – 6:00PM \n🎟️ Tickets on sale NOW! \n(Admission is $12 on Fridays) \nOver 20+ activities at the farm plus all things PUMPKIN 🎃 \n🎃 Shoot pumpkins with our Pumpkin Cannon \n📸 Amazing pumpkin themed photo ops \n🚜 Wagon rides \n🐐 Farm animals to feed & pet \n🐝 Beeline mini zip lines \n🌽 Corn Bin \n🤸 Round Bale Rollers \n🐂 Cattle Drive Barrel Train rides \n🤗 Giant Pumpkin Jump Pillow \n🍎 Apple Cannons \n🍋 Our Famous Fresh Squeezed Lemonades \n🌮 New! Delicious Street Tacos \n🍺 Cantina with adult beverages \n🎶 Live music Saturday & Sundays \n🛍️ General Store full of small business items \n🥳 A great place for birthday parties! \n& so much more! \nThere’s hours of fun for everyone this fall at Western Belle! 🇺🇸 Don’t miss out on it 😉 \n  \n📍Address of the Pumpkin Festival: 7929 Heritage Parkway West\, TX 76691 \n  \n💲Admission: $16 / person \n$12 / person on Farm Fridays \n2 & under are free \n$12/ person for Seniors\, Military\, Teachers\, Nurses\, Fire & Police (per valid ID)  \n  \n🎟️ Save money & buy your tickets online NOW!
URL:https://westernbellefarm.com/event/pumpkin-festival-2023-8/
LOCATION:Texas
ATTACH;FMTTYPE=image/jpeg:https://westernbellefarm.com/wp-content/uploads/2023/06/Pumpkin-Festival-2023-Graphic-e1689274528365.jpg
END:VEVENT
BEGIN:VEVENT
DTSTART;TZID=Asia/Karachi:20231014T100000
DTEND;TZID=Asia/Karachi:20231014T180000
DTSTAMP:20260421T022008
CREATED:20230713T200606Z
LAST-MODIFIED:20230901T155530Z
UID:2718-1697277600-1697306400@westernbellefarm.com
SUMMARY:Pumpkin Festival 2023
DESCRIPTION:🎃 Pumpkin Festival 🎃\nat Western Belle Farm \nCome celebrate the best season of the year at Western Belle! 🤠 \n📅 Saturday\, October 14th 10:00AM – 6:00PM \n🎟️ Tickets on sale NOW! \nOver 20+ activities at the farm plus all things PUMPKIN 🎃 \n🎃 Shoot pumpkins with our Pumpkin Cannon \n📸 Amazing pumpkin themed photo ops \n🚜 Wagon rides \n🐐 Farm animals to feed & pet \n🐝 Beeline mini zip lines \n🌽 Corn Bin \n🤸 Round Bale Rollers \n🐂 Cattle Drive Barrel Train rides \n🤗 Giant Pumpkin Jump Pillow \n🍎 Apple Cannons \n🍋 Our Famous Fresh Squeezed Lemonades \n🌮 New! Delicious Street Tacos \n🍺 Cantina with adult beverages \n🎶 Live music Saturday & Sundays \n🛍️ General Store full of small business items \n🥳 A great place for birthday parties! \n& so much more! \nThere’s hours of fun for everyone this fall at Western Belle! 🇺🇸 Don’t miss out on it 😉 \n  \n📍Address of the Pumpkin Festival: 7929 Heritage Parkway West\, TX 76691 \n  \n💲Admission: $16 / person \n$12 / person on Farm Fridays \n2 & under are free \n$12/ person for Seniors\, Military\, Teachers\, Nurses\, Fire & Police (per valid ID)  \n  \n🎟️ Save money & buy your tickets online NOW!
URL:https://westernbellefarm.com/event/pumpkin-festival-2023-9/
LOCATION:Texas
ATTACH;FMTTYPE=image/jpeg:https://westernbellefarm.com/wp-content/uploads/2023/06/Pumpkin-Festival-2023-Graphic-e1689274528365.jpg
END:VEVENT
BEGIN:VEVENT
DTSTART;TZID=Asia/Karachi:20231015T100000
DTEND;TZID=Asia/Karachi:20231015T180000
DTSTAMP:20260421T022008
CREATED:20230713T200735Z
LAST-MODIFIED:20230901T155711Z
UID:2720-1697364000-1697392800@westernbellefarm.com
SUMMARY:Pumpkin Festival 2023
DESCRIPTION:🎃 Pumpkin Festival 🎃\nat Western Belle Farm \nCome celebrate the best season of the year at Western Belle! 🤠 \n📅 Sunday\, October 15th 10:00AM – 6:00PM \n🎟️ Tickets on sale NOW! \nOver 20+ activities at the farm plus all things PUMPKIN 🎃 \n🎃 Shoot pumpkins with our Pumpkin Cannon \n📸 Amazing pumpkin themed photo ops \n🚜 Wagon rides \n🐐 Farm animals to feed & pet \n🐝 Beeline mini zip lines \n🌽 Corn Bin \n🤸 Round Bale Rollers \n🐂 Cattle Drive Barrel Train rides \n🤗 Giant Pumpkin Jump Pillow \n🍎 Apple Cannons \n🍋 Our Famous Fresh Squeezed Lemonades \n🌮 New! Delicious Street Tacos \n🍺 Cantina with adult beverages \n🎶 Live music Saturday & Sundays \n🛍️ General Store full of small business items \n🥳 A great place for birthday parties! \n& so much more! \nThere’s hours of fun for everyone this fall at Western Belle! 🇺🇸 Don’t miss out on it 😉 \n  \n📍Address of the Pumpkin Festival: 7929 Heritage Parkway West\, TX 76691 \n  \n💲Admission: $16 / person \n$12 / person on Farm Fridays \n2 & under are free \n$12/ person for Seniors\, Military\, Teachers\, Nurses\, Fire & Police (per valid ID)  \n  \n🎟️ Save money & buy your tickets online NOW!
URL:https://westernbellefarm.com/event/pumpkin-festival-2023-10/
LOCATION:Texas
ATTACH;FMTTYPE=image/jpeg:https://westernbellefarm.com/wp-content/uploads/2023/06/Pumpkin-Festival-2023-Graphic-e1689274528365.jpg
END:VEVENT
BEGIN:VEVENT
DTSTART;TZID=Asia/Karachi:20231020T130000
DTEND;TZID=Asia/Karachi:20231020T180000
DTSTAMP:20260421T022008
CREATED:20230713T200952Z
LAST-MODIFIED:20231014T034123Z
UID:2722-1697806800-1697824800@westernbellefarm.com
SUMMARY:Pumpkin Festival 2023
DESCRIPTION:🎃 Pumpkin Festival 🎃\nat Western Belle Farm \nCome celebrate the best season of the year at Western Belle! 🤠 \n📅 Friday\, October 20th 1:00PM – 6:00PM \n🎟️ Tickets on sale NOW! \n(Admission is $12 on Fridays) \nOver 20+ activities at the farm plus all things PUMPKIN 🎃 \n🎃 Shoot pumpkins with our Pumpkin Cannon \n📸 Amazing pumpkin themed photo ops \n🚜 Wagon rides \n🐐 Farm animals to feed & pet \n🐝 Beeline mini zip lines \n🌽 Corn Bin \n🤸 Round Bale Rollers \n🐂 Cattle Drive Barrel Train rides \n🤗 Giant Pumpkin Jump Pillow \n🍎 Apple Cannons \n🍋 Our Famous Fresh Squeezed Lemonades \n🎶 Live music Saturday & Sundays \n🛍️ General Store full of small business items \n& so much more! \nThere’s hours of fun for everyone this fall at Western Belle! 🇺🇸 Don’t miss out on it 😉 \n(Please note: full concessions are NOT available on Farm Fridays! Lemonade is open though! Outside food/drink is always welcome at the farm!) \n📍Address of the Pumpkin Festival: 7929 Heritage Parkway West\, TX 76691 \n💲Farm Friday admission is $12 per person \nGeneral Admission (Saturdays & Sundays) $16 / person \n2 & under are free \n$12/ person for Seniors\, Military\, Teachers\, Nurses\, Fire & Police (per valid ID)  \n  \n🎟️ Save money & buy your tickets online NOW!
URL:https://westernbellefarm.com/event/pumpkin-festival-2023-11/
LOCATION:Texas
ATTACH;FMTTYPE=image/jpeg:https://westernbellefarm.com/wp-content/uploads/2023/06/Pumpkin-Festival-2023-Graphic-e1689274528365.jpg
END:VEVENT
BEGIN:VEVENT
DTSTART;TZID=Asia/Karachi:20231021T100000
DTEND;TZID=Asia/Karachi:20231021T180000
DTSTAMP:20260421T022008
CREATED:20230713T201150Z
LAST-MODIFIED:20230901T155940Z
UID:2724-1697882400-1697911200@westernbellefarm.com
SUMMARY:Pumpkin Festival 2023
DESCRIPTION:🎃 Pumpkin Festival 🎃\nat Western Belle Farm \nCome celebrate the best season of the year at Western Belle! 🤠 \n📅 Saturday\, October 21st 10:00AM – 6:00PM \n🎟️ Tickets on sale NOW! \nOver 20+ activities at the farm plus all things PUMPKIN 🎃 \n🎃 Shoot pumpkins with our Pumpkin Cannon \n📸 Amazing pumpkin themed photo ops \n🚜 Wagon rides \n🐐 Farm animals to feed & pet \n🐝 Beeline mini zip lines \n🌽 Corn Bin \n🤸 Round Bale Rollers \n🐂 Cattle Drive Barrel Train rides \n🤗 Giant Pumpkin Jump Pillow \n🍎 Apple Cannons \n🍋 Our Famous Fresh Squeezed Lemonades \n🌮 New! Delicious Street Tacos \n🍺 Cantina with adult beverages \n🎶 Live music Saturday & Sundays \n🛍️ General Store full of small business items \n🥳 A great place for birthday parties! \n& so much more! \nThere’s hours of fun for everyone this fall at Western Belle! 🇺🇸 Don’t miss out on it 😉 \n  \n📍Address of the Pumpkin Festival: 7929 Heritage Parkway West\, TX 76691 \n  \n💲Admission: $16 / person \n$12 / person on Farm Fridays \n2 & under are free \n$12/ person for Seniors\, Military\, Teachers\, Nurses\, Fire & Police (per valid ID)  \n  \n🎟️ Save money & buy your tickets online NOW!
URL:https://westernbellefarm.com/event/pumpkin-festival-2023-12/
LOCATION:Texas
ATTACH;FMTTYPE=image/jpeg:https://westernbellefarm.com/wp-content/uploads/2023/06/Pumpkin-Festival-2023-Graphic-e1689274528365.jpg
END:VEVENT
BEGIN:VEVENT
DTSTART;TZID=Asia/Karachi:20231022T100000
DTEND;TZID=Asia/Karachi:20231022T180000
DTSTAMP:20260421T022008
CREATED:20230713T201525Z
LAST-MODIFIED:20230901T160030Z
UID:2726-1697968800-1697997600@westernbellefarm.com
SUMMARY:Pumpkin Festival 2023
DESCRIPTION:🎃 Pumpkin Festival 🎃\nat Western Belle Farm \nCome celebrate the best season of the year at Western Belle! 🤠 \n📅 Sunday\, October 22nd 10:00AM – 6:00PM \n🎟️ Tickets on sale NOW! \nOver 20+ activities at the farm plus all things PUMPKIN 🎃 \n🎃 Shoot pumpkins with our Pumpkin Cannon \n📸 Amazing pumpkin themed photo ops \n🚜 Wagon rides \n🐐 Farm animals to feed & pet \n🐝 Beeline mini zip lines \n🌽 Corn Bin \n🤸 Round Bale Rollers \n🐂 Cattle Drive Barrel Train rides \n🤗 Giant Pumpkin Jump Pillow \n🍎 Apple Cannons \n🍋 Our Famous Fresh Squeezed Lemonades \n🌮 New! Delicious Street Tacos \n🍺 Cantina with adult beverages \n🎶 Live music Saturday & Sundays \n🛍️ General Store full of small business items \n🥳 A great place for birthday parties! \n& so much more! \nThere’s hours of fun for everyone this fall at Western Belle! 🇺🇸 Don’t miss out on it 😉 \n  \n📍Address of the Pumpkin Festival: 7929 Heritage Parkway West\, TX 76691 \n  \n💲Admission: $16 / person \n$12 / person on Farm Fridays \n2 & under are free \n$12/ person for Seniors\, Military\, Teachers\, Nurses\, Fire & Police (per valid ID)  \n  \n🎟️ Save money & buy your tickets online NOW!
URL:https://westernbellefarm.com/event/pumpkin-festival-2023-13/
LOCATION:Texas
ATTACH;FMTTYPE=image/jpeg:https://westernbellefarm.com/wp-content/uploads/2023/06/Pumpkin-Festival-2023-Graphic-e1689274528365.jpg
END:VEVENT
BEGIN:VEVENT
DTSTART;TZID=Asia/Karachi:20231022T140000
DTEND;TZID=Asia/Karachi:20231022T160000
DTSTAMP:20260421T022008
CREATED:20231006T173052Z
LAST-MODIFIED:20231006T173052Z
UID:3003-1697983200-1697990400@westernbellefarm.com
SUMMARY:Princess at the Patch
DESCRIPTION:Come meet our Western Belle! 🥀 \nShe will be doing meet & greets Sunday\, October 22nd from 2:00pm to 4:00pm in our Pumpkin Tent! \nShe has been reading allll about the Pumpkin Festival and can’t wait to be our guest! 📚🎶 \nVisit with the princess\, explore the farm\, and celebrate the best time of the year: FALL 🍂 \nFarm hours for Sunday\, October 22nd: 10:00am to 6:00pm
URL:https://westernbellefarm.com/event/princess-at-the-patch-3/
LOCATION:Texas
ATTACH;FMTTYPE=image/jpeg:https://westernbellefarm.com/wp-content/uploads/2023/10/384996529_397546159462812_893815038443221036_n-e1696613423254.jpeg
END:VEVENT
BEGIN:VEVENT
DTSTART;TZID=Asia/Karachi:20231027T130000
DTEND;TZID=Asia/Karachi:20231027T180000
DTSTAMP:20260421T022008
CREATED:20230713T201704Z
LAST-MODIFIED:20231026T222530Z
UID:2729-1698411600-1698429600@westernbellefarm.com
SUMMARY:CLOSED DUE TO WEATHER - Pumpkin Festival 2023
DESCRIPTION:CLOSED FRIDAY OCT  27TH DUE TO THE WEATHER!\nStay tuned for updates and possibly closures on Saturday October 28th and Sunday October 29th
URL:https://westernbellefarm.com/event/pumpkin-festival-2023-14/
LOCATION:Texas
ATTACH;FMTTYPE=image/jpeg:https://westernbellefarm.com/wp-content/uploads/2023/06/Pumpkin-Festival-2023-Graphic-e1689274528365.jpg
END:VEVENT
BEGIN:VEVENT
DTSTART;TZID=Asia/Karachi:20231028T103000
DTEND;TZID=Asia/Karachi:20231029T103000
DTSTAMP:20260421T022008
CREATED:20230714T190348Z
LAST-MODIFIED:20231028T131133Z
UID:2742-1698489000-1698575400@westernbellefarm.com
SUMMARY:CANCELLED: 🍭 Candy Cannon 🍭
DESCRIPTION:CANCELLED DUE TO THE MUD!\n  \nOn top of the 20+ fun fall activities during our Pumpkin Festival… Have a BLAST on Halloween weekend and join us at the farm as we turn our Pumpkin cannon into a 🍭CANDY CANNON 🍭 for a special no-tricks & all treats event!
URL:https://westernbellefarm.com/event/%f0%9f%8d%ad-candy-cannon-%f0%9f%8d%ad/
LOCATION:Texas
ATTACH;FMTTYPE=image/jpeg:https://westernbellefarm.com/wp-content/uploads/2023/07/CandyCannon-e1692045475370.jpg
END:VEVENT
BEGIN:VEVENT
DTSTART;TZID=Asia/Karachi:20231028T110000
DTEND;TZID=Asia/Karachi:20231028T180000
DTSTAMP:20260421T022008
CREATED:20230713T201905Z
LAST-MODIFIED:20231028T131239Z
UID:2732-1698490800-1698516000@westernbellefarm.com
SUMMARY:Pumpkin Festival 2023
DESCRIPTION:🎃 Pumpkin Festival 🎃\nat Western Belle Farm \nCome celebrate the best season of the year at Western Belle! 🤠 \n📅 Saturday\, October 28th 11:00AM – 6:00PM (Delayed opening 1 hr) \n🎟️ Tickets on sale NOW! \nOver 20+ activities at the farm plus all things PUMPKIN 🎃 \n🎃 Shoot pumpkins with our Pumpkin Cannon \n📸 Amazing pumpkin themed photo ops \n🚜 Wagon rides \n🐐 Farm animals to feed & pet \n🐝 Beeline mini zip lines \n🌽 Corn Bin \n🤸 Round Bale Rollers \n🐂 Cattle Drive Barrel Train rides \n🤗 Giant Pumpkin Jump Pillow \n🍎 Apple Cannons \n🍋 Our Famous Fresh Squeezed Lemonades \n🌮 New! Delicious Street Tacos \n🍺 Cantina with adult beverages \n🎶 Live music Saturday & Sundays \n🛍️ General Store full of small business items \n🥳 A great place for birthday parties! \n& so much more! \nThere’s hours of fun for everyone this fall at Western Belle! 🇺🇸 Don’t miss out on it 😉 \n  \n📍Address of the Pumpkin Festival: 7929 Heritage Parkway West\, TX 76691 \n  \n💲Admission: $16 / person \n$12 / person on Farm Fridays \n2 & under are free \n$12/ person for Seniors\, Military\, Teachers\, Nurses\, Fire & Police (per valid ID)  \n  \n🎟️ Save money & buy your tickets online NOW!
URL:https://westernbellefarm.com/event/pumpkin-festival-2023-15/
LOCATION:Texas
ATTACH;FMTTYPE=image/jpeg:https://westernbellefarm.com/wp-content/uploads/2023/06/Pumpkin-Festival-2023-Graphic-e1689274528365.jpg
END:VEVENT
BEGIN:VEVENT
DTSTART;TZID=Asia/Karachi:20231029T100000
DTEND;TZID=Asia/Karachi:20231029T180000
DTSTAMP:20260421T022008
CREATED:20230713T202035Z
LAST-MODIFIED:20230901T160819Z
UID:2734-1698573600-1698602400@westernbellefarm.com
SUMMARY:Pumpkin Festival 2023
DESCRIPTION:🎃 Pumpkin Festival 🎃\nat Western Belle Farm \nCome celebrate the best season of the year at Western Belle! 🤠 \n📅 Sunday\, October 29th 10:00AM – 6:00PM \n🎟️ Tickets on sale NOW! \nOver 20+ activities at the farm plus all things PUMPKIN 🎃 \n🎃 Shoot pumpkins with our Pumpkin Cannon \n📸 Amazing pumpkin themed photo ops \n🚜 Wagon rides \n🐐 Farm animals to feed & pet \n🐝 Beeline mini zip lines \n🌽 Corn Bin \n🤸 Round Bale Rollers \n🐂 Cattle Drive Barrel Train rides \n🤗 Giant Pumpkin Jump Pillow \n🍎 Apple Cannons \n🍋 Our Famous Fresh Squeezed Lemonades \n🌮 New! Delicious Street Tacos \n🍺 Cantina with adult beverages \n🎶 Live music Saturday & Sundays \n🛍️ General Store full of small business items \n🥳 A great place for birthday parties! \n& so much more! \nThere’s hours of fun for everyone this fall at Western Belle! 🇺🇸 Don’t miss out on it 😉 \n  \n📍Address of the Pumpkin Festival: 7929 Heritage Parkway West\, TX 76691 \n  \n💲Admission: $16 / person \n$12 / person on Farm Fridays \n2 & under are free \n$12/ person for Seniors\, Military\, Teachers\, Nurses\, Fire & Police (per valid ID)  \n  \n🎟️ Save money & buy your tickets online NOW!
URL:https://westernbellefarm.com/event/pumpkin-festival-2023-16/
LOCATION:Texas
ATTACH;FMTTYPE=image/jpeg:https://westernbellefarm.com/wp-content/uploads/2023/06/Pumpkin-Festival-2023-Graphic-e1689274528365.jpg
END:VEVENT
BEGIN:VEVENT
DTSTART;TZID=Asia/Karachi:20231031T100000
DTEND;TZID=Asia/Karachi:20231031T140000
DTSTAMP:20260421T022009
CREATED:20230815T152942Z
LAST-MODIFIED:20231030T222429Z
UID:2786-1698746400-1698760800@westernbellefarm.com
SUMMARY:Homeschool Day
DESCRIPTION:✏️ HOMESCHOOL DAY ✏️  \nWe are having our Homeschool Field Trip Day tomorrow\, October 31st! 🤠  \n❗️We are modifying the hours due to the morning temperatures❗️ \n⏰ Farm hours: 10:00am to 2:00pm \n🎟️ By ticket only! This is a sold out event and NOT open to the general public.  \n🚜 NO wagon rides. The back part of our farm is still under water. Therefore\, we cannot do our wagon rides out back. \n🥾 We recommend that you wear old shoes/boots as there are still some areas around the farm that will be a tad muddy! \nAdmission to the farm will include free play on all activities from 10:00am to 2:00pm! The Apple & Pumpkin cannons will be available for an additional fee. 🍎 🎃  \nConcessions will NOT be open and outside food/drink is welcome! \nAll pumpkins are on sale for $1 each! \nSee y’all at the farm soon!
URL:https://westernbellefarm.com/event/homeschool-day/
LOCATION:Texas
ATTACH;FMTTYPE=image/jpeg:https://westernbellefarm.com/wp-content/uploads/2023/08/HOMESCHOOL-FARM-FIELD-TRIP-DAY-e1692149752989.jpg
END:VEVENT
END:VCALENDAR