BEGIN:VCALENDAR
VERSION:2.0
PRODID:-//Western Belle Farm - ECPv6.15.17//NONSGML v1.0//EN
CALSCALE:GREGORIAN
METHOD:PUBLISH
X-ORIGINAL-URL:https://westernbellefarm.com
X-WR-CALDESC:Events for Western Belle Farm
REFRESH-INTERVAL;VALUE=DURATION:PT1H
X-Robots-Tag:noindex
X-PUBLISHED-TTL:PT1H
BEGIN:VTIMEZONE
TZID:Asia/Karachi
BEGIN:STANDARD
TZOFFSETFROM:+0500
TZOFFSETTO:+0500
TZNAME:PKT
DTSTART:20230101T000000
END:STANDARD
END:VTIMEZONE
BEGIN:VEVENT
DTSTART;TZID=Asia/Karachi:20240515T093000
DTEND;TZID=Asia/Karachi:20240515T130000
DTSTAMP:20260420T144839
CREATED:20240209T181306Z
LAST-MODIFIED:20240509T031109Z
UID:3145-1715765400-1715778000@westernbellefarm.com
SUMMARY:Homeschool Farm Field Trip Day
DESCRIPTION:❗️🍓Update on the strawberry fields 5/8/24: Unfortunately\, due to the rainy and cloudy weather\, our plants have succumbed to disease and rot issues and therefore we will NOT have strawberry picking available during our Homeschool Day. We really hoped we would but unfortunately the weather had other plans. 🍓❗️ \n\n✏️ HOMESCHOOL FIELD TRIP DAY ✏️\n❗️RESCHEDULED❗️for May 15th!  🤠 \n🗓️  WEDNESDAY\, MAY 15TH from 9:30am to 1:00pm \n  \nA special field trip day at the farm for our homeschool community. Come explore\, learn and play at the farm at a special discounted field trip rate on our Homeschool Day! ✏️ \n🤸🏼‍♂️ Over 20 farm activities included and open for “free play” (except for our apple cannons) \nPlus special Spring Festival happenings: \n🍓 Strawberry  life cycle lessons will be held at three different times: 10:30am\, 11:30am & 12:30pm \n🐰 Play with the bunnies in Bunnytown \nCost: $7 per person \n(Ages 2 & under are free) \n🎟️ Pre-purchased tickets are required \n👉🏽 Please note: We will NOT have concessions open due to a lack of available weekday staff. You’re welcome to bring in your own food/drink. We WILL have bottled drinks for sale in our General Store. 🤠 \nOur main sunflower field had to be replanted due to the wet\, cloudy & cool spring weather. Stay tuned to our social media pages for weekly updates on the flower fields if you are planning your visit around the peak flower bloom time frame 🙂 Unfortunately\, the spring weather hasn’t been on our side this year and it is resulting in a later than planned timeframe for the flower fields to be in bloom!
URL:https://westernbellefarm.com/event/homeschool-farm-field-trip-day/
LOCATION:Texas
ATTACH;FMTTYPE=image/png:https://westernbellefarm.com/wp-content/uploads/2024/02/Spring-Homeschool-Field-Trip-Day-e1712683576597.png
END:VEVENT
BEGIN:VEVENT
DTSTART;TZID=Asia/Karachi:20240526T120000
DTEND;TZID=Asia/Karachi:20240526T150000
DTSTAMP:20260420T144839
CREATED:20240417T165858Z
LAST-MODIFIED:20240501T170305Z
UID:3323-1716724800-1716735600@westernbellefarm.com
SUMMARY:Live Music by JP Music
DESCRIPTION:🎶 Join us at the farm on Sunday\, May 26th from 12:00PM – 3:00PM for live music by JP Music! \n🤸🏼‍♀️ Also\, enjoy over 20+ activities that are fun for the whole family and beautiful fields of flowers! *subject to crop availability \n⏰ Farm Hours for May 26th will be 10:00AM – 8:00PM! \n🌻 Come celebrate spring at Western Belle! A place where memories grow! \n🎟️ Buy tickets here! \nOur main sunflower field had to be replanted due to the wet\, cloudy & cool spring weather. Stay tuned to our social media pages for weekly updates on the flower fields if you are planning your visit around the peak flower bloom time frame 🙂 Unfortunately\, the spring weather hasn’t been on our side this year and it is resulting in a later than planned timeframe for the flower fields to be in bloom!
URL:https://westernbellefarm.com/event/live-music-by-jp-music-3/
LOCATION:Western Belle Farm\, 7929 Heritage Parkway\, West\, Texas\, 76691
ATTACH;FMTTYPE=image/jpeg:https://westernbellefarm.com/wp-content/uploads/2024/04/366604488_369868188897276_3875925136596300719_n-e1713371843966.jpeg
END:VEVENT
END:VCALENDAR