BEGIN:VCALENDAR
VERSION:2.0
PRODID:-//Western Belle Farm - ECPv6.15.17//NONSGML v1.0//EN
CALSCALE:GREGORIAN
METHOD:PUBLISH
X-WR-CALNAME:Western Belle Farm
X-ORIGINAL-URL:https://westernbellefarm.com
X-WR-CALDESC:Events for Western Belle Farm
REFRESH-INTERVAL;VALUE=DURATION:PT1H
X-Robots-Tag:noindex
X-PUBLISHED-TTL:PT1H
BEGIN:VTIMEZONE
TZID:Asia/Karachi
BEGIN:STANDARD
TZOFFSETFROM:+0500
TZOFFSETTO:+0500
TZNAME:PKT
DTSTART:20220101T000000
END:STANDARD
END:VTIMEZONE
BEGIN:VEVENT
DTSTART;TZID=Asia/Karachi:20231104T100000
DTEND;TZID=Asia/Karachi:20231104T120000
DTSTAMP:20260421T022438
CREATED:20231006T173445Z
LAST-MODIFIED:20231006T173445Z
UID:3006-1699092000-1699099200@westernbellefarm.com
SUMMARY:Princess at the Patch
DESCRIPTION:Come visit the Winter Sisters at Western Belle! ❄️ \nThey will be doing meet & greets Saturday\, November 4th from 10:00am to 12:00pm in our Pumpkin Tent! \nThey wanted to wait until the final weekend in hopes of some colder weather because after all\, it never bothered them anyways! 🏰 \nVisit with the princesses\, explore the farm\, and take advantage of our final weekend celebrating the best time of the year: FALL 🍂 \nFarm hours for Saturday\, November 4th: 10:00am to 6:00pm
URL:https://westernbellefarm.com/event/princess-at-the-patch-4/
LOCATION:Texas
ATTACH;FMTTYPE=image/jpeg:https://westernbellefarm.com/wp-content/uploads/2023/10/385015307_397546669462761_6246982122626401217_n-e1696613661192.jpeg
END:VEVENT
BEGIN:VEVENT
DTSTART;TZID=Asia/Karachi:20231104T100000
DTEND;TZID=Asia/Karachi:20231104T180000
DTSTAMP:20260421T022438
CREATED:20230713T202417Z
LAST-MODIFIED:20230901T161103Z
UID:2738-1699092000-1699120800@westernbellefarm.com
SUMMARY:Pumpkin Festival 2023
DESCRIPTION:🎃 Pumpkin Festival 🎃\nat Western Belle Farm \nCome celebrate the best season of the year at Western Belle! 🤠 \n📅 Saturday\, November 4th 10:00AM – 6:00PM \n🎟️ Tickets on sale NOW! \nOver 20+ activities at the farm plus all things PUMPKIN 🎃 \n🎃 Shoot pumpkins with our Pumpkin Cannon \n📸 Amazing pumpkin themed photo ops \n🚜 Wagon rides \n🐐 Farm animals to feed & pet \n🐝 Beeline mini zip lines \n🌽 Corn Bin \n🤸 Round Bale Rollers \n🐂 Cattle Drive Barrel Train rides \n🤗 Giant Pumpkin Jump Pillow \n🍎 Apple Cannons \n🍋 Our Famous Fresh Squeezed Lemonades \n🌮 New! Delicious Street Tacos \n🍺 Cantina with adult beverages \n🎶 Live music Saturday & Sundays \n🛍️ General Store full of small business items \n🥳 A great place for birthday parties! \n& so much more! \nThere’s hours of fun for everyone this fall at Western Belle! 🇺🇸 Don’t miss out on it 😉 \n  \n📍Address of the Pumpkin Festival: 7929 Heritage Parkway West\, TX 76691 \n  \n💲Admission: $16 / person \n$12 / person on Farm Fridays \n2 & under are free \n$12/ person for Seniors\, Military\, Teachers\, Nurses\, Fire & Police (per valid ID)  \n  \n🎟️ Save money & buy your tickets online NOW!
URL:https://westernbellefarm.com/event/pumpkin-festival-2023-18/
LOCATION:Texas
ATTACH;FMTTYPE=image/jpeg:https://westernbellefarm.com/wp-content/uploads/2023/06/Pumpkin-Festival-2023-Graphic-e1689274528365.jpg
END:VEVENT
END:VCALENDAR