BEGIN:VCALENDAR
VERSION:2.0
PRODID:-//Western Belle Farm - ECPv6.15.17//NONSGML v1.0//EN
CALSCALE:GREGORIAN
METHOD:PUBLISH
X-WR-CALNAME:Western Belle Farm
X-ORIGINAL-URL:https://westernbellefarm.com
X-WR-CALDESC:Events for Western Belle Farm
REFRESH-INTERVAL;VALUE=DURATION:PT1H
X-Robots-Tag:noindex
X-PUBLISHED-TTL:PT1H
BEGIN:VTIMEZONE
TZID:Asia/Karachi
BEGIN:STANDARD
TZOFFSETFROM:+0500
TZOFFSETTO:+0500
TZNAME:PKT
DTSTART:20230101T000000
END:STANDARD
END:VTIMEZONE
BEGIN:VEVENT
DTSTART;TZID=Asia/Karachi:20240518T120000
DTEND;TZID=Asia/Karachi:20240518T150000
DTSTAMP:20260420T084058
CREATED:20240417T140439Z
LAST-MODIFIED:20240501T165133Z
UID:3309-1716033600-1716044400@westernbellefarm.com
SUMMARY:Live Music by Markus Miller
DESCRIPTION:🎶 Join us at the farm on Saturday\, May 18th from 12:00PM – 3:00PM for live music by Markus Miller! \n🤸🏼‍♀️ Also\, enjoy over 20+ activities that are fun for the whole family and beautiful fields of flowers! *subject to crop availability \n⏰ Farm Hours for May 18th will be 10:00AM – 8:00PM! \n🌻 Come celebrate spring at Western Belle! A place where memories grow! \n🎟️ Buy tickets here! \nOur main sunflower field had to be replanted due to the wet\, cloudy & cool spring weather. Stay tuned to our social media pages for weekly updates on the flower fields if you are planning your visit around the peak flower bloom time frame 🙂 Unfortunately\, the spring weather hasn’t been on our side this year and it is resulting in a later than planned timeframe for the flower fields to be in bloom!
URL:https://westernbellefarm.com/event/live-music-by-markus-miller/
LOCATION:Western Belle Farm\, 7929 Heritage Parkway\, West\, Texas\, 76691
ATTACH;FMTTYPE=image/jpeg:https://westernbellefarm.com/wp-content/uploads/2024/04/381224040_813333290798942_138198403161682412_n-e1713362367539.jpeg
END:VEVENT
BEGIN:VEVENT
DTSTART;TZID=Asia/Karachi:20240519T120000
DTEND;TZID=Asia/Karachi:20240519T150000
DTSTAMP:20260420T084058
CREATED:20240417T163852Z
LAST-MODIFIED:20240501T165402Z
UID:3313-1716120000-1716130800@westernbellefarm.com
SUMMARY:Live Music by JP Music
DESCRIPTION:🎶 Join us at the farm on Sunday\, May 19th from 12:00PM – 3:00PM for live music by JP Music! \n🤸🏼‍♀️ Also\, enjoy over 20+ activities that are fun for the whole family and beautiful fields of flowers! *subject to crop availability \n⏰ Farm Hours for May 19th will be 10:00AM – 6:00PM! \n🌻 Come celebrate spring at Western Belle! A place where memories grow! \n🎟️ Buy tickets here! \nOur main sunflower field had to be replanted due to the wet\, cloudy & cool spring weather. Stay tuned to our social media pages for weekly updates on the flower fields if you are planning your visit around the peak flower bloom time frame 🙂 Unfortunately\, the spring weather hasn’t been on our side this year and it is resulting in a later than planned timeframe for the flower fields to be in bloom!
URL:https://westernbellefarm.com/event/live-music-by-jp-music/
LOCATION:Western Belle Farm\, 7929 Heritage Parkway\, West\, Texas\, 76691
ATTACH;FMTTYPE=image/jpeg:https://westernbellefarm.com/wp-content/uploads/2024/04/366604488_369868188897276_3875925136596300719_n-e1713371843966.jpeg
END:VEVENT
BEGIN:VEVENT
DTSTART;TZID=Asia/Karachi:20240524T120000
DTEND;TZID=Asia/Karachi:20240524T150000
DTSTAMP:20260420T084058
CREATED:20240417T164407Z
LAST-MODIFIED:20240501T165637Z
UID:3317-1716552000-1716562800@westernbellefarm.com
SUMMARY:Live Music by JP Music
DESCRIPTION:🎶 Join us at the farm on Friday\, May 24th from 12:00PM – 3:00PM for live music by JP Music! \n🤸🏼‍♀️ Also\, enjoy over 20+ activities that are fun for the whole family and beautiful fields of flowers! *subject to crop availability \n⏰ Farm Hours for May 24th will be 10:00PM – 8:00PM! \n🌻 Come celebrate spring at Western Belle! A place where memories grow! \n🎟️ Buy tickets here! \nOur main sunflower field had to be replanted due to the wet\, cloudy & cool spring weather. Stay tuned to our social media pages for weekly updates on the flower fields if you are planning your visit around the peak flower bloom time frame 🙂 Unfortunately\, the spring weather hasn’t been on our side this year and it is resulting in a later than planned timeframe for the flower fields to be in bloom!
URL:https://westernbellefarm.com/event/live-music-by-jp-music-2/
LOCATION:Western Belle Farm\, 7929 Heritage Parkway\, West\, Texas\, 76691
ATTACH;FMTTYPE=image/jpeg:https://westernbellefarm.com/wp-content/uploads/2024/04/366604488_369868188897276_3875925136596300719_n-e1713371843966.jpeg
END:VEVENT
BEGIN:VEVENT
DTSTART;TZID=Asia/Karachi:20240525T120000
DTEND;TZID=Asia/Karachi:20240525T150000
DTSTAMP:20260420T084058
CREATED:20240417T165115Z
LAST-MODIFIED:20240501T165855Z
UID:3319-1716638400-1716649200@westernbellefarm.com
SUMMARY:Live Music by Holly Tucker
DESCRIPTION:🎶 Join us at the farm on Saturday\, May 25th from 12:00PM – 3:00PM for live music by Holly Tucker! \n🤸🏼‍♀️ Also\, enjoy over 20+ activities that are fun for the whole family and beautiful fields of flowers! *subject to crop availability \n⏰ Farm Hours for May 25th will be 10:00AM – 8:00PM! \n🌻 Come celebrate spring at Western Belle! A place where memories grow! \n🎟️ Buy tickets here! \nOur main sunflower field had to be replanted due to the wet\, cloudy & cool spring weather. Stay tuned to our social media pages for weekly updates on the flower fields if you are planning your visit around the peak flower bloom time frame 🙂 Unfortunately\, the spring weather hasn’t been on our side this year and it is resulting in a later than planned timeframe for the flower fields to be in bloom!
URL:https://westernbellefarm.com/event/live-music-by-holly-tucker/
LOCATION:Western Belle Farm\, 7929 Heritage Parkway\, West\, Texas\, 76691
ATTACH;FMTTYPE=image/jpeg:https://westernbellefarm.com/wp-content/uploads/2024/04/IMG_7927-scaled-e1713372624875.jpeg
END:VEVENT
BEGIN:VEVENT
DTSTART;TZID=Asia/Karachi:20240526T120000
DTEND;TZID=Asia/Karachi:20240526T150000
DTSTAMP:20260420T084058
CREATED:20240417T165858Z
LAST-MODIFIED:20240501T170305Z
UID:3323-1716724800-1716735600@westernbellefarm.com
SUMMARY:Live Music by JP Music
DESCRIPTION:🎶 Join us at the farm on Sunday\, May 26th from 12:00PM – 3:00PM for live music by JP Music! \n🤸🏼‍♀️ Also\, enjoy over 20+ activities that are fun for the whole family and beautiful fields of flowers! *subject to crop availability \n⏰ Farm Hours for May 26th will be 10:00AM – 8:00PM! \n🌻 Come celebrate spring at Western Belle! A place where memories grow! \n🎟️ Buy tickets here! \nOur main sunflower field had to be replanted due to the wet\, cloudy & cool spring weather. Stay tuned to our social media pages for weekly updates on the flower fields if you are planning your visit around the peak flower bloom time frame 🙂 Unfortunately\, the spring weather hasn’t been on our side this year and it is resulting in a later than planned timeframe for the flower fields to be in bloom!
URL:https://westernbellefarm.com/event/live-music-by-jp-music-3/
LOCATION:Western Belle Farm\, 7929 Heritage Parkway\, West\, Texas\, 76691
ATTACH;FMTTYPE=image/jpeg:https://westernbellefarm.com/wp-content/uploads/2024/04/366604488_369868188897276_3875925136596300719_n-e1713371843966.jpeg
END:VEVENT
BEGIN:VEVENT
DTSTART;TZID=Asia/Karachi:20240527T120000
DTEND;TZID=Asia/Karachi:20240527T150000
DTSTAMP:20260420T084058
CREATED:20240417T170812Z
LAST-MODIFIED:20240501T170608Z
UID:3325-1716811200-1716822000@westernbellefarm.com
SUMMARY:Live Music by JP Music
DESCRIPTION:🎶 Join us at the farm on Monday\, May 27th from 12:00PM – 3:00PM for live music by JP Music! \n🤸🏼‍♀️ Also\, enjoy over 20+ activities that are fun for the whole family and beautiful fields of flowers! *subject to crop availability \n⏰ Farm Hours for May 27th will be 10:00AM – 6:00PM! \n🌻 Come celebrate spring at Western Belle! A place where memories grow! \n🎟️ Buy tickets here! \nOur main sunflower field had to be replanted due to the wet\, cloudy & cool spring weather. Stay tuned to our social media pages for weekly updates on the flower fields if you are planning your visit around the peak flower bloom time frame 🙂 Unfortunately\, the spring weather hasn’t been on our side this year and it is resulting in a later than planned timeframe for the flower fields to be in bloom!
URL:https://westernbellefarm.com/event/live-music-by-jp-music-4/
LOCATION:Western Belle Farm\, 7929 Heritage Parkway\, West\, Texas\, 76691
ATTACH;FMTTYPE=image/jpeg:https://westernbellefarm.com/wp-content/uploads/2024/04/366604488_369868188897276_3875925136596300719_n-e1713371843966.jpeg
END:VEVENT
END:VCALENDAR