BEGIN:VCALENDAR
VERSION:2.0
PRODID:-//Western Belle Farm - ECPv6.15.17//NONSGML v1.0//EN
CALSCALE:GREGORIAN
METHOD:PUBLISH
X-WR-CALNAME:Western Belle Farm
X-ORIGINAL-URL:https://westernbellefarm.com
X-WR-CALDESC:Events for Western Belle Farm
REFRESH-INTERVAL;VALUE=DURATION:PT1H
X-Robots-Tag:noindex
X-PUBLISHED-TTL:PT1H
BEGIN:VTIMEZONE
TZID:Asia/Karachi
BEGIN:STANDARD
TZOFFSETFROM:+0500
TZOFFSETTO:+0500
TZNAME:PKT
DTSTART:20230101T000000
END:STANDARD
END:VTIMEZONE
BEGIN:VEVENT
DTSTART;TZID=Asia/Karachi:20240928T100000
DTEND;TZID=Asia/Karachi:20240929T180000
DTSTAMP:20260420T025623
CREATED:20240816T191412Z
LAST-MODIFIED:20240911T151417Z
UID:3676-1727517600-1727632800@westernbellefarm.com
SUMMARY:Teacher Appreciation Weekend
DESCRIPTION:Teacher Appreciation Weekend 🧑‍🏫  \n  \nTeachers work hard to not only educate but to be mentors to the youth of our community. Many teachers make lasting impacts in their student’s lives. In order to give back to them\, we will be having a Teacher Appreciation Weekend! 🍎 \n  \nAll public & private school teachers will receive FREE admission to the farm on Saturday\, September 28th and Sunday September 29th (Valid ID will be required) \n  \nThere is plenty to do for all ages! Don’t miss out on fall at the farm! 🎃 \n  \n🚜 Take a hayride around the farm \n🌾 Get lost in the 4-acre Maze \n🎃 Jump on the Pumpkin Jump Pillow \n🌽 Play in the Corn Bin \n📸 Take photos at the festive pumpkin displays \n🐐 Pet & feed the farm animals \n🐝 Zip down the Beeline Mini Zip lines \n🐂 Cattle Drive Barrel Train rides \n🤸🏻‍♂️ Roll in the Round Bale Rollers \n🛍️ Shop in our General Store \n🎶 Enjoy LIVE Music \n& so much more! \n  \n📍Address of the Pumpkin Festival: 7929 Heritage Parkway West\, TX 76691 \n  \n💲Admission information:  \nGeneral Admission $16 / person \nDiscounted Admission $14 / person \n2 & under are free  \n  \n🎟️ Buy tickets here! 🎟️
URL:https://westernbellefarm.com/event/teacher-appreciation-weekend-5/
LOCATION:Western Belle Farm\, 7929 Heritage Parkway\, West\, Texas\, 76691
ATTACH;FMTTYPE=image/png:https://westernbellefarm.com/wp-content/uploads/2024/08/0A535A53-B493-4FB2-9CEA-B16E852E435D-e1723835423293.png
END:VEVENT
END:VCALENDAR